Workbook
Name date: list01!$G$1:$G$31
Name grade01: [1]เกณฑ์!$C$8:$G$16
Name grade1: เกณฑ์!$C$10:$G$18
Name grade2: เกณฑ์!$J$5:$N$11
Name grade22: list01!$P$1:$P$14
Name grade3: เกณฑ์!$J$13:$N$17
Name gradeact: เกณฑ์!$J$21:$N$22
Name gradecompet: เกณฑ์!$C$22:$G$26
Name gradekpi: เกณฑ์!$J$26:$N$27
Name gradekpisum: เกณฑ์!$J$30:$N$31
Name gradelast: list01!$S$1:$S$4
Name gradetime: เกณฑ์!$C$30:$G$31
Name group_sara: list01!$D$1:$D$15
Name kroo: list01!$K$1:$K$13
Name level_class: list01!$I$1:$I$14
Name level_ed: list01!$E$1:$E$4
Name list: list01!$C$1:$C$5
Name month: list01!$A$1:$A$23
Name months: list01!$F$1:$F$12
Name pok: list01!$R$1:$R$2
Name posit: list01!$B$1:$B$8
Name scor1: list01!$M$1:$M$20
Name section: list01!$L$1:$L$5
Name status: list01!$O$1:$O$2
Name time: list01!$J$1:$J$2
Name vadpol: list01!$Q$1:$Q$3
Name vadpolkpi: list01!$Q$5:$Q$6
Name year_ed: list01!$H$1:$H$19
Name years: list01!$H$1:$H$4

Sheet Home
F1: แบบ ปพ.๕ อิเลคทรอนิกส์ หลักสูตรแกนกลางการศึกษาขั้นพื้นฐาน ๒๕๕๑
B2: ปพ.๕ | C2: แบบบันทึกผลการเรียนประจำรายวิชา | D2: ปพ.5 v61.10 | G2: =IF(F3="","สำหรับบันทึกรายวิชาพื้นฐาน รายวิชาเพิ่มเติมและกิจกรรมพัฒนาผู้เรียน","ระดับ"&F3&" : วิชาพื้นฐาน/เพิ่มเติม/กิจกรรมพัฒนาผู้เรียน") -> ระดับประถมศึกษา : วิชาพื้นฐาน/เพิ่มเติม/กิจกรรมพัฒนาผู้เรียน
B3: โรงเรียน | C3: บ้านม่วง | E3: ระดับการศึกษา | F3: ประถมศึกษา | H3: พิมพ์รายงาน
B4: สังกัด | C4: สำนักงานเขตพื้นที่การศึกษาประถมศึกษาหนองคาย เขต 1 | E4: ภาคเรียนที่ | F4: ตลอดปี | H4: บันทึกเสนอรายงานผล | I4: แผนภูมิแสดงผลสัมฤทธิ์
B5: ตำบล | C5: บ้านม่วง | E5: ปีการศึกษา | F5: 2566 | H5: แบบสรุปผลการประเมิน | I5: รายชื่อนักเรียน
B6: อำเภอ | C6: สังคม | H6: พิมพ์เอกสาร ปพ.5
B7: จังหวัด | C7: หนองคาย | E7: วันที่ (อนุมัติผล) | F7: 31 | H7: 1.ปก ปพ.5
E8: เดือน | F8: มีนาคม | H8: 2.เวลาเรียน_ประถม | I8: 2.บันทึกเวลาเรียน_มัธยม
B9: ระดับชั้น | C9: ประถมศึกษาปีที่ 5 | E9: ปี พ.ศ. | F9: 2567 | H9: 3.คะแนนตัวชี้วัด | I9: 4.บันทึกคะแนน
B10: กลุ่มสาระการเรียนรู้ | C10: สังคมศึกษา ศาสนาและวัฒนธรรม | H10: 5.คุณลักษณะฯ รายข้อ | I10: 6.อ่านคิดวิเคราะห์ รายข้อ
B11: รายวิชา | C11: ประวัติศาสตร์ | E11: เวลาเรียน | F11: 1 | H11: 7.สมรรถนะ รายด้าน | I11: 8.สรุปตัดสินผลการเรียน
B12: รหัสวิชา | C12: ส 15101 | E12: กรุณาเลือก | F12: ชั่วโมง/สัปดาห์ | H12: 9.ตัวชี้วัด (ปริ้นจากไฟล์ word) มาแทรกเล่ม
H13: 10.คำอธิบายการใช้แบบบันทึกผลการเรียน
B14: ครูที่ปรึกษา | C14: นางสาวมณฑกานต์ บุ่งเสน่ห์, นางสาวอรวรรณ อาคม | E14: ชื่อตำแหน่ง | F14: ครู | H14: ทำความเข้าใจ
B15: ครูผู้สอน | C15: นายคมลิขิต นามไว | E15: ชื่อตำแหน่ง | F15: ครูชำนาญการ | H15: อ่านก่อนทำ
B16: หัวหน้ากลุ่มสาระ | C16: นายคมลิขิต นามไว | E16: ชื่อตำแหน่ง | F16: ครูชำนาญการ | H16: คำอธิบายการใช้แบบบันทึกผลการเรียน
B17: งานวัดผล/วิชาการ | C17: นางสาวอรัญญา บรรณกิจ | E17: ชื่อตำแหน่ง | F17: หัวหน้างานวิชาการ | H17: ตัวชี้วัดการประเมินคุณลักษณะฯ
B18: วิชาการ/รอง ผอ. | E18: ชื่อตำแหน่ง | H18: ตัวชี้วัดการประเมินการอ่านคิดวิเคราะห์ฯ
B19: ผู้บริหารสถานศึกษา | C19: นางบุษราคัม อุตคะวาปี | E19: ชื่อตำแหน่ง | F19: ผู้อำนวยการ | H19: ข้อห้าม ข้อแนะนำการใช้
H21: ข้อห้าม ข้อแนะนำการใช้
B22: แบบ ปพ.5-2551v10.60.03 (20/03/2560)
B23: ออกแบบและพัฒนาโดย นายสุภีร์ สีพาย
B25: ใช้บันทึกข้อมูลเป็นรายวิชา ควรตั้งชื่อไฟล์ใหม่ให้สอดคล้องกับวิชา ระดับชั้นที่สอน และปีการศึกษา เช่น
C26: ปพ.5-2554 ม.1 ภาษาไทย | E26: ปพ.5-2554 ม.3 ภาษาไทย
C27: ปพ.5-2554 ม.1 คณิตศาสตร์ | E27: ปพ.5-2554 ม.3 คณิตศาสตร์
C28: ปพ.5-2554 ม.1 ภาษาอังกฤษ | E28: ปพ.5-2554 ม.3 วิทยาศาสตร์
B30: หากมีข้อสงสัย หรือมีคำแนะนำ กรุณาติดต่อ 086-2516021 หรือที่ | E30: suphinan_si@hotmail.com
C41: บ้านม่วง
C42: บ้านวังมน
C43: บ้านตาดเสริม

Sheet อ่านก่อนทำ
C2: คำชี้แจงเกี่ยวกับโปรแกรม แบบ ปพ.5 | Q2: ข้อห้าม
D3: โปรแกรม แบบ ปพ.5 (แบบบันทึกผลการเรียนประจำรายวิชา) จัดทำขึ้นโดยใช้โปรแกรม Office 2007 SP2 | Q3: 1.ห้ามเปลี่ยนชื่อชีท (sheet)
C4: เพื่อช่วยในการจัดทำรายงานข้อมูลสารสนเทศให้เป็นระบบ ถูกต้อง รวดเร็ว และใช้เป็นเอกสารหลักฐานการศึกษา | Q4: 2.ห้ามลากย้ายเซล (Move) หรือใช้คำสั่ง ตัด (cut) เพื่อนำข้อมูลไปวางยังเซลอื่น
C5: ประกอบด้วย ชีทงาน 16 ชีทงาน ดังนี้
C6: **ขอความกรุณาอย่าเปลี่ยนชื่อชีทงาน เพราะจะทำให้การเชื่อมโยงไม่สามารถทำงานได้ (เชื่อมไปยังชีทงานอื่นไม่ได้) | Q6: ข้อแนะนำ
D8: 1. Home-------- | F8: สำหรับกรอกข้อมูลเกี่ยวกับสถานศึกษา รายละเอียดวิชา ครู ผู้บริหาร | Q8: 1.การก๊อปปี้ (Copy) ---- วาง (Paste)
D9: 2. อ่านก่อนทำ------ | F9: เป็นคำชี้แจงเกี่ยวกับการใช้โปรแกรม แบบ ปพ.5 | Q9: 1.1 | R9: ให้เลือกข้อมูล แล้วใช้คำสั่ง ก๊อปปี้ (Copy)
D10: 3. นักเรียน-------- | F10: สำหรับกรอกข้อมูลนักเรียน ชื่อ-สกุล เลขประชาชน เลขประจำตัวนักเรียน | Q10: 1.2 | R10: ตอนวาง (Paste) ให้เลือก วางแบบพิเศษ (Paste Special) เลือก วางค่า (Paste Value)
D11: 4. รายงาน1----- | F11: สำหรับครูผู้สอนส่งผลการประเมินให้ครูที่ปรึกษา เพื่อนำไปกรอกในรายงานการพัฒนา
F12: คุณภาพระดับชั้นเรียน (แบบ รศ.1) (ส่วนนี้ไม่ต้องกรอกข้อมูลใดๆ)
F13: (หากต้องการใช้แบบรายงานการพัฒนาคุณภาพระดับชั้นเรียน (รศ.1) ดาวน์โหลดได้ที่ www.wainonpo.ob.tc)
D14: 5. ปก----------- | F14: สำหรับปริ้นทำปกแบบ ปพ.5 เพื่อเข้าเล่ม (ส่วนนี้ไม่ต้องกรอกข้อมูลใดๆ)
D15: 6. เวลาเรียน-------- | F15: สำหรับบันทึกเวลาเรียนของนักเรียนในแต่ละชั่วโมงตามตารางเรียน
F16: ควรใช้ปุ่ม Tab หรือปุ่มลูกศร บนแป้นพิมพ์ในการเลื่อนไปช่องทางซ้าย ขวา ขึ้นหรือลง
I18: ช่องเดือน---คลิ๊กเพื่อเลือกเดือน
I19: ช่องวัน---ระบุตามวันที่สอน (แก้ไขได้)
I20: ช่องวันที่---ระบุวันที่สอน
I21: ช่องชั่วโมงที่---ให้ระบุเฉพาะชั่วโมงที่สอน
J22: ของรายวิชานั้น เรียงตามลำดับ 1,2,3,4,…200 (จนถึงชั่วโมงสุดท้าย
J23: ของรายวิชาในภาคเรียนนั้น) ช่องใดไม่ได้ใช้ ให้ปล่อยว่างไว้
F24: การลงเวลาเรียนของนักเรียน---คลิ๊กเลือก สถานะการมาเรียน
I25: มา------------- | J25: ให้เลือก "/ "
I26: ป่วย----------- | J26: ให้เลือก "ป "
I27: ลา------------- | J27: ให้เลือก "ล "
I28: ขาด------ | J28: ให้เลือก "ข "
F29: สำหรับสรุปการมาเรียน----โปรแกรมประมวลผลให้ (ขอให้ตรวจสอบการกรอกข้อมูลที่ถูกต้อง)
D30: 7. คะแนน1------ | F30: สำหรับกรอกคะแนนวัดผลตามตัวชี้วัดระหว่างเรียน คะแนนสอบปลายภาคเรียน
D31: 8. คุณลักษณะ----- | F31: สำหรับกรอกคะแนนประเมินคุณลักษณะอันพึงประสงค์ จำนวน 8 ข้อ 18 ตัวบ่งชี้
F32: เอกสารอ้างอิง
F33: กระทรวงศึกษาธิการ แนวทางการพัฒนา การวัดและประเมินคุณลักษณะอันพึงประสงค์ ตามหลักสูตรแกนกลางการศึกษาขั้นพื้นฐาน พิมพ์ครั้งที่ 3 พ.ศ.2553 สำนักวิชาการและมาตรฐานการศึกษา สำนักงานคณะกรรมการการศึกษาขั้นพื้นฐาน
D34: 9. คุณลักษณะรายข้อ------ | G34: (ส่วนนี้ไม่ต้องกรอกข้อมูลใดๆ) สำหรับเป็นรายงานผลประเมินคุณลักษณะฯเป็นรายข้อ
D35: 10. คิดวิเคราะห์--------- | G35: สำหรับกรอกการประเมินการอ่าน คิดวิเคราะห์ และเขียน มี 5 ตัวชี้วัด
D36: 11. คิดวิเคราะห์รายข้อ--------- | G36: (ส่วนนี้ไม่ต้องกรอกข้อมูลใดๆ) สำหรับเป็นรายงานผลประเมินคิดวิเคราะห์ฯเป็นรายข้อ
D37: 12. ตัวชี้วัด---------- | F37: สำหรับพิมพ์รายละเอียดตัวชี้วัดของรายวิชา (อาจ copy มาวาง แล้วจัดรูปแบบให้สวยงาม)
D38: 13. คำอธิบาย------- | F38: เป็นคำอธิบายการใช้แบบบันทึกผลการเรียนประจำรายวิชา ปพ.5
D39: 14. ตัวชี้วัดคุณลักษณะ------- | G39: เป็นรายละเอียดตัวชี้วัดและพฤติกรรมบ่งชี้ของคุณลักษณะอันพึงประสงค์แต่ละข้อ
D40: 15. ตัวชี้วัดการอ่าน------- | G40: เป็นรายละเอียดตัวชี้วัดความสามารถในการอ่าน คิดวิเคราะห์และเขียน
D41: 16. aboutme------------ | F41: เป็นข้อมูลเกี่ยวกับผู้ออกแบบและพัฒนาโปรแกรม
C42: การเลือกชีทงาน
D43: สามารถคลิ๊กที่ไอคอน ไปยังชีทงานต่างๆ
...

Sheet ตัวชีวัด
B2: ="การวัดประเมินผล รายวิชา "&Home!C11&" "&Home!C12 -> การวัดประเมินผล รายวิชา ประวัติศาสตร์ ส 15101
C3: =IF(Home!C3="","","โรงเรียน"&Home!C3&" "&Home!C4) -> โรงเรียนบ้านม่วง สำนักงานเขตพื้นที่การศึกษาประถมศึกษาหนองคาย เขต 1
C4: คุณลักษณะอันพึงประสงค์ | K4: สมรรถนะสำคัญของผู้เรียน
C5: 1 | D5: รักชาติ ศาสน์ กษัตริย์ | K5: 1 | L5: ความสามารถในการสื่อสาร
C6: 2 | D6: ซื่อสัตย์สุจริต | K6: 2 | L6: ความสามารถในการคิด
C7: 3 | D7: มีวินัย | K7: 3 | L7: ความสามารถในการแก้ปัญหา
C8: 4 | D8: ใฝ่เรียนรู้ | K8: 4 | L8: ความสามารถในการใช้ทักษะชีวิต
C9: 5 | D9: อยู่อย่างพอเพียง | K9: 5 | L9: ความสามารถในการใช้เทคโนโลยี
C10: 6 | D10: มุ่งมั่นในการทำงาน
C11: 7 | D11: รักความเป็นไทย
C12: 8 | D12: มีจิตสาธารณะ
C13: 9
C14: 10
C16: ="ตัวชี้วัด รายวิชา "&Home!C11&" "&Home!C12&" ชั้น"&Home!C9 -> ตัวชี้วัด รายวิชา ประวัติศาสตร์ ส 15101 ชั้นประถมศึกษาปีที่ 5
C17: ที่ | D17: มาตรฐาน | E17: ตัวชี้วัดที่/รายการตัวชี้วัด
A18: 1 | C18: =IF(E18="","",A18) -> 1 | D18: ส 4.1.1 | E18: 1.สืบค้นความเป็นมาของท้องถิ่นโดยใช้หลักฐานที่หลากหลาย
A19: 2 | C19: =IF(E19="","",A19) -> 2 | D19: ส 4.1.2 | E19: 2. รวบรวมข้อมูลจากแหล่งต่าง ๆ เพื่อตอบคำถามทางประวัติศาสตร์ อย่างมีเหตุผล
A20: 3 | C20: =IF(E20="","",A20) -> 3 | D20: ส 4.1.3 | E20: 3.อธิบายความแตกต่างระหว่างความจริงกับข้อเท็จจริงเกี่ยวกับเรื่องราวในท้องถิ่น
A21: 4 | C21: =IF(E21="","",A21) -> 4 | D21: ส 4.2.1 | E21: 4.อธิบายอิทธิพลของอารยธรรมอินเดียและจีนที่มีต่อไทย และเอเชียตะวันออกเฉียงใต้โดยสังเขป
A22: 5 | C22: =IF(E22="","",A22) -> 5 | D22: ส 4.2.2 | E22: 5.อภิปรายอิทธิพลของวัฒนธรรมต่างชาติที่มีต่อสังคมไทยปัจจุบันโดยสังเขป
A23: 6 | C23: =IF(E23="","",A23) -> 6 | D23: ส 4.3.1 | E23: 6.อธิบายพัฒนาการของอาณาจักรอยุธยาและธนบุรีโดยสังเขป
A24: 7 | C24: =IF(E24="","",A24) -> 7 | D24: ส 4.3.2 | E24: 7.อธิบายปัจจัยที่ส่งเสริมความเจริญ รุ่งเรืองทางเศรษฐกิจและการปกครอง ของอาณาจักรอยุธยา
A25: 8 | C25: =IF(E25="","",A25) -> 8 | D25: ส 4.3.3 | E25: 8.บอกประวัติและผลงานของบุคคลสำคัญสมัยอยุธยาและธนบุรีที่น่าภาคภูมิใจ
A26: 9 | C26: =IF(E26="","",A26) -> 9 | D26: ส 4.3.4 | E26: 9.อธิบายภูมิปัญญาไทยที่สำคัญสมัยอยุธยาและธนบุรีที่น่าภาคภูมิใจและควรค่าแก่การอนุรักษ์ไว้
A27: 10 | C27: =IF(E27="","",A27)
A28: 11 | C28: =IF(E28="","",A28)
A29: 12 | C29: =IF(E29="","",A29)
A30: 13 | C30: =IF(E30="","",A30)
A31: 14 | C31: =IF(E31="","",A31)
A32: 15 | C32: =IF(E32="","",A32)
A33: 16 | C33: =IF(E33="","",A33)
A34: 17 | C34: =IF(E34="","",A34)
A35: 18 | C35: =IF(E35="","",A35)
A36: 19 | C36: =IF(E36="","",A36)
A37: 20 | C37: =IF(E37="","",A37)
A38: 21 | C38: =IF(E38="","",A38)
... A60: 43 | C60: =IF(E60="","",A60)

Sheet เกณฑ์
B2: กำหนดเกณฑ์การประเมินผล
B3: =IF(Home!F3="ประถมศึกษา","1.สัดส่วนคะแนนระหว่างเรียน : คะแนนกลางปี : คะแนนปลายปี","1.สัดส่วนคะแนนระหว่างเรียน : คะแนนกลางภาค : คะแนนปลายภาค") -> 1.สัดส่วนคะแนนระหว่างเรียน : คะแนนกลางปี : คะแนนปลายปี | I3: =Home!B11&Home!C11&" ชั้น"&Home!C9&" ปีการศึกษา "&Home!F5 -> รายวิชาประวัติศาสตร์ ชั้นประถมศึกษาปีที่ 5 ปีการศึกษา 2566
E4: สัดส่วนคะแนน ระหว่างเรียน | F4: =SUM(J4,M4,O4) -> 80 | G4: สัดส่วนคะแนนสอบหน่วยเรียนรู้ | J4: 80 | K4: คะแนนภาระงาน | N4: คะแนนตัวชี้วัด
E5: =IF(Home!F3="ประถมศึกษา","สัดส่วนคะแนน กลางปี","สัดส่วนคะแนน กลางภาค") -> สัดส่วนคะแนน กลางปี | G5: ปรับเปลี่ยนช่วงคะแนน | I5: 4.เกณฑ์การประเมินคุณลักษณะอันพึงประสงค์
E6: =IF(Home!F3="ประถมศึกษา","สัดส่วนคะแนน ปลายปี","สัดส่วนคะแนน ปลายภาค") -> สัดส่วนคะแนน ปลายปี | F6: 20 | G6: ให้เป็นตามที่สถานศึกษากำหนดได้ | K6: ช่วงคะแนนเป็นร้อยละ | M6: ความหมาย | N6: ระดับผลการประเมิน
E7: สัดส่วนคะแนนข้อสอบกลาง | J7: 0 | K7: =IF(J7="","","-") -> - | L7: 49 | M7: ไม่ผ่าน | N7: 0
E8: กรุณาเลือกระบบวัดประเมินผล | F8: วัดประเมินเป็นหน่วยการเรียนรู้ | J8: 50 | K8: =IF(J8="","","-") -> - | L8: 64 | M8: ผ่าน | N8: 1
B9: 2.เกณฑ์ระดับผลการเรียน | J9: 65 | K9: =IF(J9="","","-") -> - | L9: 79 | M9: ดี | N9: 2
D10: ช่วงคะแนนเป็นร้อยละ | F10: ความหมาย | G10: ระดับผลการเรียน | J10: 80 | K10: =IF(J10="","","-") -> - | L10: 100 | M10: ดีเยี่ยม | N10: 3
C11: 0 | D11: =IF(C11="","","-") -> - | E11: 49 | F11: ต่ำกว่าเกณฑ์ | G11: 0 | K11: =IF(J11="","","-")
C12: 50 | D12: =IF(C12="","","-") -> - | E12: 54 | F12: ผ่านเกณฑ์ขั้นต่ำ | G12: 1 | I12: 5.เกณฑ์การประเมินการอ่าน คิดวิเคราะห์ เขียน
C13: 55 | D13: =IF(C13="","","-") -> - | E13: 59 | F13: พอใช้ | G13: 1.5 | K13: ช่วงคะแนนเป็นร้อยละ | M13: ความหมาย | N13: ระดับผลการประเมิน
C14: 60 | D14: =IF(C14="","","-") -> - | E14: 64 | F14: ปานกลาง | G14: 2 | J14: 0 | K14: =IF(J14="","","-") -> - | L14: 49 | M14: ไม่ผ่าน | N14: 0
C15: 65 | D15: =IF(C15="","","-") -> - | E15: 69 | F15: ค่อนข้างดี | G15: 2.5 | J15: 50 | K15: =IF(J15="","","-") -> - | L15: 64 | M15: ผ่าน | N15: 1
C16: 70 | D16: =IF(C16="","","-") -> - | E16: 74 | F16: ดี | G16: 3 | J16: 65 | K16: =IF(J16="","","-") -> - | L16: 79 | M16: ดี | N16: 2
C17: 75 | D17: =IF(C17="","","-") -> - | E17: 79 | F17: ดีมาก | G17: 3.5 | J17: 80 | K17: =IF(J17="","","-") -> - | L17: 100 | M17: ดีเยี่ยม | N17: 3
C18: 80 | D18: =IF(C18="","","-") -> - | E18: 100 | F18: ดีเยี่ยม | G18: 4 | K18: =IF(J18="","","-")
I19: 6.เกณฑ์การประเมินกิจกรรมพัฒนาผู้เรียน | N19: =IF(OR(Home!C10="กิจกรรมพัฒนาผู้เรียน",Home!C10="กิจกรรมแนะแนว",Home!C10="กิจกรรมนักเรียน",Home!C10="กิจกรรมเพื่อสังคมและสาธารณประโยชน์"),"ACT","")
B20: 3.เกณฑ์การประเมินสมรรถนะสำคัญของผู้เรียน | K20: ช่วงคะแนนเป็นร้อยละ | M20: ความหมาย | N20: ระดับผลการประเมิน
D21: ช่วงคะแนนเป็นร้อยละ | F21: ความหมาย | G21: ระดับผลการประเมิน | J21: 0 | K21: =IF(J21="","","-") -> - | L21: 49 | M21: ไม่ผ่าน | N21: ไม่ผ่าน
C22: 0 | D22: - | E22: 39 | F22: ปรับปรุง | G22: 0 | J22: 50 | K22: =IF(J22="","","-") -> - | L22: 100 | M22: ผ่าน | N22: ผ่าน
C23: 40 | D23: - | E23: 64 | F23: พอใช้ | G23: 1
C24: 65 | D24: - | E24: 74 | F24: ดี | G24: 2 | I24: 7.เกณฑ์การประเมินตัวชี้วัดรายข้อ | M24: =IF(O4="","ไม่นำคะแนนไปรวมตัดเกรด","นำคะแนนไปรวมตัดเกรด") -> ไม่นำคะแนนไปรวมตัดเกรด
C25: 75 | D25: - | E25: 100 | F25: ดีเยี่ยม | G25: 3 | K25: ช่วงคะแนนเป็นร้อยละ | M25: ความหมาย | N25: ระดับผลการประเมิน
J26: 0 | K26: =IF(J26="","","-") -> - | L26: 49 | M26: ไม่ผ่าน | N26: ไม่ผ่าน
J27: 60 | K27: =IF(J27="","","-") -> - | L27: 100 | M27: ผ่าน | N27: ผ่าน
B28: 9.เกณฑ์เวลาเรียน | I28: 8.เกณฑ์การสรุปผลการประเมินตัวชี้วัด | N28: =IF(M24="นำคะแนนไปรวมตัดเกรด","yes","no") -> no
D29: ช่วงคะแนนเป็นร้อยละ | F29: ความหมาย | G29: ระดับผลการประเมิน | K29: ช่วงคะแนนเป็นร้อยละ | M29: ความหมาย | N29: ระดับผลการประเมิน
C30: 0 | D30: =IF(C30="","","-") -> - | E30: 49 | F30: ไม่ผ่าน | G30: ไม่ผ่าน | J30: 0 | K30: =IF(J30="","","-") -> - | L30: 49 | M30: ไม่ผ่าน | N30: ไม่ผ่าน
C31: 80 | D31: =IF(C31="","","-") -> - | E31: 100 | F31: ผ่าน | G31: ผ่าน | J31: 80 | K31: =IF(J31="","","-") -> - | L31: 100 | M31: ผ่าน | N31: ผ่าน
C32: การกำหนดเกณฑ์ระดับผลการเรียน (ทั้งรายวิชาต่างๆ และกิจกรรมผู้เรียน)
C33: ---ช่วงคะแนนเป็นร้อยละ ให้กรอกตัวเลขของช่วงคะแนนตามที่สถานศึกษากำหนด (จากค่าคะแนนน้อยไปหาค่าคะแนนมาก)
C34: ---ความหมาย ให้กรอกข้อความความหมายของระดับผลการเรียนตามสถานศึกษากำหนด
C35: ---ระดับผลการเรียน (ปพ.5 สำหรับรายวิชาต่างๆ) ให้กรอกตัวเลขของระดับผลการเรียนตามที่สถานศึกษากำหนด (กำหนดได้ไม่เกิน 8 ระดับ)
C36: (ปพ.5 สำหรับกิจกรรมพัฒนาผู้เรียน) ให้กรอกข้อความของระดับผลการประเมินในช่องระดับผลการเรียนเป็น ผ่าน และ ไม่ผ่าน เท่านั้น
C39: การกำหนดเกณฑ์ระดับผลการประเมินคุณลักษณะอันพึงประสงค์ และการอ่าน คิดวิเคราะห์ เขียน
C40: ---ช่วงคะแนนเป็นร้อยละ ให้กรอกตัวเลขของช่วงคะแนนตามที่สถานศึกษากำหนด (จากค่าคะแนนน้อยไปหาค่าคะแนนมาก)
C41: ---ความหมาย ให้กรอกข้อความความหมายของระดับผลการประเมินตามที่สถานศึกษากำหนด
C42: ---ระดับผลการประเมิน เป็นตัวเลขของระดับผลการประเมินตามเกณฑ์ 4 ระดับ คือ 0 1 2 และ 3
D43: (สถานศึกษากำหนดช่วงคะแนนเป็นร้อยละตามเกณฑ์สถานศึกษากำหนด)

Sheet นักเรียน
K1: โปรแกรม แบบ ปพ.๕ หลักสูตรแกนกลางการศึกษาขั้นพื้นฐาน ๒๕๕๑
B2: ="รายชื่อนักเรียน ชั้น"&Home!C9&" ปีการศึกษา "&Home!F5 -> รายชื่อนักเรียน ชั้นประถมศึกษาปีที่ 5 ปีการศึกษา 2566 | M2: นักเรียน ต้นปีการศึกษา | O2: =N57 -> 20 | P2: คน
B3: เลขที่ | C3: เลขประจำตัวนักเรียน | D3: เลขประจำตัวประชาชน | E3: ชื่อ - สกุลนักเรียน | M3: นักเรียน ออกระหว่างปี | O3: =N58 -> 0 | P3: คน
M4: นักเรียน สิ้นปีการศึกษา | O4: =N59 -> 20 | P4: คน
M5: เลขที่ | N5: สถานภาพนักเรียน
B6: 1 | C6: 1526 | D6: 1430800119384 | E6: เด็กชายจิรทีปต์ พวงมาลา | M6: =IF(E6="","",B6) -> 1
B7: 2 | C7: 1527 | D7: 1439600135104 | E7: เด็กชายพีระศิลป์ นรสิงห์ | M7: =IF(E7="","",B7) -> 2
B8: 3 | C8: 1528 | D8: 1439600135198 | E8: เด็กชายภูผา เศษจำปา | M8: =IF(E8="","",B8) -> 3
B9: 4 | C9: 1529 | D9: 1430800119295 | E9: เด็กชายภูมิพันธ์ สมพงษ์ | M9: =IF(E9="","",B9) -> 4
B10: 5 | C10: 1530 | D10: 1439600134035 | E10: เด็กชายอดุลยวัฒน์ สอนนาง | M10: =IF(E10="","",B10) -> 5
B11: 6 | C11: 1536 | D11: 1439600139363 | E11: เด็กชายชวัลวิทย์ อ่างมัจฉา | M11: =IF(E11="","",B11) -> 6
B12: 7 | C12: 1545 | D12: 1629900982226 | E12: เด็กชายศักดิ์ดา จันทะวงค์ | M12: =IF(E12="","",B12) -> 7
B13: 8 | C13: 1616 | D13: G624100000761 | E13: เด็กชายแจ็คกี้ ระถิกา | M13: =IF(E13="","",B13) -> 8
B14: 9 | C14: 1531 | D14: 1439600140302 | E14: เด็กหญิงธิราวัลย์ อ่อนตามา | M14: =IF(E14="","",B14) -> 9
B15: 10 | C15: 1532 | D15: 1419902904909 | E15: เด็กหญิงนงนภัส ติยะภา | M15: =IF(E15="","",B15) -> 10
B16: 11 | C16: 1533 | D16: 1439600133896 | E16: เด็กหญิงปรารถณา แสนรินทร์ | M16: =IF(E16="","",B16) -> 11
B17: 12 | C17: 1538 | D17: 1508700133896 | E17: เด็กหญิงอุษามณี อินทะพิมพ์ | M17: =IF(E17="","",B17) -> 12
... B20: 15 | C20: 1641 | D20: 1329000088491 | E20: เด็กหญิงกนกอร เกษอินทร์ | M20: =IF(E20="","",B20) -> 15
B21: 16 | C21: 1662 | D21: 1801000169694 | E21: เด็กหญิงรุ่งอรุณรัศมี จันทร์แจ่มศรี | M21: =IF(E21="","",B21) -> 16
B22: 17 | C22: 655 | D22: 1430800118761 | E22: เด็กชายจักรภัทร เสนาฤทธิ์ | M22: =IF(E22="","",B22) -> 17
B23: 18 | C23: 656 | D23: 1430800118931 | E23: เด็กชายธนวัต มีศิลป์ | M23: =IF(E23="","",B23) -> 18
B24: 19 | C24: 627 | D24: 1439600144596 | E24: เด็กชายธนบูรณ์ พุทธชัย | M24: =IF(E24="","",B24) -> 19
B25: 20 | C25: 628 | D25: 1419902915749 | E25: เด็กหญิงณัฐชา มาตรรักษ์ | M25: =IF(E25="","",B25) -> 20
B26: 21 | M26: =IF(E26="","",B26)
B27: 22 | M27: =IF(E27="","",B27)
B28: 23 | M28: =IF(E28="","",B28)
B29: 24 | M29: =IF(E29="","",B29)
B30: 25 | M30: =IF(E30="","",B30)
B31: 26 | M31: =IF(E31="","",B31)
B32: 27 | M32: =IF(E32="","",B32)
B33: 28 | M33: =IF(E33="","",B33)
B34: 29 | M34: =IF(E34="","",B34)
B35: 30 | M35: =IF(E35="","",B35)
B36: 31 | M36: =IF(E36="","",B36)
B37: 32 | M37: =IF(E37="","",B37)
... B55: 50 | M55: =IF(E55="","",B55)
K57: จำนวนนักเรียน เมื่อต้นปีการศึกษา | N57: =IF(COUNTA(นักเรียน!$E$6:$E$55),COUNTA(นักเรียน!$E$6:$E$55),"-") -> 20 | O57: คน
K58: จำนวนนักเรียน ออกระหว่างปี | N58: =IF(COUNTIF($N$6:$N$55,"ออก"),COUNTIF($N$6:$N$55,"ออก"),"0") -> 0 | O58: คน
K59: จำนวนนักเรียน เมื่อสิ้นปีการศึกษา | N59: =IF($N$57="-","-",$N$57-$N$58) -> 20 | O59: คน

Sheet ปก
H2: p | R2: =IF(Home!B2="","",Home!B2) -> ปพ.๕
B3: =IF(U5="",Home!C2&" ระดับ"&Home!F3,Home!C2) -> แบบบันทึกผลการเรียนประจำรายวิชา ระดับประถมศึกษา | U3: ไม่ต้องการแสดงข้อมูลตามรายการต่อไปนี้ที่ "หน้าปก" ปพ.
B4: =IF(Home!C3="","","โรงเรียน"&aboutme!F39) -> โรงเรียนบ้านม่วง
B5: =IF(U6="",Home!B5&Home!C5&" "&Home!B6&Home!C6&" "&Home!B7&Home!C7,Home!B6&Home!C6&" "&Home!B7&Home!C7) -> ตำบลบ้านม่วง อำเภอสังคม จังหวัดหนองคาย | V5: ระดับการศึกษา
B6: =IF(U7="",Home!C4,"") -> สำนักงานเขตพื้นที่การศึกษาประถมศึกษาหนองคาย เขต 1 | V6: ชื่อตำบล
B7: =IF(Home!F4=""," ปีการศึกษา "&Home!F5,"ภาคเรียนที่ "&Home!F4&" ปีการศึกษา "&Home!F5) -> ภาคเรียนที่ ตลอดปี ปีการศึกษา 2566 | V7: ชื่อสังกัด
B8: ="ชั้น"&Home!C9 -> ชั้นประถมศึกษาปีที่ 5 | I8: ="กลุ่มสาระการเรียนรู้ "&Home!C10 -> กลุ่มสาระการเรียนรู้ สังคมศึกษา ศาสนาและวัฒนธรรม
B9: ="รายวิชา "&Home!C11 -> รายวิชา ประวัติศาสตร์ | I9: =IF(Home!C12="","","รหัสวิชา "&Home!C12) -> รหัสวิชา ส 15101 | M9: ="เวลาเรียน "&Home!F11&" "&Home!F12 -> เวลาเรียน 1 ชั่วโมง/สัปดาห์
G11: ครูผู้สอน | J11: =Home!C15&" " -> นายคมลิขิต นามไว
G12: ครูที่ปรึกษา | J12: =Home!C14&" " -> นางสาวมณฑกานต์ บุ่งเสน่ห์, นางสาวอรวรรณ อาคม
B13: สรุปผลการประเมิน
B14: จำนวนนักเรียน | E14: ระดับผลการเรียน | M14: กิจกรรมพัฒนาผู้เรียน | Q14: ผลการประเมิน
E15: 4 | F15: 3.5 | G15: 3 | H15: 2.5 | I15: 2 | J15: 1.5 | K15: 1 | L15: 0 | M15: ผ่าน | O15: ไม่ผ่าน | Q15: ร | R15: มส
B16: =นักเรียน!N59 -> 20 | E16: =IF(COUNTIF(คะแนน1!$AR$8:$AR$57,"4"),COUNTIF(คะแนน1!$AR$8:$AR$57,"4"),"-") -> 10 | F16: =IF(COUNTIF(คะแนน1!$AR$8:$AR$57,"3.5"),COUNTIF(คะแนน1!$AR$8:$AR$57,"3.5"),"-") -> 3 | G16: =IF(COUNTIF(คะแนน1!$AR$8:$AR$57,"3"),COUNTIF(คะแนน1!$AR$8:$AR$57,"3"),"-") -> 2 | H16: =IF(COUNTIF(คะแนน1!$AR$8:$AR$57,"2.5"),COUNTIF(คะแนน1!$AR$8:$AR$57,"2.5"),"-") -> 2 | I16: =IF(COUNTIF(คะแนน1!$AR$8:$AR$57,"2"),COUNTIF(คะแนน1!$AR$8:$AR$57,"2"),"-") -> 1 | J16: =IF(COUNTIF(คะแนน1!$AR$8:$AR$57,"1.5"),COUNTIF(คะแนน1!$AR$8:$AR$57,"1.5"),"-") -> 1 | K16: =IF(COUNTIF(คะแนน1!$AR$8:$AR$57,"1"),COUNTIF(คะแนน1!$AR$8:$AR$57,"1"),"-") -> 1 | L16: =IF(COUNTIF(คะแนน1!$AR$8:$AR$57,"0"),COUNTIF(คะแนน1!$AR$8:$AR$57,"0"),"-") -> - | M16: =IF(COUNTIF(คะแนน1!$AR$8:$AR$57,"ผ่าน"),COUNTIF(คะแนน1!$AR$8:$AR$57,"ผ่าน"),"-") -> - | O16: =IF(COUNTIF(คะแนน1!$AR$8:$AR$57,"ไม่ผ่าน"),COUNTIF(คะแนน1!$AR$8:$AR$57,"ไม่ผ่าน"),"-") -> - | Q16: =IF(COUNTIF(คะแนน1!$AU$8:$AU$57,"ร"),COUNTIF(คะแนน1!$AU$8:$AU$57,"ร"),"-") -> - | R16: =IF(COUNTIF(คะแนน1!$AU$8:$AU$57,"มส"),COUNTIF(คะแนน1!$AU$8:$AU$57,"มส"),"-") -> -
B17: คิดเป็นร้อยละ | E17: =IF($E$16="-","",COUNTIF(คะแนน1!$AR$8:$AR$57,"4")*100/$B$16) -> 50 | F17: =IF($F$16="-","",COUNTIF(คะแนน1!$AR$8:$AR$57,"3.5")*100/$B$16) -> 15 | G17: =IF($G$16="-","",COUNTIF(คะแนน1!$AR$8:$AR$57,"3")*100/$B$16) -> 10 | H17: =IF($H$16="-","",COUNTIF(คะแนน1!$AR$8:$AR$57,"2.5")*100/$B$16) -> 10 | I17: =IF($I$16="-","",COUNTIF(คะแนน1!$AR$8:$AR$57,"2")*100/$B$16) -> 5 | J17: =IF($J$16="-","",COUNTIF(คะแนน1!$AR$8:$AR$57,"1.5")*100/$B$16) -> 5 | K17: =IF($K$16="-","",COUNTIF(คะแนน1!$AR$8:$AR$57,"1")*100/$B$16) -> 5 | L17: =IF($L$16="-","",COUNTIF(คะแนน1!$AR$8:$AR$57,"0")*100/$B$16) | M17: =IF($M$16="-","",COUNTIF(คะแนน1!$AR$8:$AR$57,"ผ่าน")*100/$B$16) | O17: =IF($O$16="-","",COUNTIF(คะแนน1!$AR$8:$AR$57,"ไม่ผ่าน")*100/$B$16) | Q17: =IF($Q$16="-","",COUNTIF(คะแนน1!$AU$8:$AU$57,"ร")*100/$B$16) | R17: =IF($R$16="-","",COUNTIF(คะแนน1!$AU$8:$AU$57,"มส")*100/$B$16)
B19: ผลการประเมินคุณลักษณะอันพึงประสงค์ | K19: ผลการประเมินการอ่านคิดวิเคราะห์และเขียน
B20: 3 = ดีเยี่ยม | D20: 2 = ดี | F20: 1 = ผ่าน | H20: 0= ไม่ผ่าน | K20: 3 = ดีเยี่ยม | M20: 2 = ดี | O20: 1 = ผ่าน | Q20: 0= ไม่ผ่าน
B21: =IF(COUNTIF(คุณลักษณะ!$AD$6:$AD$55,"3"),COUNTIF(คุณลักษณะ!$AD$6:$AD$55,"3"),"-") -> 20 | D21: =IF(COUNTIF(คุณลักษณะ!$AD$6:$AD$55,"2"),COUNTIF(คุณลักษณะ!$AD$6:$AD$55,"2"),"-") -> - | F21: =IF(COUNTIF(คุณลักษณะ!$AD$6:$AD$55,"1"),COUNTIF(คุณลักษณะ!$AD$6:$AD$55,"1"),"-") -> - | H21: =IF(COUNTIF(คุณลักษณะ!$AD$6:$AD$55,"0"),COUNTIF(คุณลักษณะ!$AD$6:$AD$55,"0"),"-") -> - | K21: =IF(COUNTIF(คิดวิเคราะห์!$AB$7:$AB$56,"3"),COUNTIF(คิดวิเคราะห์!$AB$7:$AB$56,"3"),"-") -> 13 | M21: =IF(COUNTIF(คิดวิเคราะห์!$AB$7:$AB$56,"2"),COUNTIF(คิดวิเคราะห์!$AB$7:$AB$56,"2"),"-") -> 6 | O21: =IF(COUNTIF(คิดวิเคราะห์!$AB$7:$AB$56,"1"),COUNTIF(คิดวิเคราะห์!$AB$7:$AB$56,"1"),"-") -> 1 | Q21: =IF(COUNTIF(คิดวิเคราะห์!$AB$7:$AB$56,"0"),COUNTIF(คิดวิเคราะห์!$AB$7:$AB$56,"0"),"-") -> -
B22: =IF($B$21="-","",COUNTIF(คุณลักษณะ!$AD$6:$AD$55,"3")*100/$B$16) -> 100 | D22: =IF($D$21="-","",COUNTIF(คุณลักษณะ!$AD$6:$AD$55,"2")*100/$B$16) | F22: =IF($F$21="-","",COUNTIF(คุณลักษณะ!$AD$6:$AD$55,"1")*100/$B$16) | H22: =IF($H$21="-","",COUNTIF(คุณลักษณะ!$AD$6:$AD$55,"0")*100/$B$16) | K22: =IF(K21="-","",COUNTIF(คิดวิเคราะห์!$AB$7:$AB$56,"3")*100/$B$16) -> 65 | M22: =IF(M21="-","",COUNTIF(คิดวิเคราะห์!$AB$7:$AB$56,"2")*100/$B$16) -> 30 | O22: =IF(O21="-","",COUNTIF(คิดวิเคราะห์!$AB$7:$AB$56,"1")*100/$B$16) -> 5 | Q22: =IF(Q21="-","",COUNTIF(คิดวิเคราะห์!$AB$7:$AB$56,"0")*100/$B$16)
B23: การอนุมัติผลการเรียน
E24: ลงชื่อ | L24: ครูผู้สอน
E25: ลงชื่อ | L25: หัวหน้ากลุ่มสาระการเรียนรู้
F26: =IF(Home!C16="","","("&Home!C16&")") -> (นายคมลิขิต นามไว)
E27: =IF(Home!C17="","","ลงชื่อ") -> ลงชื่อ | L27: =IF(Home!F17="","",Home!F17) -> หัวหน้างานวิชาการ
F28: =IF(Home!C17="","","("&Home!C17&")") -> (นางสาวอรัญญา บรรณกิจ)
B29: เรียนเสนอ เพื่อโปรดพิจารณา
E30: =IF(Home!C18="","","ลงชื่อ") | L30: =IF(Home!F18="","",Home!F18)
E31: =IF(Home!C18="","","("&Home!C18&")")
B32: o | C32: อนุมัติ | D32: o | E32: ไม่อนุมัติ | G32: ลงชื่อ
H33: =IF(Home!C19="","","("&Home!C19&")") -> (นางบุษราคัม อุตคะวาปี)
E34: =IF(Home!C19="","",Home!F19&"โรงเรียน"&Home!C3) -> ผู้อำนวยการโรงเรียนบ้านม่วง
G35: วันที่ | H35: =" "&Home!F7&" " -> 31 | I35: เดือน | J35: =Home!F8&" " -> มีนาคม | M35: พ.ศ. | N35: =Home!F9&" " -> 2567

Sheet เวลาเรียน_ป
H1: ควรใช้ปุ่ม TAB หรือ ปุ่มลูกศร 4 ทิศทางบนแป้นพิมพ์ ในการเลื่อนไปช่องทางซ้าย ขวา หรือขึ้น-ลง | LX1: =COUNT(G6:LW6) -> 40
B2: เลขที่ | C2: เลขประจำตัว | D2: เลขประจำตัวประชาชน | E2: ชื่อ - สกุล | F2: สัปดาห์ | G2: 1 | N2: 2 | U2: 3 | AB2: 4 | AI2: 5 | AP2: 6 | AW2: 7 | BD2: 8 | BK2: 9 | BR2: 10 | BY2: 11 | CF2: 12 | CM2: 13 | CT2: 14 | DA2: 15 | DH2: 16 | DO2: 17 | DV2: 18 | EC2: 19 | EJ2: 20 | EQ2: 21 | EX2: 22 | FE2: 23 | FL2: 24 | FS2: 25 | FZ2: 26 | GG2: 27 | GN2: 28 | GU2: 29 | HB2: 30 | HI2: 31 | HP2: 32 | HW2: 33 | ID2: 34 | IK2: 35 | IR2: 36 | IY2: 37 | JF2: 38 | JM2: 39 | JT2: 40 | KA2: 41 | KH2: 42 | KO2: 43 | KV2: 44 | LC2: 45 | LJ2: 46 | LQ2: 47 | LX2: เวลาเรียนเต็ม | LY2: สรุปเวลาเรียน | MC2: หมายเหตุ
F3: เดือน | G3: พ.ค. | N3: พ.ค. | U3: มิ.ย. | AB3: มิ.ย. | AI3: มิ.ย. | AP3: มิ.ย. | AW3: มิ.ย. | BD3: มิ.ย. | BK3: ก.ค. | BR3: ก.ค. | BY3: ก.ค. | CF3: ก.ค. | CM3: ส.ค. | CT3: ส.ค. | DA3: ส.ค. | DH3: ส.ค. | DO3: ส.ค. | DV3: ก.ย. | EC3: ก.ย. | EJ3: ก.ย. | EQ3: ก.ย. | EX3: ต.ค. | FE3: พ.ย. | FL3: พ.ย. | FS3: พ.ย. | FZ3: พ.ย. | GG3: ธ.ค. | GN3: ธ.ค. | GU3: ธ.ค. | HB3: ธ.ค. | HI3: ม.ค. | HP3: ม.ค. | HW3: ม.ค. | ID3: ม.ค. | IK3: ก.พ. | IR3: ก.พ. | IY3: ก.พ. | JF3: ก.พ. | JM3: มี.ค. | JT3: มี.ค. | KA3: มี.ค. | KH3: มี.ค. | LX3: =COUNT(G6:LW6)&" "&"ชม." -> 40 ชม.
F4: วัน | G4: อา | H4: จ | I4: อ | J4: พ | K4: พฤ | L4: ศ | M4: ส | N4: อา | O4: จ | P4: อ | Q4: พ | R4: พฤ | S4: ศ | T4: ส | U4: อา | V4: จ | W4: อ | X4: พ | Y4: พฤ | Z4: ศ | AA4: ส | AB4: อา | AC4: จ | AD4: อ | AE4: พ | AF4: พฤ | AG4: ศ | AH4: ส | AI4: อา | AJ4: จ | AK4: อ | AL4: พ | AM4: พฤ | AN4: ศ | AO4: ส | AP4: อา | AQ4: จ | AR4: อ | AS4: พ | AT4: พฤ | AU4: ศ | AV4: ส | AW4: อา | AX4: จ | AY4: อ | AZ4: พ | BA4: พฤ | BB4: ศ | BC4: ส | BD4: อา | BE4: จ | BF4: อ | BG4: พ | BH4: พฤ | BI4: ศ | BJ4: ส | BK4: อา | BL4: จ | BM4: อ | BN4: พ | BO4: พฤ | BP4: ศ | BQ4: ส | BR4: อา | BS4: จ | BT4: อ | BU4: พ | BV4: พฤ | BW4: ศ | BX4: ส | BY4: อา | BZ4: จ | CA4: อ | CB4: พ | CC4: พฤ | CD4: ศ | CE4: ส | CF4: อา | CG4: จ | CH4: อ | CI4: พ | CJ4: พฤ | CK4: ศ | CL4: ส | CM4: อา | CN4: จ | CO4: อ | CP4: พ | CQ4: พฤ | CR4: ศ | CS4: ส | CT4: อา | CU4: จ | CV4: อ | CW4: พ | CX4: พฤ | CY4: ศ | CZ4: ส | DA4: อา | DB4: จ | DC4: อ | DD4: พ | DE4: พฤ | DF4: ศ | DG4: ส | DH4: อา | DI4: จ | DJ4: อ | DK4: พ | DL4: พฤ | DM4: ศ | DN4: ส | DO4: อา | DP4: จ | DQ4: อ | DR4: พ | DS4: พฤ | DT4: ศ | DU4: ส | DV4: อา | DW4: จ | DX4: อ | DY4: พ | DZ4: พฤ | EA4: ศ | EB4: ส | EC4: อา | ED4: จ | EE4: อ | EF4: พ | EG4: พฤ | EH4: ศ | EI4: ส | EJ4: อา | EK4: จ | EL4: อ | EM4: พ | EN4: พฤ | EO4: ศ | EP4: ส | EQ4: อา | ER4: จ | ES4: อ | ET4: พ | EU4: พฤ | EV4: ศ | EW4: ส | EX4: อา | EY4: จ | EZ4: อ | FA4: พ | FB4: พฤ | FC4: ศ | FD4: ส | FE4: อา | FF4: จ | FG4: อ | FH4: พ | FI4: พฤ | FJ4: ศ | FK4: ส | FL4: อา | FM4: จ | FN4: อ | FO4: พ | FP4: พฤ | FQ4: ศ | FR4: ส | FS4: อา | FT4: จ | FU4: อ | FV4: พ | FW4: พฤ | FX4: ศ | FY4: ส | FZ4: อา | GA4: จ | GB4: อ | GC4: พ | GD4: พฤ | GE4: ศ | GF4: ส | GG4: อา | GH4: จ | GI4: อ | GJ4: พ | GK4: พฤ | GL4: ศ | GM4: ส | GN4: อา | GO4: จ | GP4: อ | GQ4: พ | GR4: พฤ | GS4: ศ | GT4: ส | GU4: อา | GV4: จ | GW4: อ | GX4: พ | GY4: พฤ | GZ4: ศ | HA4: ส | HB4: อา | HC4: จ | HD4: อ | HE4: พ | HF4: พฤ | HG4: ศ | HH4: ส | HI4: อา | HJ4: จ | HK4: อ | HL4: พ | HM4: พฤ | HN4: ศ | HO4: ส | HP4: อา | HQ4: จ | HR4: อ | HS4: พ | HT4: พฤ | HU4: ศ | HV4: ส | HW4: อา | HX4: จ | HY4: อ | HZ4: พ | IA4: พฤ | IB4: ศ | IC4: ส | ID4: อา | IE4: จ | IF4: อ | IG4: พ | IH4: พฤ | II4: ศ | IJ4: ส | IK4: อา | IL4: จ | IM4: อ | IN4: พ | IO4: พฤ | IP4: ศ | IQ4: ส | IR4: อา | IS4: จ | IT4: อ | IU4: พ | IV4: พฤ | IW4: ศ | IX4: ส | IY4: อา | IZ4: จ | JA4: อ | JB4: พ | JC4: พฤ | JD4: ศ | JE4: ส | JF4: อา | JG4: จ | JH4: อ | JI4: พ | JJ4: พฤ | JK4: ศ | JL4: ส | JM4: อา | JN4: จ | JO4: อ | JP4: พ | JQ4: พฤ | JR4: ศ | JS4: ส | JT4: อา | JU4: จ | JV4: อ | JW4: พ | JX4: พฤ | JY4: ศ | JZ4: ส | KA4: อา | KB4: จ | KC4: อ | KD4: พ | KE4: พฤ | KF4: ศ | KG4: ส | KH4: อา | KI4: จ | KJ4: อ | KK4: พ | KL4: พฤ | KM4: ศ | KN4: ส | KO4: อา | KP4: จ | KQ4: อ | KR4: พ | KS4: พฤ | KT4: ศ | KU4: ส | LX4: มาเรียน | LY4: ป่วย | LZ4: ลา | MA4: ขาด | MB4: ร้อยละ ที่มาเรียน
F5: วันที่ | K5: 18 | R5: 25 | Y5: 1 | AF5: 1 | AM5: 8 | AT5: 15 | BA5: 22 | BH5: 29 | BO5: 6 | BV5: 13 | CC5: 20 | CJ5: 27 | CQ5: 3 | CX5: 10 | DE5: 17 | DL5: 24 | DS5: 31 | DZ5: 7 | EG5: 14 | EN5: 21 | EU5: 28 | FB5: 5 | FI5: 2 | FP5: 9 | FW5: 23 | GD5: 30 | GK5: 7 | GR5: 14 | GY5: 21 | HF5: 28 | HM5: 4 | HT5: 11 | IA5: 18 | IH5: 25 | IO5: 1 | IV5: 8 | JC5: 15 | JJ5: 22 | JQ5: 7 | JX5: 14
F6: ชั่วโมงที่ | K6: 1 | R6: 2 | Y6: 3 | AF6: 4 | AM6: 5 | AT6: 6 | BA6: 7 | BH6: 8 | BO6: 9 | BV6: 10 | CC6: 11 | CJ6: 12 | CQ6: 13 | CX6: 14 | DE6: 15 | DL6: 16 | DS6: 17 | DZ6: 18 | EG6: 19 | EN6: 20 | EU6: 21 | FB6: 22 | FI6: 23 | FP6: 24 | FW6: 25 | GD6: 26 | GK6: 27 | GR6: 18 | GY6: 29 | HF6: 30 | HM6: 31 | HT6: 32 | IA6: 33 | IH6: 34 | IO6: 35 | IV6: 36 | JC6: 37 | JJ6: 38 | JQ6: 39 | JX6: 40
B7: 1 | C7: =IF(นักเรียน!C6="","",นักเรียน!C6) -> 1526 | D7: =IF(นักเรียน!D6="","",นักเรียน!D6) -> 1430800119384 | E7: =IF(นักเรียน!E6="","",นักเรียน!E6) -> เด็กชายจิรทีปต์ พวงมาลา | F7: =IF(นักเรียน!E6="","",นักเรียน!B6) -> 1 | K7: / | R7: / | Y7: / | AF7: / | AM7: / | AT7: / | BA7: / | BH7: / | BO7: / | BV7: / | CC7: / | CJ7: ข | CQ7: / | CX7: / | DE7: / | DL7: / | DS7: / | DZ7: / | EG7: / | EN7: / | EU7: / | FB7: / | FI7: / | FP7: / | FW7: / | GD7: / | GK7: / | GR7: / | GY7: / | HF7: / | HM7: / | HT7: / | IA7: / | IH7: / | IO7: / | IV7: / | JC7: / | JJ7: / | JQ7: / | JX7: / | LX7: =IF(COUNTIF($G7:$LW7," /"),COUNTIF($G7:$LW7," /"),"") -> 39 | LY7: =IF(COUNTIF($G7:$LW7,"ป"),COUNTIF($G7:$LW7,"ป"),"") | LZ7: =IF(COUNTIF($G7:$LW7,"ล"),COUNTIF($G7:$LW7,"ล"),"") | MA7: =IF(COUNTIF($G7:$LW7,"ข"),COUNTIF($G7:$LW7,"ข"),"") -> 1 | MB7: =IF(LX7="","",LX7*100/COUNT($G$6:$LW$6)) -> 97.5
B8: 2 | C8: =IF(นักเรียน!C7="","",นักเรียน!C7) -> 1527 | D8: =IF(นักเรียน!D7="","",นักเรียน!D7) -> 1439600135104 | E8: =IF(นักเรียน!E7="","",นักเรียน!E7) -> เด็กชายพีระศิลป์ นรสิงห์ | F8: =IF(นักเรียน!E7="","",นักเรียน!B7) -> 2 | K8: / | R8: / | Y8: / | AF8: / | AM8: / | AT8: / | BA8: / | BH8: / | BO8: / | BV8: / | CC8: / | CJ8: / | CQ8: / | CX8: / | DE8: / | DL8: / | DS8: / | DZ8: / | EG8: / | EN8: / | EU8: / | FB8: / | FI8: / | FP8: / | FW8: / | GD8: / | GK8: / | GR8: / | GY8: / | HF8: / | HM8: / | HT8: / | IA8: / | IH8: / | IO8: / | IV8: / | JC8: / | JJ8: / | JQ8: / | JX8: / | LX8: =IF(COUNTIF($G8:$LW8," /"),COUNTIF($G8:$LW8," /"),"") -> 40 | LY8: =IF(COUNTIF($G8:$LW8,"ป"),COUNTIF($G8:$LW8,"ป"),"") | LZ8: =IF(COUNTIF($G8:$LW8,"ล"),COUNTIF($G8:$LW8,"ล"),"") | MA8: =IF(COUNTIF($G8:$LW8,"ข"),COUNTIF($G8:$LW8,"ข"),"") | MB8: =IF(LX8="","",LX8*100/COUNT($G$6:$LW$6)) -> 100
B9: 3 | C9: =IF(นักเรียน!C8="","",นักเรียน!C8) -> 1528 | D9: =IF(นักเรียน!D8="","",นักเรียน!D8) -> 1439600135198 | E9: =IF(นักเรียน!E8="","",นักเรียน!E8) -> เด็กชายภูผา เศษจำปา | F9: =IF(นักเรียน!E8="","",นักเรียน!B8) -> 3 | K9: / | R9: / | Y9: / | AF9: / | AM9: ข | AT9: / | BA9: / | BH9: / | BO9: / | BV9: / | CC9: / | CJ9: / | CQ9: / | CX9: / | DE9: / | DL9: / | DS9: / | DZ9: / | EG9: / | EN9: / | EU9: / | FB9: / | FI9: / | FP9: / | FW9: / | GD9: / | GK9: / | GR9: / | GY9: / | HF9: / | HM9: / | HT9: / | IA9: / | IH9: / | IO9: / | IV9: / | JC9: / | JJ9: / | JQ9: / | JX9: / | LX9: =IF(COUNTIF($G9:$LW9," /"),COUNTIF($G9:$LW9," /"),"") -> 39 | LY9: =IF(COUNTIF($G9:$LW9,"ป"),COUNTIF($G9:$LW9,"ป"),"") | LZ9: =IF(COUNTIF($G9:$LW9,"ล"),COUNTIF($G9:$LW9,"ล"),"") | MA9: =IF(COUNTIF($G9:$LW9,"ข"),COUNTIF($G9:$LW9,"ข"),"") -> 1 | MB9: =IF(LX9="","",LX9*100/COUNT($G$6:$LW$6)) -> 97.5
B10: 4 | C10: =IF(นักเรียน!C9="","",นักเรียน!C9) -> 1529 | D10: =IF(นักเรียน!D9="","",นักเรียน!D9) -> 1430800119295 | E10: =IF(นักเรียน!E9="","",นักเรียน!E9) -> เด็กชายภูมิพันธ์ สมพงษ์ | F10: =IF(นักเรียน!E9="","",นักเรียน!B9) -> 4 | K10: / | R10: / | Y10: / | AF10: / | AM10: / | AT10: / | BA10: / | BH10: / | BO10: / | BV10: / | CC10: / | CJ10: / | CQ10: / | CX10: / | DE10: / | DL10: / | DS10: / | DZ10: / | EG10: / | EN10: / | EU10: / | FB10: / | FI10: / | FP10: / | FW10: / | GD10: / | GK10: / | GR10: / | GY10: / | HF10: / | HM10: / | HT10: / | IA10: / | IH10: / | IO10: / | IV10: / | JC10: / | JJ10: / | JQ10: / | JX10: / | LX10: =IF(COUNTIF($G10:$LW10," /"),COUNTIF($G10:$LW10," /"),"") -> 40 | LY10: =IF(COUNTIF($G10:$LW10,"ป"),COUNTIF($G10:$LW10,"ป"),"") | LZ10: =IF(COUNTIF($G10:$LW10,"ล"),COUNTIF($G10:$LW10,"ล"),"") | MA10: =IF(COUNTIF($G10:$LW10,"ข"),COUNTIF($G10:$LW10,"ข"),"") | MB10: =IF(LX10="","",LX10*100/COUNT($G$6:$LW$6)) -> 100
B11: 5 | C11: =IF(นักเรียน!C10="","",นักเรียน!C10) -> 1530 | D11: =IF(นักเรียน!D10="","",นักเรียน!D10) -> 1439600134035 | E11: =IF(นักเรียน!E10="","",นักเรียน!E10) -> เด็กชายอดุลยวัฒน์ สอนนาง | F11: =IF(นักเรียน!E10="","",นักเรียน!B10) -> 5 | K11: / | R11: / | Y11: / | AF11: / | AM11: / | AT11: / | BA11: / | BH11: / | BO11: / | BV11: / | CC11: / | CJ11: / | CQ11: / | CX11: / | DE11: / | DL11: / | DS11: / | DZ11: / | EG11: / | EN11: / | EU11: / | FB11: / | FI11: / | FP11: / | FW11: / | GD11: / | GK11: / | GR11: / | GY11: / | HF11: / | HM11: / | HT11: / | IA11: / | IH11: / | IO11: / | IV11: / | JC11: / | JJ11: / | JQ11: / | JX11: / | LX11: =IF(COUNTIF($G11:$LW11," /"),COUNTIF($G11:$LW11," /"),"") -> 40 | LY11: =IF(COUNTIF($G11:$LW11,"ป"),COUNTIF($G11:$LW11,"ป"),"") | LZ11: =IF(COUNTIF($G11:$LW11,"ล"),COUNTIF($G11:$LW11,"ล"),"") | MA11: =IF(COUNTIF($G11:$LW11,"ข"),COUNTIF($G11:$LW11,"ข"),"") | MB11: =IF(LX11="","",LX11*100/COUNT($G$6:$LW$6)) -> 100
B12: 6 | C12: =IF(นักเรียน!C11="","",นักเรียน!C11) -> 1536 | D12: =IF(นักเรียน!D11="","",นักเรียน!D11) -> 1439600139363 | E12: =IF(นักเรียน!E11="","",นักเรียน!E11) -> เด็กชายชวัลวิทย์ อ่างมัจฉา | F12: =IF(นักเรียน!E11="","",นักเรียน!B11) -> 6 | K12: / | R12: / | Y12: / | AF12: / | AM12: / | AT12: / | BA12: / | BH12: / | BO12: / | BV12: / | CC12: / | CJ12: / | CQ12: / | CX12: / | DE12: / | DL12: / | DS12: / | DZ12: / | EG12: / | EN12: / | EU12: / | FB12: / | FI12: / | FP12: / | FW12: / | GD12: / | GK12: / | GR12: / | GY12: / | HF12: / | HM12: / | HT12: / | IA12: / | IH12: / | IO12: / | IV12: / | JC12: / | JJ12: / | JQ12: / | JX12: / | LX12: =IF(COUNTIF($G12:$LW12," /"),COUNTIF($G12:$LW12," /"),"") -> 40 | LY12: =IF(COUNTIF($G12:$LW12,"ป"),COUNTIF($G12:$LW12,"ป"),"") | LZ12: =IF(COUNTIF($G12:$LW12,"ล"),COUNTIF($G12:$LW12,"ล"),"") | MA12: =IF(COUNTIF($G12:$LW12,"ข"),COUNTIF($G12:$LW12,"ข"),"") | MB12: =IF(LX12="","",LX12*100/COUNT($G$6:$LW$6)) -> 100
B13: 7 | C13: =IF(นักเรียน!C12="","",นักเรียน!C12) -> 1545 | D13: =IF(นักเรียน!D12="","",นักเรียน!D12) -> 1629900982226 | E13: =IF(นักเรียน!E12="","",นักเรียน!E12) -> เด็กชายศักดิ์ดา จันทะวงค์ | F13: =IF(นักเรียน!E12="","",นักเรียน!B12) -> 7 | K13: / | R13: / | Y13: / | AF13: / | AM13: / | AT13: / | BA13: / | BH13: / | BO13: / | BV13: ข | CC13: / | CJ13: / | CQ13: / | CX13: / | DE13: / | DL13: / | DS13: / | DZ13: / | EG13: / | EN13: / | EU13: / | FB13: / | FI13: / | FP13: / | FW13: / | GD13: / | GK13: / | GR13: / | GY13: / | HF13: / | HM13: / | HT13: / | IA13: / | IH13: / | IO13: / | IV13: / | JC13: / | JJ13: / | JQ13: / | JX13: / | LX13: =IF(COUNTIF($G13:$LW13," /"),COUNTIF($G13:$LW13," /"),"") -> 39 | LY13: =IF(COUNTIF($G13:$LW13,"ป"),COUNTIF($G13:$LW13,"ป"),"") | LZ13: =IF(COUNTIF($G13:$LW13,"ล"),COUNTIF($G13:$LW13,"ล"),"") | MA13: =IF(COUNTIF($G13:$LW13,"ข"),COUNTIF($G13:$LW13,"ข"),"") -> 1 | MB13: =IF(LX13="","",LX13*100/COUNT($G$6:$LW$6)) -> 97.5
B14: 8 | C14: =IF(นักเรียน!C13="","",นักเรียน!C13) -> 1616 | D14: =IF(นักเรียน!D13="","",นักเรียน!D13) -> G624100000761 | E14: =IF(นักเรียน!E13="","",นักเรียน!E13) -> เด็กชายแจ็คกี้ ระถิกา | F14: =IF(นักเรียน!E13="","",นักเรียน!B13) -> 8 | K14: / | R14: / | Y14: / | AF14: / | AM14: / | AT14: / | BA14: / | BH14: / | BO14: / | BV14: / | CC14: / | CJ14: / | CQ14: / | CX14: / | DE14: / | DL14: / | DS14: / | DZ14: / | EG14: / | EN14: / | EU14: / | FB14: / | FI14: / | FP14: / | FW14: / | GD14: / | GK14: / | GR14: / | GY14: / | HF14: / | HM14: / | HT14: / | IA14: / | IH14: / | IO14: / | IV14: / | JC14: / | JJ14: / | JQ14: / | JX14: / | LX14: =IF(COUNTIF($G14:$LW14," /"),COUNTIF($G14:$LW14," /"),"") -> 40 | LY14: =IF(COUNTIF($G14:$LW14,"ป"),COUNTIF($G14:$LW14,"ป"),"") | LZ14: =IF(COUNTIF($G14:$LW14,"ล"),COUNTIF($G14:$LW14,"ล"),"") | MA14: =IF(COUNTIF($G14:$LW14,"ข"),COUNTIF($G14:$LW14,"ข"),"") | MB14: =IF(LX14="","",LX14*100/COUNT($G$6:$LW$6)) -> 100
B15: 9 | C15: =IF(นักเรียน!C14="","",นักเรียน!C14) -> 1531 | D15: =IF(นักเรียน!D14="","",นักเรียน!D14) -> 1439600140302 | E15: =IF(นักเรียน!E14="","",นักเรียน!E14) -> เด็กหญิงธิราวัลย์ อ่อนตามา | F15: =IF(นักเรียน!E14="","",นักเรียน!B14) -> 9 | K15: / | R15: / | Y15: / | AF15: / | AM15: / | AT15: / | BA15: / | BH15: / | BO15: / | BV15: / | CC15: / | CJ15: ข | CQ15: / | CX15: / | DE15: / | DL15: / | DS15: / | DZ15: / | EG15: / | EN15: / | EU15: / | FB15: / | FI15: / | FP15: / | FW15: / | GD15: / | GK15: / | GR15: / | GY15: / | HF15: / | HM15: / | HT15: / | IA15: / | IH15: / | IO15: / | IV15: / | JC15: / | JJ15: / | JQ15: / | JX15: / | LX15: =IF(COUNTIF($G15:$LW15," /"),COUNTIF($G15:$LW15," /"),"") -> 39 | LY15: =IF(COUNTIF($G15:$LW15,"ป"),COUNTIF($G15:$LW15,"ป"),"") | LZ15: =IF(COUNTIF($G15:$LW15,"ล"),COUNTIF($G15:$LW15,"ล"),"") | MA15: =IF(COUNTIF($G15:$LW15,"ข"),COUNTIF($G15:$LW15,"ข"),"") -> 1 | MB15: =IF(LX15="","",LX15*100/COUNT($G$6:$LW$6)) -> 97.5
B16: 10 | C16: =IF(นักเรียน!C15="","",นักเรียน!C15) -> 1532 | D16: =IF(นักเรียน!D15="","",นักเรียน!D15) -> 1419902904909 | E16: =IF(นักเรียน!E15="","",นักเรียน!E15) -> เด็กหญิงนงนภัส ติยะภา | F16: =IF(นักเรียน!E15="","",นักเรียน!B15) -> 10 | K16: / | R16: / | Y16: / | AF16: / | AM16: / | AT16: / | BA16: / | BH16: / | BO16: / | BV16: / | CC16: / | CJ16: / | CQ16: / | CX16: / | DE16: / | DL16: / | DS16: / | DZ16: / | EG16: / | EN16: / | EU16: / | FB16: / | FI16: / | FP16: / | FW16: / | GD16: / | GK16: / | GR16: / | GY16: / | HF16: / | HM16: / | HT16: / | IA16: / | IH16: / | IO16: / | IV16: / | JC16: / | JJ16: / | JQ16: / | JX16: / | LX16: =IF(COUNTIF($G16:$LW16," /"),COUNTIF($G16:$LW16," /"),"") -> 40 | LY16: =IF(COUNTIF($G16:$LW16,"ป"),COUNTIF($G16:$LW16,"ป"),"") | LZ16: =IF(COUNTIF($G16:$LW16,"ล"),COUNTIF($G16:$LW16,"ล"),"") | MA16: =IF(COUNTIF($G16:$LW16,"ข"),COUNTIF($G16:$LW16,"ข"),"") | MB16: =IF(LX16="","",LX16*100/COUNT($G$6:$LW$6)) -> 100
B17: 11 | C17: =IF(นักเรียน!C16="","",นักเรียน!C16) -> 1533 | D17: =IF(นักเรียน!D16="","",นักเรียน!D16) -> 1439600133896 | E17: =IF(นักเรียน!E16="","",นักเรียน!E16) -> เด็กหญิงปรารถณา แสนรินทร์ | F17: =IF(นักเรียน!E16="","",นักเรียน!B16) -> 11 | K17: / | R17: / | Y17: / | AF17: ข | AM17: / | AT17: ข | BA17: / | BH17: / | BO17: / | BV17: / | CC17: / | CJ17: / | CQ17: / | CX17: / | DE17: / | DL17: / | DS17: / | DZ17: / | EG17: / | EN17: / | EU17: / | FB17: / | FI17: / | FP17: / | FW17: / | GD17: / | GK17: / | GR17: / | GY17: / | HF17: / | HM17: / | HT17: / | IA17: / | IH17: / | IO17: / | IV17: / | JC17: / | JJ17: / | JQ17: / | JX17: / | LX17: =IF(COUNTIF($G17:$LW17," /"),COUNTIF($G17:$LW17," /"),"") -> 38 | LY17: =IF(COUNTIF($G17:$LW17,"ป"),COUNTIF($G17:$LW17,"ป"),"") | LZ17: =IF(COUNTIF($G17:$LW17,"ล"),COUNTIF($G17:$LW17,"ล"),"") | MA17: =IF(COUNTIF($G17:$LW17,"ข"),COUNTIF($G17:$LW17,"ข"),"") -> 2 | MB17: =IF(LX17="","",LX17*100/COUNT($G$6:$LW$6)) -> 95
B18: 12 | C18: =IF(นักเรียน!C17="","",นักเรียน!C17) -> 1538 | D18: =IF(นักเรียน!D17="","",นักเรียน!D17) -> 1508700133896 | E18: =IF(นักเรียน!E17="","",นักเรียน!E17) -> เด็กหญิงอุษามณี อินทะพิมพ์ | F18: =IF(นักเรียน!E17="","",นักเรียน!B17) -> 12 | K18: / | R18: / | Y18: / | AF18: / | AM18: / | AT18: / | BA18: / | BH18: / | BO18: / | BV18: / | CC18: / | CJ18: / | CQ18: / | CX18: / | DE18: / | DL18: / | DS18: / | DZ18: / | EG18: / | EN18: / | EU18: / | FB18: / | FI18: / | FP18: / | FW18: / | GD18: / | GK18: / | GR18: / | GY18: / | HF18: / | HM18: / | HT18: / | IA18: / | IH18: / | IO18: / | IV18: / | JC18: / | JJ18: / | JQ18: / | JX18: / | LX18: =IF(COUNTIF($G18:$LW18," /"),COUNTIF($G18:$LW18," /"),"") -> 40 | LY18: =IF(COUNTIF($G18:$LW18,"ป"),COUNTIF($G18:$LW18,"ป"),"") | LZ18: =IF(COUNTIF($G18:$LW18,"ล"),COUNTIF($G18:$LW18,"ล"),"") | MA18: =IF(COUNTIF($G18:$LW18,"ข"),COUNTIF($G18:$LW18,"ข"),"") | MB18: =IF(LX18="","",LX18*100/COUNT($G$6:$LW$6)) -> 100
... B26: 20 | C26: =IF(นักเรียน!C25="","",นักเรียน!C25) -> 628 | D26: =IF(นักเรียน!D25="","",นักเรียน!D25) -> 1419902915749 | E26: =IF(นักเรียน!E25="","",นักเรียน!E25) -> เด็กหญิงณัฐชา มาตรรักษ์ | F26: =IF(นักเรียน!E25="","",นักเรียน!B25) -> 20 | K26: / | R26: / | Y26: / | AF26: / | AM26: / | AT26: / | BA26: / | BH26: / | BO26: / | BV26: ข | CC26: / | CJ26: / | CQ26: / | CX26: / | DE26: / | DL26: / | DS26: / | DZ26: / | EG26: / | EN26: / | EU26: / | FB26: / | FI26: / | FP26: / | FW26: / | GD26: / | GK26: / | GR26: / | GY26: / | HF26: / | HM26: / | HT26: / | IA26: / | IH26: / | IO26: / | IV26: / | JC26: / | JJ26: / | JQ26: / | JX26: / | LX26: =IF(COUNTIF($G26:$LW26," /"),COUNTIF($G26:$LW26," /"),"") -> 39 | LY26: =IF(COUNTIF($G26:$LW26,"ป"),COUNTIF($G26:$LW26,"ป"),"") | LZ26: =IF(COUNTIF($G26:$LW26,"ล"),COUNTIF($G26:$LW26,"ล"),"") | MA26: =IF(COUNTIF($G26:$LW26,"ข"),COUNTIF($G26:$LW26,"ข"),"") -> 1 | MB26: =IF(LX26="","",LX26*100/COUNT($G$6:$LW$6)) -> 97.5
B27: 21 | C27: =IF(นักเรียน!C26="","",นักเรียน!C26) | D27: =IF(นักเรียน!D26="","",นักเรียน!D26) | E27: =IF(นักเรียน!E26="","",นักเรียน!E26) | F27: =IF(นักเรียน!E26="","",นักเรียน!B26) | LX27: =IF(COUNTIF($G27:$LW27," /"),COUNTIF($G27:$LW27," /"),"") | LY27: =IF(COUNTIF($G27:$LW27,"ป"),COUNTIF($G27:$LW27,"ป"),"") | LZ27: =IF(COUNTIF($G27:$LW27,"ล"),COUNTIF($G27:$LW27,"ล"),"") | MA27: =IF(COUNTIF($G27:$LW27,"ข"),COUNTIF($G27:$LW27,"ข"),"") | MB27: =IF(LX27="","",LX27*100/COUNT($G$6:$LW$6))
B28: 22 | C28: =IF(นักเรียน!C27="","",นักเรียน!C27) | D28: =IF(นักเรียน!D27="","",นักเรียน!D27) | E28: =IF(นักเรียน!E27="","",นักเรียน!E27) | F28: =IF(นักเรียน!E27="","",นักเรียน!B27) | LX28: =IF(COUNTIF($G28:$LW28," /"),COUNTIF($G28:$LW28," /"),"") | LY28: =IF(COUNTIF($G28:$LW28,"ป"),COUNTIF($G28:$LW28,"ป"),"") | LZ28: =IF(COUNTIF($G28:$LW28,"ล"),COUNTIF($G28:$LW28,"ล"),"") | MA28: =IF(COUNTIF($G28:$LW28,"ข"),COUNTIF($G28:$LW28,"ข"),"") | MB28: =IF(LX28="","",LX28*100/COUNT($G$6:$LW$6))
B29: 23 | C29: =IF(นักเรียน!C28="","",นักเรียน!C28) | D29: =IF(นักเรียน!D28="","",นักเรียน!D28) | E29: =IF(นักเรียน!E28="","",นักเรียน!E28) | F29: =IF(นักเรียน!E28="","",นักเรียน!B28) | LX29: =IF(COUNTIF($G29:$LW29," /"),COUNTIF($G29:$LW29," /"),"") | LY29: =IF(COUNTIF($G29:$LW29,"ป"),COUNTIF($G29:$LW29,"ป"),"") | LZ29: =IF(COUNTIF($G29:$LW29,"ล"),COUNTIF($G29:$LW29,"ล"),"") | MA29: =IF(COUNTIF($G29:$LW29,"ข"),COUNTIF($G29:$LW29,"ข"),"") | MB29: =IF(LX29="","",LX29*100/COUNT($G$6:$LW$6))
B30: 24 | C30: =IF(นักเรียน!C29="","",นักเรียน!C29) | D30: =IF(นักเรียน!D29="","",นักเรียน!D29) | E30: =IF(นักเรียน!E29="","",นักเรียน!E29) | F30: =IF(นักเรียน!E29="","",นักเรียน!B29) | LX30: =IF(COUNTIF($G30:$LW30," /"),COUNTIF($G30:$LW30," /"),"") | LY30: =IF(COUNTIF($G30:$LW30,"ป"),COUNTIF($G30:$LW30,"ป"),"") | LZ30: =IF(COUNTIF($G30:$LW30,"ล"),COUNTIF($G30:$LW30,"ล"),"") | MA30: =IF(COUNTIF($G30:$LW30,"ข"),COUNTIF($G30:$LW30,"ข"),"") | MB30: =IF(LX30="","",LX30*100/COUNT($G$6:$LW$6))
B31: 25 | C31: =IF(นักเรียน!C30="","",นักเรียน!C30) | D31: =IF(นักเรียน!D30="","",นักเรียน!D30) | E31: =IF(นักเรียน!E30="","",นักเรียน!E30) | F31: =IF(นักเรียน!E30="","",นักเรียน!B30) | LX31: =IF(COUNTIF($G31:$LW31," /"),COUNTIF($G31:$LW31," /"),"") | LY31: =IF(COUNTIF($G31:$LW31,"ป"),COUNTIF($G31:$LW31,"ป"),"") | LZ31: =IF(COUNTIF($G31:$LW31,"ล"),COUNTIF($G31:$LW31,"ล"),"") | MA31: =IF(COUNTIF($G31:$LW31,"ข"),COUNTIF($G31:$LW31,"ข"),"") | MB31: =IF(LX31="","",LX31*100/COUNT($G$6:$LW$6))
B32: 26 | C32: =IF(นักเรียน!C31="","",นักเรียน!C31) | D32: =IF(นักเรียน!D31="","",นักเรียน!D31) | E32: =IF(นักเรียน!E31="","",นักเรียน!E31) | F32: =IF(นักเรียน!E31="","",นักเรียน!B31) | LX32: =IF(COUNTIF($G32:$LW32," /"),COUNTIF($G32:$LW32," /"),"") | LY32: =IF(COUNTIF($G32:$LW32,"ป"),COUNTIF($G32:$LW32,"ป"),"") | LZ32: =IF(COUNTIF($G32:$LW32,"ล"),COUNTIF($G32:$LW32,"ล"),"") | MA32: =IF(COUNTIF($G32:$LW32,"ข"),COUNTIF($G32:$LW32,"ข"),"") | MB32: =IF(LX32="","",LX32*100/COUNT($G$6:$LW$6))
B33: 27 | C33: =IF(นักเรียน!C32="","",นักเรียน!C32) | D33: =IF(นักเรียน!D32="","",นักเรียน!D32) | E33: =IF(นักเรียน!E32="","",นักเรียน!E32) | F33: =IF(นักเรียน!E32="","",นักเรียน!B32) | LX33: =IF(COUNTIF($G33:$LW33," /"),COUNTIF($G33:$LW33," /"),"") | LY33: =IF(COUNTIF($G33:$LW33,"ป"),COUNTIF($G33:$LW33,"ป"),"") | LZ33: =IF(COUNTIF($G33:$LW33,"ล"),COUNTIF($G33:$LW33,"ล"),"") | MA33: =IF(COUNTIF($G33:$LW33,"ข"),COUNTIF($G33:$LW33,"ข"),"") | MB33: =IF(LX33="","",LX33*100/COUNT($G$6:$LW$6))
B34: 28 | C34: =IF(นักเรียน!C33="","",นักเรียน!C33) | D34: =IF(นักเรียน!D33="","",นักเรียน!D33) | E34: =IF(นักเรียน!E33="","",นักเรียน!E33) | F34: =IF(นักเรียน!E33="","",นักเรียน!B33) | LX34: =IF(COUNTIF($G34:$LW34," /"),COUNTIF($G34:$LW34," /"),"") | LY34: =IF(COUNTIF($G34:$LW34,"ป"),COUNTIF($G34:$LW34,"ป"),"") | LZ34: =IF(COUNTIF($G34:$LW34,"ล"),COUNTIF($G34:$LW34,"ล"),"") | MA34: =IF(COUNTIF($G34:$LW34,"ข"),COUNTIF($G34:$LW34,"ข"),"") | MB34: =IF(LX34="","",LX34*100/COUNT($G$6:$LW$6))
B35: 29 | C35: =IF(นักเรียน!C34="","",นักเรียน!C34) | D35: =IF(นักเรียน!D34="","",นักเรียน!D34) | E35: =IF(นักเรียน!E34="","",นักเรียน!E34) | F35: =IF(นักเรียน!E34="","",นักเรียน!B34) | LX35: =IF(COUNTIF($G35:$LW35," /"),COUNTIF($G35:$LW35," /"),"") | LY35: =IF(COUNTIF($G35:$LW35,"ป"),COUNTIF($G35:$LW35,"ป"),"") | LZ35: =IF(COUNTIF($G35:$LW35,"ล"),COUNTIF($G35:$LW35,"ล"),"") | MA35: =IF(COUNTIF($G35:$LW35,"ข"),COUNTIF($G35:$LW35,"ข"),"") | MB35: =IF(LX35="","",LX35*100/COUNT($G$6:$LW$6))
B36: 30 | C36: =IF(นักเรียน!C35="","",นักเรียน!C35) | D36: =IF(นักเรียน!D35="","",นักเรียน!D35) | E36: =IF(นักเรียน!E35="","",นักเรียน!E35) | F36: =IF(นักเรียน!E35="","",นักเรียน!B35) | LX36: =IF(COUNTIF($G36:$LW36," /"),COUNTIF($G36:$LW36," /"),"") | LY36: =IF(COUNTIF($G36:$LW36,"ป"),COUNTIF($G36:$LW36,"ป"),"") | LZ36: =IF(COUNTIF($G36:$LW36,"ล"),COUNTIF($G36:$LW36,"ล"),"") | MA36: =IF(COUNTIF($G36:$LW36,"ข"),COUNTIF($G36:$LW36,"ข"),"") | MB36: =IF(LX36="","",LX36*100/COUNT($G$6:$LW$6))
B37: 31 | C37: =IF(นักเรียน!C36="","",นักเรียน!C36) | D37: =IF(นักเรียน!D36="","",นักเรียน!D36) | E37: =IF(นักเรียน!E36="","",นักเรียน!E36) | F37: =IF(นักเรียน!E36="","",นักเรียน!B36) | LX37: =IF(COUNTIF($G37:$LW37," /"),COUNTIF($G37:$LW37," /"),"") | LY37: =IF(COUNTIF($G37:$LW37,"ป"),COUNTIF($G37:$LW37,"ป"),"") | LZ37: =IF(COUNTIF($G37:$LW37,"ล"),COUNTIF($G37:$LW37,"ล"),"") | MA37: =IF(COUNTIF($G37:$LW37,"ข"),COUNTIF($G37:$LW37,"ข"),"") | MB37: =IF(LX37="","",LX37*100/COUNT($G$6:$LW$6))
B38: 32 | C38: =IF(นักเรียน!C37="","",นักเรียน!C37) | D38: =IF(นักเรียน!D37="","",นักเรียน!D37) | E38: =IF(นักเรียน!E37="","",นักเรียน!E37) | F38: =IF(นักเรียน!E37="","",นักเรียน!B37) | LX38: =IF(COUNTIF($G38:$LW38," /"),COUNTIF($G38:$LW38," /"),"") | LY38: =IF(COUNTIF($G38:$LW38,"ป"),COUNTIF($G38:$LW38,"ป"),"") | LZ38: =IF(COUNTIF($G38:$LW38,"ล"),COUNTIF($G38:$LW38,"ล"),"") | MA38: =IF(COUNTIF($G38:$LW38,"ข"),COUNTIF($G38:$LW38,"ข"),"") | MB38: =IF(LX38="","",LX38*100/COUNT($G$6:$LW$6))
... B56: 50 | C56: =IF(นักเรียน!C55="","",นักเรียน!C55) | D56: =IF(นักเรียน!D55="","",นักเรียน!D55) | E56: =IF(นักเรียน!E55="","",นักเรียน!E55) | F56: =IF(นักเรียน!E55="","",นักเรียน!B55) | LX56: =IF(COUNTIF($G56:$LW56," /"),COUNTIF($G56:$LW56," /"),"") | LY56: =IF(COUNTIF($G56:$LW56,"ป"),COUNTIF($G56:$LW56,"ป"),"") | LZ56: =IF(COUNTIF($G56:$LW56,"ล"),COUNTIF($G56:$LW56,"ล"),"") | MA56: =IF(COUNTIF($G56:$LW56,"ข"),COUNTIF($G56:$LW56,"ข"),"") | MB56: =IF(LX56="","",LX56*100/COUNT($G$6:$LW$6))

Sheet เวลาเรียน_ม
H1: ควรใช้ปุ่ม TAB หรือ ปุ่มลูกศร 4 ทิศทางบนแป้นพิมพ์ ในการเลื่อนไปช่องทางซ้าย ขวา หรือขึ้น-ลง | FL1: =COUNT(G6:FK6) -> 0
B2: เลขที่ | C2: เลขประจำตัว | D2: เลขประจำตัวประชาชน | E2: ชื่อ - สกุล | F2: สัปดาห์ | G2: 1 | N2: 2 | U2: 3 | AB2: 4 | AI2: 5 | AP2: 6 | AW2: 7 | BD2: 8 | BK2: 9 | BR2: 10 | BY2: 11 | CF2: 12 | CM2: 13 | CT2: 14 | DA2: 15 | DH2: 16 | DO2: 17 | DV2: 18 | EC2: 19 | EJ2: 20 | EQ2: 21 | EX2: 22 | FE2: 23 | FL2: เวลาเรียนเต็ม | FM2: สรุปเวลาเรียน | FQ2: หมายเหตุ
F3: เดือน | G3: พ.ค. | N3: พ.ค./มิ.ย. | FL3: =COUNT(G6:FK6)&" "&"ชม." -> 0 ชม.
F4: วัน | G4: จ | H4: อ | I4: พ | J4: พฤ | K4: ศ | N4: จ | O4: อ | P4: พ | Q4: พฤ | R4: ศ | U4: จ | V4: อ | W4: พ | X4: พฤ | Y4: ศ | AB4: จ | AC4: อ | AD4: พ | AE4: พฤ | AF4: ศ | AI4: จ | AJ4: อ | AK4: พ | AL4: พฤ | AM4: ศ | AP4: จ | AQ4: อ | AR4: พ | AS4: พฤ | AT4: ศ | AW4: จ | AX4: อ | AY4: พ | AZ4: พฤ | BA4: ศ | BD4: จ | BE4: อ | BF4: พ | BG4: พฤ | BH4: ศ | BK4: จ | BL4: อ | BM4: พ | BN4: พฤ | BO4: ศ | BR4: จ | BS4: อ | BT4: พ | BU4: พฤ | BV4: ศ | BY4: จ | BZ4: อ | CA4: พ | CB4: พฤ | CC4: ศ | CF4: จ | CG4: อ | CH4: พ | CI4: พฤ | CJ4: ศ | CM4: จ | CN4: อ | CO4: พ | CP4: พฤ | CQ4: ศ | CT4: จ | CU4: อ | CV4: พ | CW4: พฤ | CX4: ศ | DA4: จ | DB4: อ | DC4: พ | DD4: พฤ | DE4: ศ | DH4: จ | DI4: อ | DJ4: พ | DK4: พฤ | DL4: ศ | DO4: จ | DP4: อ | DQ4: พ | DR4: พฤ | DS4: ศ | DV4: จ | DW4: อ | DX4: พ | DY4: พฤ | DZ4: ศ | EC4: จ | ED4: อ | EE4: พ | EF4: พฤ | EG4: ศ | EJ4: จ | EK4: อ | EL4: พ | EM4: พฤ | EN4: ศ | EQ4: จ | ER4: อ | ES4: พ | ET4: พฤ | EU4: ศ | EX4: จ | EY4: อ | EZ4: พ | FA4: พฤ | FB4: ศ | FE4: จ | FF4: อ | FG4: พ | FH4: พฤ | FI4: ศ | FL4: มาเรียน | FM4: ป่วย | FN4: ลา | FO4: ขาด | FP4: ร้อยละ ที่มาเรียน
F5: วันที่
F6: ชั่วโมงที่
B7: 1 | C7: =IF(นักเรียน!C6="","",นักเรียน!C6) -> 1526 | D7: =IF(นักเรียน!D6="","",นักเรียน!D6) -> 1430800119384 | E7: =IF(นักเรียน!E6="","",นักเรียน!E6) -> เด็กชายจิรทีปต์ พวงมาลา | F7: =IF(นักเรียน!E6="","",นักเรียน!B6) -> 1 | FL7: =IF(COUNTIF($G7:$FK7," /"),COUNTIF($G7:$FK7," /"),"") | FM7: =IF(COUNTIF($G7:$FK7,"ป"),COUNTIF($G7:$FK7,"ป"),"") | FN7: =IF(COUNTIF($G7:$FK7,"ล"),COUNTIF($G7:$FK7,"ล"),"") | FO7: =IF(COUNTIF($G7:$FK7,"ข"),COUNTIF($G7:$FK7,"ข"),"") | FP7: =IF(FL7="","",FL7*100/COUNT($G$6:$FK$6))
B8: 2 | C8: =IF(นักเรียน!C7="","",นักเรียน!C7) -> 1527 | D8: =IF(นักเรียน!D7="","",นักเรียน!D7) -> 1439600135104 | E8: =IF(นักเรียน!E7="","",นักเรียน!E7) -> เด็กชายพีระศิลป์ นรสิงห์ | F8: =IF(นักเรียน!E7="","",นักเรียน!B7) -> 2 | FL8: =IF(COUNTIF($G8:$FK8," /"),COUNTIF($G8:$FK8," /"),"") | FM8: =IF(COUNTIF($G8:$FK8,"ป"),COUNTIF($G8:$FK8,"ป"),"") | FN8: =IF(COUNTIF($G8:$FK8,"ล"),COUNTIF($G8:$FK8,"ล"),"") | FO8: =IF(COUNTIF($G8:$FK8,"ข"),COUNTIF($G8:$FK8,"ข"),"") | FP8: =IF(FL8="","",FL8*100/COUNT($G$6:$FK$6))
B9: 3 | C9: =IF(นักเรียน!C8="","",นักเรียน!C8) -> 1528 | D9: =IF(นักเรียน!D8="","",นักเรียน!D8) -> 1439600135198 | E9: =IF(นักเรียน!E8="","",นักเรียน!E8) -> เด็กชายภูผา เศษจำปา | F9: =IF(นักเรียน!E8="","",นักเรียน!B8) -> 3 | FL9: =IF(COUNTIF($G9:$FK9," /"),COUNTIF($G9:$FK9," /"),"") | FM9: =IF(COUNTIF($G9:$FK9,"ป"),COUNTIF($G9:$FK9,"ป"),"") | FN9: =IF(COUNTIF($G9:$FK9,"ล"),COUNTIF($G9:$FK9,"ล"),"") | FO9: =IF(COUNTIF($G9:$FK9,"ข"),COUNTIF($G9:$FK9,"ข"),"") | FP9: =IF(FL9="","",FL9*100/COUNT($G$6:$FK$6))
B10: 4 | C10: =IF(นักเรียน!C9="","",นักเรียน!C9) -> 1529 | D10: =IF(นักเรียน!D9="","",นักเรียน!D9) -> 1430800119295 | E10: =IF(นักเรียน!E9="","",นักเรียน!E9) -> เด็กชายภูมิพันธ์ สมพงษ์ | F10: =IF(นักเรียน!E9="","",นักเรียน!B9) -> 4 | FL10: =IF(COUNTIF($G10:$FK10," /"),COUNTIF($G10:$FK10," /"),"") | FM10: =IF(COUNTIF($G10:$FK10,"ป"),COUNTIF($G10:$FK10,"ป"),"") | FN10: =IF(COUNTIF($G10:$FK10,"ล"),COUNTIF($G10:$FK10,"ล"),"") | FO10: =IF(COUNTIF($G10:$FK10,"ข"),COUNTIF($G10:$FK10,"ข"),"") | FP10: =IF(FL10="","",FL10*100/COUNT($G$6:$FK$6))
B11: 5 | C11: =IF(นักเรียน!C10="","",นักเรียน!C10) -> 1530 | D11: =IF(นักเรียน!D10="","",นักเรียน!D10) -> 1439600134035 | E11: =IF(นักเรียน!E10="","",นักเรียน!E10) -> เด็กชายอดุลยวัฒน์ สอนนาง | F11: =IF(นักเรียน!E10="","",นักเรียน!B10) -> 5 | FL11: =IF(COUNTIF($G11:$FK11," /"),COUNTIF($G11:$FK11," /"),"") | FM11: =IF(COUNTIF($G11:$FK11,"ป"),COUNTIF($G11:$FK11,"ป"),"") | FN11: =IF(COUNTIF($G11:$FK11,"ล"),COUNTIF($G11:$FK11,"ล"),"") | FO11: =IF(COUNTIF($G11:$FK11,"ข"),COUNTIF($G11:$FK11,"ข"),"") | FP11: =IF(FL11="","",FL11*100/COUNT($G$6:$FK$6))
B12: 6 | C12: =IF(นักเรียน!C11="","",นักเรียน!C11) -> 1536 | D12: =IF(นักเรียน!D11="","",นักเรียน!D11) -> 1439600139363 | E12: =IF(นักเรียน!E11="","",นักเรียน!E11) -> เด็กชายชวัลวิทย์ อ่างมัจฉา | F12: =IF(นักเรียน!E11="","",นักเรียน!B11) -> 6 | FL12: =IF(COUNTIF($G12:$FK12," /"),COUNTIF($G12:$FK12," /"),"") | FM12: =IF(COUNTIF($G12:$FK12,"ป"),COUNTIF($G12:$FK12,"ป"),"") | FN12: =IF(COUNTIF($G12:$FK12,"ล"),COUNTIF($G12:$FK12,"ล"),"") | FO12: =IF(COUNTIF($G12:$FK12,"ข"),COUNTIF($G12:$FK12,"ข"),"") | FP12: =IF(FL12="","",FL12*100/COUNT($G$6:$FK$6))
B13: 7 | C13: =IF(นักเรียน!C12="","",นักเรียน!C12) -> 1545 | D13: =IF(นักเรียน!D12="","",นักเรียน!D12) -> 1629900982226 | E13: =IF(นักเรียน!E12="","",นักเรียน!E12) -> เด็กชายศักดิ์ดา จันทะวงค์ | F13: =IF(นักเรียน!E12="","",นักเรียน!B12) -> 7 | FL13: =IF(COUNTIF($G13:$FK13," /"),COUNTIF($G13:$FK13," /"),"") | FM13: =IF(COUNTIF($G13:$FK13,"ป"),COUNTIF($G13:$FK13,"ป"),"") | FN13: =IF(COUNTIF($G13:$FK13,"ล"),COUNTIF($G13:$FK13,"ล"),"") | FO13: =IF(COUNTIF($G13:$FK13,"ข"),COUNTIF($G13:$FK13,"ข"),"") | FP13: =IF(FL13="","",FL13*100/COUNT($G$6:$FK$6))
B14: 8 | C14: =IF(นักเรียน!C13="","",นักเรียน!C13) -> 1616 | D14: =IF(นักเรียน!D13="","",นักเรียน!D13) -> G624100000761 | E14: =IF(นักเรียน!E13="","",นักเรียน!E13) -> เด็กชายแจ็คกี้ ระถิกา | F14: =IF(นักเรียน!E13="","",นักเรียน!B13) -> 8 | FL14: =IF(COUNTIF($G14:$FK14," /"),COUNTIF($G14:$FK14," /"),"") | FM14: =IF(COUNTIF($G14:$FK14,"ป"),COUNTIF($G14:$FK14,"ป"),"") | FN14: =IF(COUNTIF($G14:$FK14,"ล"),COUNTIF($G14:$FK14,"ล"),"") | FO14: =IF(COUNTIF($G14:$FK14,"ข"),COUNTIF($G14:$FK14,"ข"),"") | FP14: =IF(FL14="","",FL14*100/COUNT($G$6:$FK$6))
B15: 9 | C15: =IF(นักเรียน!C14="","",นักเรียน!C14) -> 1531 | D15: =IF(นักเรียน!D14="","",นักเรียน!D14) -> 1439600140302 | E15: =IF(นักเรียน!E14="","",นักเรียน!E14) -> เด็กหญิงธิราวัลย์ อ่อนตามา | F15: =IF(นักเรียน!E14="","",นักเรียน!B14) -> 9 | FL15: =IF(COUNTIF($G15:$FK15," /"),COUNTIF($G15:$FK15," /"),"") | FM15: =IF(COUNTIF($G15:$FK15,"ป"),COUNTIF($G15:$FK15,"ป"),"") | FN15: =IF(COUNTIF($G15:$FK15,"ล"),COUNTIF($G15:$FK15,"ล"),"") | FO15: =IF(COUNTIF($G15:$FK15,"ข"),COUNTIF($G15:$FK15,"ข"),"") | FP15: =IF(FL15="","",FL15*100/COUNT($G$6:$FK$6))
B16: 10 | C16: =IF(นักเรียน!C15="","",นักเรียน!C15) -> 1532 | D16: =IF(นักเรียน!D15="","",นักเรียน!D15) -> 1419902904909 | E16: =IF(นักเรียน!E15="","",นักเรียน!E15) -> เด็กหญิงนงนภัส ติยะภา | F16: =IF(นักเรียน!E15="","",นักเรียน!B15) -> 10 | FL16: =IF(COUNTIF($G16:$FK16," /"),COUNTIF($G16:$FK16," /"),"") | FM16: =IF(COUNTIF($G16:$FK16,"ป"),COUNTIF($G16:$FK16,"ป"),"") | FN16: =IF(COUNTIF($G16:$FK16,"ล"),COUNTIF($G16:$FK16,"ล"),"") | FO16: =IF(COUNTIF($G16:$FK16,"ข"),COUNTIF($G16:$FK16,"ข"),"") | FP16: =IF(FL16="","",FL16*100/COUNT($G$6:$FK$6))
B17: 11 | C17: =IF(นักเรียน!C16="","",นักเรียน!C16) -> 1533 | D17: =IF(นักเรียน!D16="","",นักเรียน!D16) -> 1439600133896 | E17: =IF(นักเรียน!E16="","",นักเรียน!E16) -> เด็กหญิงปรารถณา แสนรินทร์ | F17: =IF(นักเรียน!E16="","",นักเรียน!B16) -> 11 | FL17: =IF(COUNTIF($G17:$FK17," /"),COUNTIF($G17:$FK17," /"),"") | FM17: =IF(COUNTIF($G17:$FK17,"ป"),COUNTIF($G17:$FK17,"ป"),"") | FN17: =IF(COUNTIF($G17:$FK17,"ล"),COUNTIF($G17:$FK17,"ล"),"") | FO17: =IF(COUNTIF($G17:$FK17,"ข"),COUNTIF($G17:$FK17,"ข"),"") | FP17: =IF(FL17="","",FL17*100/COUNT($G$6:$FK$6))
B18: 12 | C18: =IF(นักเรียน!C17="","",นักเรียน!C17) -> 1538 | D18: =IF(นักเรียน!D17="","",นักเรียน!D17) -> 1508700133896 | E18: =IF(นักเรียน!E17="","",นักเรียน!E17) -> เด็กหญิงอุษามณี อินทะพิมพ์ | F18: =IF(นักเรียน!E17="","",นักเรียน!B17) -> 12 | FL18: =IF(COUNTIF($G18:$FK18," /"),COUNTIF($G18:$FK18," /"),"") | FM18: =IF(COUNTIF($G18:$FK18,"ป"),COUNTIF($G18:$FK18,"ป"),"") | FN18: =IF(COUNTIF($G18:$FK18,"ล"),COUNTIF($G18:$FK18,"ล"),"") | FO18: =IF(COUNTIF($G18:$FK18,"ข"),COUNTIF($G18:$FK18,"ข"),"") | FP18: =IF(FL18="","",FL18*100/COUNT($G$6:$FK$6))
... B56: 50 | C56: =IF(นักเรียน!C55="","",นักเรียน!C55) | D56: =IF(นักเรียน!D55="","",นักเรียน!D55) | E56: =IF(นักเรียน!E55="","",นักเรียน!E55) | F56: =IF(นักเรียน!E55="","",นักเรียน!B55) | FL56: =IF(COUNTIF($G56:$FK56," /"),COUNTIF($G56:$FK56," /"),"") | FM56: =IF(COUNTIF($G56:$FK56,"ป"),COUNTIF($G56:$FK56,"ป"),"") | FN56: =IF(COUNTIF($G56:$FK56,"ล"),COUNTIF($G56:$FK56,"ล"),"") | FO56: =IF(COUNTIF($G56:$FK56,"ข"),COUNTIF($G56:$FK56,"ข"),"") | FP56: =IF(FL56="","",FL56*100/COUNT($G$6:$FK$6))

Sheet list01
A1: ม.ค. | C1: / | D1: ภาษาไทย | F1: มกราคม | G1: 1 | J1: ชั่วโมง/ปี | K1: ครู | N1: 5
A2: ม.ค./ก.พ. | B2: หัวหน้างานวัดและประเมินผล | C2: ป | D2: คณิตศาสตร์ | E2: ประถมศึกษา | F2: กุมภาพันธ์ | G2: 2 | H2: 2558 | I2: ประถมศึกษาปีที่ 1 | J2: ชั่วโมง/สัปดาห์ | K2: ครูชำนาญการ | L2: 0 | M2: 10 | N2: 10 | O2: ออก | P2: มส | Q2: วัดประเมินเป็นรายตัวชี้วัด | R2: เอาออก | S2: ผ่าน
A3: ก.พ. | B3: หัวหน้างานวิชาการ | C3: ล | D3: วิทยาศาสตร์ | E3: มัธยมศึกษาตอนต้น | F3: มีนาคม | G3: 3 | H3: 2559 | I3: ประถมศึกษาปีที่ 2 | K3: ครูชำนาญการพิเศษ | L3: 1 | M3: 15 | N3: 15 | P3: ร | Q3: วัดประเมินเป็นหน่วยการเรียนรู้ | S3: ไม่ผ่าน
A4: ก.พ./มี.ค. | B4: รองผู้อำนวยการ | C4: ข | D4: วิทยาศาสตร์และเทคโนโลยี | E4: มัธยมศึกษาตอนปลาย | F4: เมษายน | G4: 4 | H4: 2560 | I4: ประถมศึกษาปีที่ 3 | K4: ครูเชี่ยวชาญ | L4: 2 | M4: 20 | N4: 20 | P4: 4 | S4: ---ย้าย---
A5: มี.ค. | B5: รองผู้อำนวยการฯ กลุ่มบริหารวิชาการ | C5: - | D5: สังคมศึกษา ศาสนาและวัฒนธรรม | F5: พฤษภาคม | G5: 5 | H5: 2561 | I5: ประถมศึกษาปีที่ 4 | K5: ครูเชี่ยวชาญพิเศษ | M5: 25 | N5: 25 | P5: 3.5 | Q5: นำคะแนนไปรวมตัดเกรด
A6: มี.ค./เม.ย. | B6: ผู้อำนวยการ | D6: สุขศึกษาและพลศึกษา | F6: มิถุนายน | G6: 6 | H6: 2562 | I6: ประถมศึกษาปีที่ 5 | K6: รองผู้อำนวยการ | M6: 30 | N6: 30 | P6: 3 | Q6: ไม่นำคะแนนไปรวมตัดเกรด
A7: เม.ย. | B7: อาจารย์ใหญ่ | D7: ศิลปะ | F7: กรกฎาคม | G7: 7 | H7: 2563 | I7: ประถมศึกษาปีที่ 6 | K7: ผู้อำนวยการ | M7: 35 | N7: 35 | P7: 2.5
A8: เม.ย./พ.ค. | B8: ครูใหญ่ | D8: การงานอาชีพ | F8: สิงหาคม | G8: 8 | H8: 2564 | M8: 40 | N8: 40 | P8: 2
A9: พ.ค. | D9: การงานอาชีพและเทคโนโลยี | F9: กันยายน | G9: 9 | H9: 2565 | I9: มัธยมศึกษาปีที่ 1 | K9: พนักงานราชการ | M9: 45 | N9: 45 | P9: 1.5
A10: พ.ค./มิ.ย. | D10: ภาษาต่างประเทศ | F10: ตุลาคม | G10: 10 | H10: 2566 | I10: มัธยมศึกษาปีที่ 2 | K10: ครูอัตราจ้าง | M10: 50 | N10: 50 | P10: 1
A11: มิ.ย. | D11: กิจกรรมพัฒนาผู้เรียน | F11: พฤศจิกายน | G11: 11 | H11: 2567 | I11: มัธยมศึกษาปีที่ 3 | K11: ครูผู้ช่วย | M11: 55 | N11: 55 | P11: 0
A12: มิ.ย./ก.ค. | D12: กิจกรรมแนะแนว | F12: ธันวาคม | G12: 12 | H12: 2568 | I12: มัธยมศึกษาปีที่ 4 | M12: 60 | N12: 60 | P12: ผ
A13: ก.ค. | D13: กิจกรรมนักเรียน | G13: 13 | H13: 2569 | I13: มัธยมศึกษาปีที่ 5 | K13: นักศึกษาฝึกประสบการณ์ฯ | M13: 65 | N13: 65 | P13: มผ
A14: ก.ค./ส.ค. | D14: กิจกรรมเพื่อสังคมและสาธารณประโยชน์ | G14: 14 | H14: 2570 | I14: มัธยมศึกษาปีที่ 6 | M14: 70 | N14: 70 | P14: มก
A15: ส.ค. | G15: 15 | H15: 2571 | M15: 75 | N15: 75
A16: ส.ค./ก.ย. | G16: 16 | H16: 2572 | M16: 80 | N16: 80
A17: ก.ย. | G17: 17 | H17: 2573 | M17: 85 | N17: 85
A18: ก.ย./ต.ค. | G18: 18 | H18: 2574 | M18: 90 | N18: 90
A19: ต.ค. | G19: 19 | H19: 2575 | M19: 95
A20: ต.ค./พ.ย. | G20: 20 | M20: 100
A21: พ.ย. | G21: 21
A22: พ.ย./ธ.ค. | G22: 22
A23: ธ.ค. | G23: 23
A24: ธ.ค./ม.ค. | G24: 24
G25: 25
G26: 26
G27: 27
G28: 28
G29: 29
G30: 30
G31: 31

Sheet คะแนน00
F1: ชีท "คะแนน1"----ให้บันทึกคะแนนประเมินผลตามตัวชี้วัด หรือคะแนนสอบแต่ละหน่วยการเรียน และคะแนนสอบปลายภาค ---ให้กำหนดค่าคะแนนเต็ม ในช่อง "คะแนนเต็ม" ช่องใดไม่ได้ใช้---ให้ปล่อยว่างไว้
B2: เลขที่ | C2: เลขประจำตัว | D2: ชื่อ - สกุล | F2: ="การวัดผลระหว่างเรียน รายวิชา "&Home!C11&" "&Home!C12 -> การวัดผลระหว่างเรียน รายวิชา ประวัติศาสตร์ ส 15101 | AA2: =F2 -> การวัดผลระหว่างเรียน รายวิชา ประวัติศาสตร์ ส 15101 | AQ2: การวัดผลปลายภาค | AX2: รวมคะแนน | AY2: =IF(เกณฑ์!$N$19="ACT","ผลการประเมิน","ระดับผลการเรียน") -> ระดับผลการเรียน | AZ2: ผลการปรับคะแนน
F3: =IF(เกณฑ์!F8="วัดประเมินเป็นหน่วยการเรียนรู้","คะแนนหน่วยการเรียนรู้","คะแนนผลการเรียนรู้ตามตัวชี้วัด")&" ภาคเรียนที่ "&Home!F4 -> คะแนนหน่วยการเรียนรู้ ภาคเรียนที่ ตลอดปี | AA3: =F3 -> คะแนนหน่วยการเรียนรู้ ภาคเรียนที่ ตลอดปี | AL3: คะแนนวัดผลกลางภาค | AP3: สรุป | AQ3: คะแนนปลายภาคเรียน | AU3: ข้อสอบกลาง | AW3: สรุป
E4: =IF(เกณฑ์!F8="วัดประเมินเป็นหน่วยการเรียนรู้","หน่วยที่","ข้อที่") -> หน่วยที่ | AJ4: รวม | AK4: สรุป | AL4: ฉ.1 | AM4: ฉ.2 | AN4: รวม | AO4: สรุป | AP4: คะแนน | AQ4: ฉ.1 | AR4: ฉ.2 | AS4: รวม | AT4: สรุป | AU4: =IF(เกณฑ์!F7="","",เกณฑ์!F7&"%") | AV4: สรุป | AW4: คะแนน
