Workbook
Name date: list01!$G$1:$G$31
Name grade01: [1]เกณฑ์!$C$8:$G$16
Name grade1: เกณฑ์!$C$10:$G$18
Name grade2: เกณฑ์!$J$5:$N$11
Name grade22: list01!$P$1:$P$14
Name grade3: เกณฑ์!$J$13:$N$17
Name gradeact: เกณฑ์!$J$21:$N$22
Name gradecompet: เกณฑ์!$C$22:$G$26
Name gradekpi: เกณฑ์!$J$26:$N$27
Name gradekpisum: เกณฑ์!$J$30:$N$31
Name gradelast: list01!$S$1:$S$4
Name gradetime: เกณฑ์!$C$30:$G$31
Name group_sara: list01!$D$1:$D$15
Name kroo: list01!$K$1:$K$13
Name level_class: list01!$I$1:$I$14
Name level_ed: list01!$E$1:$E$4
Name list: list01!$C$1:$C$5
Name month: list01!$A$1:$A$23
Name months: list01!$F$1:$F$12
Name pok: list01!$R$1:$R$2
Name posit: list01!$B$1:$B$8
Name scor1: list01!$M$1:$M$20
Name section: list01!$L$1:$L$5
Name status: list01!$O$1:$O$2
Name time: list01!$J$1:$J$2
Name vadpol: list01!$Q$1:$Q$3
Name vadpolkpi: list01!$Q$5:$Q$6
Name year_ed: list01!$H$1:$H$19
Name years: list01!$H$1:$H$4

Sheet Home
F1: แบบ ปพ.๕ อิเลคทรอนิกส์ หลักสูตรแกนกลางการศึกษาขั้นพื้นฐาน ๒๕๕๑
B2: ปพ.๕ | C2: แบบบันทึกผลการเรียนประจำรายวิชา | D2: ปพ.5 v61.10 | G2: =IF(F3="","สำหรับบันทึกรายวิชาพื้นฐาน รายวิชาเพิ่มเติมและกิจกรรมพัฒนาผู้เรียน","ระดับ"&F3&" : วิชาพื้นฐาน/เพิ่มเติม/กิจกรรมพัฒนาผู้เรียน") -> ระดับประถมศึกษา : วิชาพื้นฐาน/เพิ่มเติม/กิจกรรมพัฒนาผู้เรียน
B3: โรงเรียน | C3: บ้านม่วง | E3: ระดับการศึกษา | F3: ประถมศึกษา | H3: พิมพ์รายงาน
B4: สังกัด | C4: สำนักงานเขตพื้นที่การศึกษาประถมศึกษาหนองคาย เขต 1 | E4: ภาคเรียนที่ | F4: ตลอดปี | H4: บันทึกเสนอรายงานผล | I4: แผนภูมิแสดงผลสัมฤทธิ์
B5: ตำบล | C5: บ้านม่วง | E5: ปีการศึกษา | F5: 2566 | H5: แบบสรุปผลการประเมิน | I5: รายชื่อนักเรียน
B6: อำเภอ | C6: สังคม | H6: พิมพ์เอกสาร ปพ.5
B7: จังหวัด | C7: หนองคาย | E7: วันที่ (อนุมัติผล) | F7: 31 | H7: 1.ปก ปพ.5
E8: เดือน | F8: มีนาคม | H8: 2.เวลาเรียน_ประถม | I8: 2.บันทึกเวลาเรียน_มัธยม
B9: ระดับชั้น | C9: ประถมศึกษาปีที่ 5 | E9: ปี พ.ศ. | F9: 2567 | H9: 3.คะแนนตัวชี้วัด | I9: 4.บันทึกคะแนน
B10: กลุ่มสาระการเรียนรู้ | C10: สังคมศึกษา ศาสนาและวัฒนธรรม | H10: 5.คุณลักษณะฯ รายข้อ | I10: 6.อ่านคิดวิเคราะห์ รายข้อ
B11: รายวิชา | C11: ประวัติศาสตร์ | E11: เวลาเรียน | F11: 1 | H11: 7.สมรรถนะ รายด้าน | I11: 8.สรุปตัดสินผลการเรียน
B12: รหัสวิชา | C12: ส 15101 | E12: กรุณาเลือก | F12: ชั่วโมง/สัปดาห์ | H12: 9.ตัวชี้วัด (ปริ้นจากไฟล์ word) มาแทรกเล่ม
H13: 10.คำอธิบายการใช้แบบบันทึกผลการเรียน
B14: ครูที่ปรึกษา | C14: นางสาวมณฑกานต์ บุ่งเสน่ห์, นางสาวอรวรรณ อาคม | E14: ชื่อตำแหน่ง | F14: ครู | H14: ทำความเข้าใจ
B15: ครูผู้สอน | C15: นายคมลิขิต นามไว | E15: ชื่อตำแหน่ง | F15: ครูชำนาญการ | H15: อ่านก่อนทำ
B16: หัวหน้ากลุ่มสาระ | C16: นายคมลิขิต นามไว | E16: ชื่อตำแหน่ง | F16: ครูชำนาญการ | H16: คำอธิบายการใช้แบบบันทึกผลการเรียน
B17: งานวัดผล/วิชาการ | C17: นางสาวอรัญญา บรรณกิจ | E17: ชื่อตำแหน่ง | F17: หัวหน้างานวิชาการ | H17: ตัวชี้วัดการประเมินคุณลักษณะฯ
B18: วิชาการ/รอง ผอ. | E18: ชื่อตำแหน่ง | H18: ตัวชี้วัดการประเมินการอ่านคิดวิเคราะห์ฯ
B19: ผู้บริหารสถานศึกษา | C19: นางบุษราคัม อุตคะวาปี | E19: ชื่อตำแหน่ง | F19: ผู้อำนวยการ | H19: ข้อห้าม ข้อแนะนำการใช้
H21: ข้อห้าม ข้อแนะนำการใช้
B22: แบบ ปพ.5-2551v10.60.03 (20/03/2560)
B23: ออกแบบและพัฒนาโดย นายสุภีร์ สีพาย
B25: ใช้บันทึกข้อมูลเป็นรายวิชา ควรตั้งชื่อไฟล์ใหม่ให้สอดคล้องกับวิชา ระดับชั้นที่สอน และปีการศึกษา เช่น
C26: ปพ.5-2554 ม.1 ภาษาไทย | E26: ปพ.5-2554 ม.3 ภาษาไทย
C27: ปพ.5-2554 ม.1 คณิตศาสตร์ | E27: ปพ.5-2554 ม.3 คณิตศาสตร์
C28: ปพ.5-2554 ม.1 ภาษาอังกฤษ | E28: ปพ.5-2554 ม.3 วิทยาศาสตร์
B30: หากมีข้อสงสัย หรือมีคำแนะนำ กรุณาติดต่อ 086-2516021 หรือที่ | E30: suphinan_si@hotmail.com
C41: บ้านม่วง
C42: บ้านวังมน
C43: บ้านตาดเสริม

Sheet อ่านก่อนทำ
C2: คำชี้แจงเกี่ยวกับโปรแกรม แบบ ปพ.5 | Q2: ข้อห้าม
D3: โปรแกรม แบบ ปพ.5 (แบบบันทึกผลการเรียนประจำรายวิชา) จัดทำขึ้นโดยใช้โปรแกรม Office 2007 SP2 | Q3: 1.ห้ามเปลี่ยนชื่อชีท (sheet)
C4: เพื่อช่วยในการจัดทำรายงานข้อมูลสารสนเทศให้เป็นระบบ ถูกต้อง รวดเร็ว และใช้เป็นเอกสารหลักฐานการศึกษา | Q4: 2.ห้ามลากย้ายเซล (Move) หรือใช้คำสั่ง ตัด (cut) เพื่อนำข้อมูลไปวางยังเซลอื่น
C5: ประกอบด้วย ชีทงาน 16 ชีทงาน ดังนี้
C6: **ขอความกรุณาอย่าเปลี่ยนชื่อชีทงาน เพราะจะทำให้การเชื่อมโยงไม่สามารถทำงานได้ (เชื่อมไปยังชีทงานอื่นไม่ได้) | Q6: ข้อแนะนำ
D8: 1. Home-------- | F8: สำหรับกรอกข้อมูลเกี่ยวกับสถานศึกษา รายละเอียดวิชา ครู ผู้บริหาร | Q8: 1.การก๊อปปี้ (Copy) ---- วาง (Paste)
D9: 2. อ่านก่อนทำ------ | F9: เป็นคำชี้แจงเกี่ยวกับการใช้โปรแกรม แบบ ปพ.5 | Q9: 1.1 | R9: ให้เลือกข้อมูล แล้วใช้คำสั่ง ก๊อปปี้ (Copy)
D10: 3. นักเรียน-------- | F10: สำหรับกรอกข้อมูลนักเรียน ชื่อ-สกุล เลขประชาชน เลขประจำตัวนักเรียน | Q10: 1.2 | R10: ตอนวาง (Paste) ให้เลือก วางแบบพิเศษ (Paste Special) เลือก วางค่า (Paste Value)
D11: 4. รายงาน1----- | F11: สำหรับครูผู้สอนส่งผลการประเมินให้ครูที่ปรึกษา เพื่อนำไปกรอกในรายงานการพัฒนา
F12: คุณภาพระดับชั้นเรียน (แบบ รศ.1) (ส่วนนี้ไม่ต้องกรอกข้อมูลใดๆ)
F13: (หากต้องการใช้แบบรายงานการพัฒนาคุณภาพระดับชั้นเรียน (รศ.1) ดาวน์โหลดได้ที่ www.wainonpo.ob.tc)
D14: 5. ปก----------- | F14: สำหรับปริ้นทำปกแบบ ปพ.5 เพื่อเข้าเล่ม (ส่วนนี้ไม่ต้องกรอกข้อมูลใดๆ)
D15: 6. เวลาเรียน-------- | F15: สำหรับบันทึกเวลาเรียนของนักเรียนในแต่ละชั่วโมงตามตารางเรียน
F16: ควรใช้ปุ่ม Tab หรือปุ่มลูกศร บนแป้นพิมพ์ในการเลื่อนไปช่องทางซ้าย ขวา ขึ้นหรือลง
I18: ช่องเดือน---คลิ๊กเพื่อเลือกเดือน
I19: ช่องวัน---ระบุตามวันที่สอน (แก้ไขได้)
I20: ช่องวันที่---ระบุวันที่สอน
I21: ช่องชั่วโมงที่---ให้ระบุเฉพาะชั่วโมงที่สอน
J22: ของรายวิชานั้น เรียงตามลำดับ 1,2,3,4,…200 (จนถึงชั่วโมงสุดท้าย
J23: ของรายวิชาในภาคเรียนนั้น) ช่องใดไม่ได้ใช้ ให้ปล่อยว่างไว้
F24: การลงเวลาเรียนของนักเรียน---คลิ๊กเลือก สถานะการมาเรียน
I25: มา------------- | J25: ให้เลือก "/ "
I26: ป่วย----------- | J26: ให้เลือก "ป "
I27: ลา------------- | J27: ให้เลือก "ล "
I28: ขาด------ | J28: ให้เลือก "ข "
F29: สำหรับสรุปการมาเรียน----โปรแกรมประมวลผลให้ (ขอให้ตรวจสอบการกรอกข้อมูลที่ถูกต้อง)
D30: 7. คะแนน1------ | F30: สำหรับกรอกคะแนนวัดผลตามตัวชี้วัดระหว่างเรียน คะแนนสอบปลายภาคเรียน
D31: 8. คุณลักษณะ----- | F31: สำหรับกรอกคะแนนประเมินคุณลักษณะอันพึงประสงค์ จำนวน 8 ข้อ 18 ตัวบ่งชี้
F32: เอกสารอ้างอิง
F33: กระทรวงศึกษาธิการ แนวทางการพัฒนา การวัดและประเมินคุณลักษณะอันพึงประสงค์ ตามหลักสูตรแกนกลางการศึกษาขั้นพื้นฐาน พิมพ์ครั้งที่ 3 พ.ศ.2553 สำนักวิชาการและมาตรฐานการศึกษา สำนักงานคณะกรรมการการศึกษาขั้นพื้นฐาน
D34: 9. คุณลักษณะรายข้อ------ | G34: (ส่วนนี้ไม่ต้องกรอกข้อมูลใดๆ) สำหรับเป็นรายงานผลประเมินคุณลักษณะฯเป็นรายข้อ
D35: 10. คิดวิเคราะห์--------- | G35: สำหรับกรอกการประเมินการอ่าน คิดวิเคราะห์ และเขียน มี 5 ตัวชี้วัด
D36: 11. คิดวิเคราะห์รายข้อ--------- | G36: (ส่วนนี้ไม่ต้องกรอกข้อมูลใดๆ) สำหรับเป็นรายงานผลประเมินคิดวิเคราะห์ฯเป็นรายข้อ
D37: 12. ตัวชี้วัด---------- | F37: สำหรับพิมพ์รายละเอียดตัวชี้วัดของรายวิชา (อาจ copy มาวาง แล้วจัดรูปแบบให้สวยงาม)
D38: 13. คำอธิบาย------- | F38: เป็นคำอธิบายการใช้แบบบันทึกผลการเรียนประจำรายวิชา ปพ.5
D39: 14. ตัวชี้วัดคุณลักษณะ------- | G39: เป็นรายละเอียดตัวชี้วัดและพฤติกรรมบ่งชี้ของคุณลักษณะอันพึงประสงค์แต่ละข้อ
D40: 15. ตัวชี้วัดการอ่าน------- | G40: เป็นรายละเอียดตัวชี้วัดความสามารถในการอ่าน คิดวิเคราะห์และเขียน
D41: 16. aboutme------------ | F41: เป็นข้อมูลเกี่ยวกับผู้ออกแบบและพัฒนาโปรแกรม
C42: การเลือกชีทงาน
D43: สามารถคลิ๊กที่ไอคอน ไปยังชีทงานต่างๆ
D46: หรือคลิ๊กเลือก Tab ชีทงาน (ข้างล่าง)ที่ต้องการ
E49: โดยคลิ๊กที่ปุ่ม | J49: เพื่อเลือกชีทงานก่อนหน้า หรือชีทงานถัดไป
D51: ชีทงานทั้ง 16 ชีทงาน
C55: การเข้าเล่มเอกสาร ปพ.5
D57: ให้ปริ้นเอกสารตามชีทงานข้างล่างโดยใช้กระดาษ เอ4 เพื่อเข้าเล่มเอกสาร ปพ.5
E59: 1. ปก | K59: พิมพ์เอกสาร ปพ.5
E60: 2. เวลาเรียน | K60: ปก ปพ.5 (1 แผ่น) | L60: ปก ปพ.5 | M60: ปก ปพ.5 | N60: ปก ปพ.5
E61: 3. คะแนน1 | K61: บันทึกเวลาเรียน (4 แผ่น) | L61: บันทึกเวลาเรียน | M61: บันทึกเวลาเรียน | N61: บันทึกเวลาเรียน
E63: 4. คุณลักษณะรายข้อ | H63: หรือที่ชีท Home เลือก | K63: บันทึกคะแนน (3 แผ่น) | L63: บันทึกคะแนน | M63: บันทึกคะแนน | N63: บันทึกคะแนน
K64: ผลประเมินคุณลักษณะฯ รายข้อ (4 แผ่น) | L64: ผลประเมินคุณลักษณะฯ รายข้อ | M64: ผลประเมินคุณลักษณะฯ รายข้อ | N64: ผลประเมินคุณลักษณะฯ รายข้อ
E65: 5. คิดวิเคราะห์รายข้อ | K65: ผลประเมินอ่านคิดวิเคราะห์ รายข้อ (2 แผ่น) | L65: ผลประเมินอ่านคิดวิเคราะห์ รายข้อ | M65: ผลประเมินอ่านคิดวิเคราะห์ รายข้อ | N65: ผลประเมินอ่านคิดวิเคราะห์ รายข้อ
E66: 6. ตัวชี้วัด | K66: ตัวชี้วัด/ผลการเรียนรู้ (3 แผ่น) | L66: ตัวชี้วัด/ผลการเรียนรู้ | M66: ตัวชี้วัด/ผลการเรียนรู้ | N66: ตัวชี้วัด/ผลการเรียนรู้
E67: 7. คำอธิบาย | K67: คำอธิบายการใช้แบบบันทึกผลการเรียน (2 แผ่น) | L67: คำอธิบายการใช้แบบบันทึกผลการเรียน | M67: คำอธิบายการใช้แบบบันทึกผลการเรียน | N67: คำอธิบายการใช้แบบบันทึกผลการเรียน
K69: ปกหลัง (1 แผ่น) รวมใช้กระดาษ 20 แผ่น
E70: หรือสถานศึกษาพิจารณากำหนดตามความเหมาะสม
C72: ข้อเสนอแนะ
D74: โปรแกรม ปพ.5 นี้ เป็นการนำเสนอข้อมูลสารสนเทศเฉพาะรายวิชาเท่านั้น หากสถานศึกษาต้องการจัดทำสารสนเทศ
C75: ระดับชั้นเรียน ผู้ออกแบบและพัฒนาโปรแกรมได้จัดทำแบบรายงานการพัฒนาคุณภาพผู้เรียนระดับชั้นเรียน (รศ.1)
C76: เป็นไฟล์โปรแกรม Excel2007 สามารถดาวน์โหลดได้ที่เว็บ | J76: http://madoodadi.wordpress.com/
I77: หรือที่ | J77: http://www.kroobannok.com/suphi
D78: เพื่อให้ครูที่ปรึกษาจัดทำรายงานคุณภาพระดับห้องเรียน และจัดทำแบบรายงานประจำตัวนักเรียน (ปพ.6) แจ้งผล
C79: การเรียนแก่นักเรียน และผู้ปกครองนักเรียนทราบ
C81: หากพบปัญหาในการใช้งาน หรือมีข้อเสนอแนะใดๆ กรุณาติดต่อ 086-2516021 หรือ suphinan_si@hotmail.com

Sheet ตัวชีวัด
B2: ="การวัดประเมินผล รายวิชา "&Home!C11&" "&Home!C12 -> การวัดประเมินผล รายวิชา ประวัติศาสตร์ ส 15101
C3: =IF(Home!C3="","","โรงเรียน"&Home!C3&" "&Home!C4) -> โรงเรียนบ้านม่วง สำนักงานเขตพื้นที่การศึกษาประถมศึกษาหนองคาย เขต 1
C4: คุณลักษณะอันพึงประสงค์ | K4: สมรรถนะสำคัญของผู้เรียน
C5: 1 | D5: รักชาติ ศาสน์ กษัตริย์ | K5: 1 | L5: ความสามารถในการสื่อสาร
C6: 2 | D6: ซื่อสัตย์สุจริต | K6: 2 | L6: ความสามารถในการคิด
C7: 3 | D7: มีวินัย | K7: 3 | L7: ความสามารถในการแก้ปัญหา
C8: 4 | D8: ใฝ่เรียนรู้ | K8: 4 | L8: ความสามารถในการใช้ทักษะชีวิต
C9: 5 | D9: อยู่อย่างพอเพียง | K9: 5 | L9: ความสามารถในการใช้เทคโนโลยี
C10: 6 | D10: มุ่งมั่นในการทำงาน
C11: 7 | D11: รักความเป็นไทย
C12: 8 | D12: มีจิตสาธารณะ
C13: 9
C14: 10
C16: ="ตัวชี้วัด รายวิชา "&Home!C11&" "&Home!C12&" ชั้น"&Home!C9 -> ตัวชี้วัด รายวิชา ประวัติศาสตร์ ส 15101 ชั้นประถมศึกษาปีที่ 5
C17: ที่ | D17: มาตรฐาน | E17: ตัวชี้วัดที่/รายการตัวชี้วัด
A18: 1 | C18: =IF(E18="","",A18) -> 1 | D18: ส 4.1.1 | E18: 1.สืบค้นความเป็นมาของท้องถิ่นโดยใช้หลักฐานที่หลากหลาย
A19: 2 | C19: =IF(E19="","",A19) -> 2 | D19: ส 4.1.2 | E19: 2. รวบรวมข้อมูลจากแหล่งต่าง ๆ เพื่อตอบคำถามทางประวัติศาสตร์ อย่างมีเหตุผล
A20: 3 | C20: =IF(E20="","",A20) -> 3 | D20: ส 4.1.3 | E20: 3.อธิบายความแตกต่างระหว่างความจริงกับข้อเท็จจริงเกี่ยวกับเรื่องราวในท้องถิ่น
A21: 4 | C21: =IF(E21="","",A21) -> 4 | D21: ส 4.2.1 | E21: 4.อธิบายอิทธิพลของอารยธรรมอินเดียและจีนที่มีต่อไทย และเอเชียตะวันออกเฉียงใต้โดยสังเขป
A22: 5 | C22: =IF(E22="","",A22) -> 5 | D22: ส 4.2.2 | E22: 5.อภิปรายอิทธิพลของวัฒนธรรมต่างชาติที่มีต่อสังคมไทยปัจจุบันโดยสังเขป
A23: 6 | C23: =IF(E23="","",A23) -> 6 | D23: ส 4.3.1 | E23: 6.อธิบายพัฒนาการของอาณาจักรอยุธยาและธนบุรีโดยสังเขป
A24: 7 | C24: =IF(E24="","",A24) -> 7 | D24: ส 4.3.2 | E24: 7.อธิบายปัจจัยที่ส่งเสริมความเจริญ รุ่งเรืองทางเศรษฐกิจและการปกครอง ของอาณาจักรอยุธยา
A25: 8 | C25: =IF(E25="","",A25) -> 8 | D25: ส 4.3.3 | E25: 8.บอกประวัติและผลงานของบุคคลสำคัญสมัยอยุธยาและธนบุรีที่น่าภาคภูมิใจ
A26: 9 | C26: =IF(E26="","",A26) -> 9 | D26: ส 4.3.4 | E26: 9.อธิบายภูมิปัญญาไทยที่สำคัญสมัยอยุธยาและธนบุรีที่น่าภาคภูมิใจและควรค่าแก่การอนุรักษ์ไว้
A27: 10 | C27: =IF(E27="","",A27)
A28: 11 | C28: =IF(E28="","",A28)
A29: 12 | C29: =IF(E29="","",A29)
A30: 13 | C30: =IF(E30="","",A30)
A31: 14 | C31: =IF(E31="","",A31)
A32: 15 | C32: =IF(E32="","",A32)
A33: 16 | C33: =IF(E33="","",A33)
A34: 17 | C34: =IF(E34="","",A34)
A35: 18 | C35: =IF(E35="","",A35)
A36: 19 | C36: =IF(E36="","",A36)
A37: 20 | C37: =IF(E37="","",A37)
A38: 21 | C38: =IF(E38="","",A38)
... A60: 43 | C60: =IF(E60="","",A60)

Sheet เกณฑ์
B2: กำหนดเกณฑ์การประเมินผล
B3: =IF(Home!F3="ประถมศึกษา","1.สัดส่วนคะแนนระหว่างเรียน : คะแนนกลางปี : คะแนนปลายปี","1.สัดส่วนคะแนนระหว่างเรียน : คะแนนกลางภาค : คะแนนปลายภาค") -> 1.สัดส่วนคะแนนระหว่างเรียน : คะแนนกลางปี : คะแนนปลายปี | I3: =Home!B11&Home!C11&" ชั้น"&Home!C9&" ปีการศึกษา "&Home!F5 -> รายวิชาประวัติศาสตร์ ชั้นประถมศึกษาปีที่ 5 ปีการศึกษา 2566
E4: สัดส่วนคะแนน ระหว่างเรียน | F4: =SUM(J4,M4,O4) -> 80 | G4: สัดส่วนคะแนนสอบหน่วยเรียนรู้ | J4: 80 | K4: คะแนนภาระงาน | N4: คะแนนตัวชี้วัด
E5: =IF(Home!F3="ประถมศึกษา","สัดส่วนคะแนน กลางปี","สัดส่วนคะแนน กลางภาค") -> สัดส่วนคะแนน กลางปี | G5: ปรับเปลี่ยนช่วงคะแนน | I5: 4.เกณฑ์การประเมินคุณลักษณะอันพึงประสงค์
E6: =IF(Home!F3="ประถมศึกษา","สัดส่วนคะแนน ปลายปี","สัดส่วนคะแนน ปลายภาค") -> สัดส่วนคะแนน ปลายปี | F6: 20 | G6: ให้เป็นตามที่สถานศึกษากำหนดได้ | K6: ช่วงคะแนนเป็นร้อยละ | M6: ความหมาย | N6: ระดับผลการประเมิน
E7: สัดส่วนคะแนนข้อสอบกลาง | J7: 0 | K7: =IF(J7="","","-") -> - | L7: 49 | M7: ไม่ผ่าน | N7: 0
E8: กรุณาเลือกระบบวัดประเมินผล | F8: วัดประเมินเป็นหน่วยการเรียนรู้ | J8: 50 | K8: =IF(J8="","","-") -> - | L8: 64 | M8: ผ่าน | N8: 1
B9: 2.เกณฑ์ระดับผลการเรียน | J9: 65 | K9: =IF(J9="","","-") -> - | L9: 79 | M9: ดี | N9: 2
D10: ช่วงคะแนนเป็นร้อยละ | F10: ความหมาย | G10: ระดับผลการเรียน | J10: 80 | K10: =IF(J10="","","-") -> - | L10: 100 | M10: ดีเยี่ยม | N10: 3
C11: 0 | D11: =IF(C11="","","-") -> - | E11: 49 | F11: ต่ำกว่าเกณฑ์ | G11: 0 | K11: =IF(J11="","","-")
C12: 50 | D12: =IF(C12="","","-") -> - | E12: 54 | F12: ผ่านเกณฑ์ขั้นต่ำ | G12: 1 | I12: 5.เกณฑ์การประเมินการอ่าน คิดวิเคราะห์ เขียน
C13: 55 | D13: =IF(C13="","","-") -> - | E13: 59 | F13: พอใช้ | G13: 1.5 | K13: ช่วงคะแนนเป็นร้อยละ | M13: ความหมาย | N13: ระดับผลการประเมิน
C14: 60 | D14: =IF(C14="","","-") -> - | E14: 64 | F14: ปานกลาง | G14: 2 | J14: 0 | K14: =IF(J14="","","-") -> - | L14: 49 | M14: ไม่ผ่าน | N14: 0
C15: 65 | D15: =IF(C15="","","-") -> - | E15: 69 | F15: ค่อนข้างดี | G15: 2.5 | J15: 50 | K15: =IF(J15="","","-") -> - | L15: 64 | M15: ผ่าน | N15: 1
C16: 70 | D16: =IF(C16="","","-") -> - | E16: 74 | F16: ดี | G16: 3 | J16: 65 | K16: =IF(J16="","","-") -> - | L16: 79 | M16: ดี | N16: 2
C17: 75 | D17: =IF(C17="","","-") -> - | E17: 79 | F17: ดีมาก | G17: 3.5 | J17: 80 | K17: =IF(J17="","","-") -> - | L17: 100 | M17: ดีเยี่ยม | N17: 3
C18: 80 | D18: =IF(C18="","","-") -> - | E18: 100 | F18: ดีเยี่ยม | G18: 4 | K18: =IF(J18="","","-")
I19: 6.เกณฑ์การประเมินกิจกรรมพัฒนาผู้เรียน | N19: =IF(OR(Home!C10="กิจกรรมพัฒนาผู้เรียน",Home!C10="กิจกรรมแนะแนว",Home!C10="กิจกรรมนักเรียน",Home!C10="กิจกรรมเพื่อสังคมและสาธารณประโยชน์"),"ACT","")
B20: 3.เกณฑ์การประเมินสมรรถนะสำคัญของผู้เรียน | K20: ช่วงคะแนนเป็นร้อยละ | M20: ความหมาย | N20: ระดับผลการประเมิน
D21: ช่วงคะแนนเป็นร้อยละ | F21: ความหมาย | G21: ระดับผลการประเมิน | J21: 0 | K21: =IF(J21="","","-") -> - | L21: 49 | M21: ไม่ผ่าน | N21: ไม่ผ่าน
C22: 0 | D22: - | E22: 39 | F22: ปรับปรุง | G22: 0 | J22: 50 | K22: =IF(J22="","","-") -> - | L22: 100 | M22: ผ่าน | N22: ผ่าน
C23: 40 | D23: - | E23: 64 | F23: พอใช้ | G23: 1
C24: 65 | D24: - | E24: 74 | F24: ดี | G24: 2 | I24: 7.เกณฑ์การประเมินตัวชี้วัดรายข้อ | M24: =IF(O4="","ไม่นำคะแนนไปรวมตัดเกรด","นำคะแนนไปรวมตัดเกรด") -> ไม่นำคะแนนไปรวมตัดเกรด
C25: 75 | D25: - | E25: 100 | F25: ดีเยี่ยม | G25: 3 | K25: ช่วงคะแนนเป็นร้อยละ | M25: ความหมาย | N25: ระดับผลการประเมิน
J26: 0 | K26: =IF(J26="","","-") -> - | L26: 49 | M26: ไม่ผ่าน | N26: ไม่ผ่าน
J27: 60 | K27: =IF(J27="","","-") -> - | L27: 100 | M27: ผ่าน | N27: ผ่าน
B28: 9.เกณฑ์เวลาเรียน | I28: 8.เกณฑ์การสรุปผลการประเมินตัวชี้วัด | N28: =IF(M24="นำคะแนนไปรวมตัดเกรด","yes","no") -> no
D29: ช่วงคะแนนเป็นร้อยละ | F29: ความหมาย | G29: ระดับผลการประเมิน | K29: ช่วงคะแนนเป็นร้อยละ | M29: ความหมาย | N29: ระดับผลการประเมิน
C30: 0 | D30: =IF(C30="","","-") -> - | E30: 49 | F30: ไม่ผ่าน | G30: ไม่ผ่าน | J30: 0 | K30: =IF(J30="","","-") -> - | L30: 49 | M30: ไม่ผ่าน | N30: ไม่ผ่าน
C31: 80 | D31: =IF(C31="","","-") -> - | E31: 100 | F31: ผ่าน | G31: ผ่าน | J31: 80 | K31: =IF(J31="","","-") -> - | L31: 100 | M31: ผ่าน | N31: ผ่าน
C32: การกำหนดเกณฑ์ระดับผลการเรียน (ทั้งรายวิชาต่างๆ และกิจกรรมผู้เรียน)
C33: ---ช่วงคะแนนเป็นร้อยละ ให้กรอกตัวเลขของช่วงคะแนนตามที่สถานศึกษากำหนด (จากค่าคะแนนน้อยไปหาค่าคะแนนมาก)
C34: ---ความหมาย ให้กรอกข้อความความหมายของระดับผลการเรียนตามสถานศึกษากำหนด
C35: ---ระดับผลการเรียน (ปพ.5 สำหรับรายวิชาต่างๆ) ให้กรอกตัวเลขของระดับผลการเรียนตามที่สถานศึกษากำหนด (กำหนดได้ไม่เกิน 8 ระดับ)
C36: (ปพ.5 สำหรับกิจกรรมพัฒนาผู้เรียน) ให้กรอกข้อความของระดับผลการประเมินในช่องระดับผลการเรียนเป็น ผ่าน และ ไม่ผ่าน เท่านั้น
C39: การกำหนดเกณฑ์ระดับผลการประเมินคุณลักษณะอันพึงประสงค์ และการอ่าน คิดวิเคราะห์ เขียน
C40: ---ช่วงคะแนนเป็นร้อยละ ให้กรอกตัวเลขของช่วงคะแนนตามที่สถานศึกษากำหนด (จากค่าคะแนนน้อยไปหาค่าคะแนนมาก)
C41: ---ความหมาย ให้กรอกข้อความความหมายของระดับผลการประเมินตามที่สถานศึกษากำหนด
C42: ---ระดับผลการประเมิน เป็นตัวเลขของระดับผลการประเมินตามเกณฑ์ 4 ระดับ คือ 0 1 2 และ 3
D43: (สถานศึกษากำหนดช่วงคะแนนเป็นร้อยละตามเกณฑ์สถานศึกษากำหนด)

Sheet นักเรียน
K1: โปรแกรม แบบ ปพ.๕ หลักสูตรแกนกลางการศึกษาขั้นพื้นฐาน ๒๕๕๑
B2: ="รายชื่อนักเรียน ชั้น"&Home!C9&" ปีการศึกษา "&Home!F5 -> รายชื่อนักเรียน ชั้นประถมศึกษาปีที่ 5 ปีการศึกษา 2566 | M2: นักเรียน ต้นปีการศึกษา | O2: =N57 -> 20 | P2: คน
B3: เลขที่ | C3: เลขประจำตัวนักเรียน | D3: เลขประจำตัวประชาชน | E3: ชื่อ - สกุลนักเรียน | M3: นักเรียน ออกระหว่างปี | O3: =N58 -> 0 | P3: คน
M4: นักเรียน สิ้นปีการศึกษา | O4: =N59 -> 20 | P4: คน
M5: เลขที่ | N5: สถานภาพนักเรียน
B6: 1 | C6: 1526 | D6: 1430800119384 | E6: เด็กชายจิรทีปต์ พวงมาลา | M6: =IF(E6="","",B6) -> 1
B7: 2 | C7: 1527 | D7: 1439600135104 | E7: เด็กชายพีระศิลป์ นรสิงห์ | M7: =IF(E7="","",B7) -> 2
B8: 3 | C8: 1528 | D8: 1439600135198 | E8: เด็กชายภูผา เศษจำปา | M8: =IF(E8="","",B8) -> 3
B9: 4 | C9: 1529 | D9: 1430800119295 | E9: เด็กชายภูมิพันธ์ สมพงษ์ | M9: =IF(E9="","",B9) -> 4
B10: 5 | C10: 1530 | D10: 1439600134035 | E10: เด็กชายอดุลยวัฒน์ สอนนาง | M10: =IF(E10="","",B10) -> 5
B11: 6 | C11: 1536 | D11: 1439600139363 | E11: เด็กชายชวัลวิทย์ อ่างมัจฉา | M11: =IF(E11="","",B11) -> 6
B12: 7 | C12: 1545 | D12: 1629900982226 | E12: เด็กชายศักดิ์ดา จันทะวงค์ | M12: =IF(E12="","",B12) -> 7
B13: 8 | C13: 1616 | D13: G624100000761 | E13: เด็กชายแจ็คกี้ ระถิกา | M13: =IF(E13="","",B13) -> 8
B14: 9 | C14: 1531 | D14: 1439600140302 | E14: เด็กหญิงธิราวัลย์ อ่อนตามา | M14: =IF(E14="","",B14) -> 9
B15: 10 | C15: 1532 | D15: 1419902904909 | E15: เด็กหญิงนงนภัส ติยะภา | M15: =IF(E15="","",B15) -> 10
B16: 11 | C16: 1533 | D16: 1439600133896 | E16: เด็กหญิงปรารถณา แสนรินทร์ | M16: =IF(E16="","",B16) -> 11
B17: 12 | C17: 1538 | D17: 1508700133896 | E17: เด็กหญิงอุษามณี อินทะพิมพ์ | M17: =IF(E17="","",B17) -> 12
... B20: 15 | C20: 1641 | D20: 1329000088491 | E20: เด็กหญิงกนกอร เกษอินทร์ | M20: =IF(E20="","",B20) -> 15
B21: 16 | C21: 1662 | D21: 1801000169694 | E21: เด็กหญิงรุ่งอรุณรัศมี จันทร์แจ่มศรี | M21: =IF(E21="","",B21) -> 16
B22: 17 | C22: 655 | D22: 1430800118761 | E22: เด็กชายจักรภัทร เสนาฤทธิ์ | M22: =IF(E22="","",B22) -> 17
B23: 18 | C23: 656 | D23: 1430800118931 | E23: เด็กชายธนวัต มีศิลป์ | M23: =IF(E23="","",B23) -> 18
B24: 19 | C24: 627 | D24: 1439600144596 | E24: เด็กชายธนบูรณ์ พุทธชัย | M24: =IF(E24="","",B24) -> 19
B25: 20 | C25: 628 | D25: 1419902915749 | E25: เด็กหญิงณัฐชา มาตรรักษ์ | M25: =IF(E25="","",B25) -> 20
B26: 21 | M26: =IF(E26="","",B26)
B27: 22 | M27: =IF(E27="","",B27)
B28: 23 | M28: =IF(E28="","",B28)
B29: 24 | M29: =IF(E29="","",B29)
B30: 25 | M30: =IF(E30="","",B30)
B31: 26 | M31: =IF(E31="","",B31)
B32: 27 | M32: =IF(E32="","",B32)
B33: 28 | M33: =IF(E33="","",B33)
B34: 29 | M34: =IF(E34="","",B34)
B35: 30 | M35: =IF(E35="","",B35)
B36: 31 | M36: =IF(E36="","",B36)
B37: 32 | M37: =IF(E37="","",B37)
... B55: 50 | M55: =IF(E55="","",B55)
K57: จำนวนนักเรียน เมื่อต้นปีการศึกษา | N57: =IF(COUNTA(นักเรียน!$E$6:$E$55),COUNTA(นักเรียน!$E$6:$E$55),"-") -> 20 | O57: คน
K58: จำนวนนักเรียน ออกระหว่างปี | N58: =IF(COUNTIF($N$6:$N$55,"ออก"),COUNTIF($N$6:$N$55,"ออก"),"0") -> 0 | O58: คน
K59: จำนวนนักเรียน เมื่อสิ้นปีการศึกษา | N59: =IF($N$57="-","-",$N$57-$N$58) -> 20 | O59: คน

Sheet ปก
H2: p | R2: =IF(Home!B2="","",Home!B2) -> ปพ.๕
B3: =IF(U5="",Home!C2&" ระดับ"&Home!F3,Home!C2) -> แบบบันทึกผลการเรียนประจำรายวิชา ระดับประถมศึกษา | U3: ไม่ต้องการแสดงข้อมูลตามรายการต่อไปนี้ที่ "หน้าปก" ปพ.
B4: =IF(Home!C3="","","โรงเรียน"&aboutme!F39) -> โรงเรียนบ้านม่วง
B5: =IF(U6="",Home!B5&Home!C5&" "&Home!B6&Home!C6&" "&Home!B7&Home!C7,Home!B6&Home!C6&" "&Home!B7&Home!C7) -> ตำบลบ้านม่วง อำเภอสังคม จังหวัดหนองคาย | V5: ระดับการศึกษา
B6: =IF(U7="",Home!C4,"") -> สำนักงานเขตพื้นที่การศึกษาประถมศึกษาหนองคาย เขต 1 | V6: ชื่อตำบล
B7: =IF(Home!F4=""," ปีการศึกษา "&Home!F5,"ภาคเรียนที่ "&Home!F4&" ปีการศึกษา "&Home!F5) -> ภาคเรียนที่ ตลอดปี ปีการศึกษา 2566 | V7: ชื่อสังกัด
B8: ="ชั้น"&Home!C9 -> ชั้นประถมศึกษาปีที่ 5 | I8: ="กลุ่มสาระการเรียนรู้ "&Home!C10 -> กลุ่มสาระการเรียนรู้ สังคมศึกษา ศาสนาและวัฒนธรรม
B9: ="รายวิชา "&Home!C11 -> รายวิชา ประวัติศาสตร์ | I9: =IF(Home!C12="","","รหัสวิชา "&Home!C12) -> รหัสวิชา ส 15101 | M9: ="เวลาเรียน "&Home!F11&" "&Home!F12 -> เวลาเรียน 1 ชั่วโมง/สัปดาห์
G11: ครูผู้สอน | J11: =Home!C15&" " -> นายคมลิขิต นามไว
G12: ครูที่ปรึกษา | J12: =Home!C14&" " -> นางสาวมณฑกานต์ บุ่งเสน่ห์, นางสาวอรวรรณ อาคม
B13: สรุปผลการประเมิน
B14: จำนวนนักเรียน | E14: ระดับผลการเรียน | M14: กิจกรรมพัฒนาผู้เรียน | Q14: ผลการประเมิน
E15: 4 | F15: 3.5 | G15: 3 | H15: 2.5 | I15: 2 | J15: 1.5 | K15: 1 | L15: 0 | M15: ผ่าน | O15: ไม่ผ่าน | Q15: ร | R15: มส
B16: =นักเรียน!N59 -> 20 | E16: =IF(COUNTIF(คะแนน1!$AR$8:$AR$57,"4"),COUNTIF(คะแนน1!$AR$8:$AR$57,"4"),"-") -> 10 | F16: =IF(COUNTIF(คะแนน1!$AR$8:$AR$57,"3.5"),COUNTIF(คะแนน1!$AR$8:$AR$57,"3.5"),"-") -> 3 | G16: =IF(COUNTIF(คะแนน1!$AR$8:$AR$57,"3"),COUNTIF(คะแนน1!$AR$8:$AR$57,"3"),"-") -> 2 | H16: =IF(COUNTIF(คะแนน1!$AR$8:$AR$57,"2.5"),COUNTIF(คะแนน1!$AR$8:$AR$57,"2.5"),"-") -> 2 | I16: =IF(COUNTIF(คะแนน1!$AR$8:$AR$57,"2"),COUNTIF(คะแนน1!$AR$8:$AR$57,"2"),"-") -> 1 | J16: =IF(COUNTIF(คะแนน1!$AR$8:$AR$57,"1.5"),COUNTIF(คะแนน1!$AR$8:$AR$57,"1.5"),"-") -> 1 | K16: =IF(COUNTIF(คะแนน1!$AR$8:$AR$57,"1"),COUNTIF(คะแนน1!$AR$8:$AR$57,"1"),"-") -> 1 | L16: =IF(COUNTIF(คะแนน1!$AR$8:$AR$57,"0"),COUNTIF(คะแนน1!$AR$8:$AR$57,"0"),"-") -> - | M16: =IF(COUNTIF(คะแนน1!$AR$8:$AR$57,"ผ่าน"),COUNTIF(คะแนน1!$AR$8:$AR$57,"ผ่าน"),"-") -> - | O16: =IF(COUNTIF(คะแนน1!$AR$8:$AR$57,"ไม่ผ่าน"),COUNTIF(คะแนน1!$AR$8:$AR$57,"ไม่ผ่าน"),"-") -> - | Q16: =IF(COUNTIF(คะแนน1!$AU$8:$AU$57,"ร"),COUNTIF(คะแนน1!$AU$8:$AU$57,"ร"),"-") -> - | R16: =IF(COUNTIF(คะแนน1!$AU$8:$AU$57,"มส"),COUNTIF(คะแนน1!$AU$8:$AU$57,"มส"),"-") -> -
B17: คิดเป็นร้อยละ | E17: =IF($E$16="-","",COUNTIF(คะแนน1!$AR$8:$AR$57,"4")*100/$B$16) -> 50 | F17: =IF($F$16="-","",COUNTIF(คะแนน1!$AR$8:$AR$57,"3.5")*100/$B$16) -> 15 | G17: =IF($G$16="-","",COUNTIF(คะแนน1!$AR$8:$AR$57,"3")*100/$B$16) -> 10 | H17: =IF($H$16="-","",COUNTIF(คะแนน1!$AR$8:$AR$57,"2.5")*100/$B$16) -> 10 | I17: =IF($I$16="-","",COUNTIF(คะแนน1!$AR$8:$AR$57,"2")*100/$B$16) -> 5 | J17: =IF($J$16="-","",COUNTIF(คะแนน1!$AR$8:$AR$57,"1.5")*100/$B$16) -> 5 | K17: =IF($K$16="-","",COUNTIF(คะแนน1!$AR$8:$AR$57,"1")*100/$B$16) -> 5 | L17: =IF($L$16="-","",COUNTIF(คะแนน1!$AR$8:$AR$57,"0")*100/$B$16) | M17: =IF($M$16="-","",COUNTIF(คะแนน1!$AR$8:$AR$57,"ผ่าน")*100/$B$16) | O17: =IF($O$16="-","",COUNTIF(คะแนน1!$AR$8:$AR$57,"ไม่ผ่าน")*100/$B$16) | Q17: =IF($Q$16="-","",COUNTIF(คะแนน1!$AU$8:$AU$57,"ร")*100/$B$16) | R17: =IF($R$16="-","",COUNTIF(คะแนน1!$AU$8:$AU$57,"มส")*100/$B$16)
B19: ผลการประเมินคุณลักษณะอันพึงประสงค์ | K19: ผลการประเมินการอ่านคิดวิเคราะห์และเขียน
B20: 3 = ดีเยี่ยม | D20: 2 = ดี | F20: 1 = ผ่าน | H20: 0= ไม่ผ่าน | K20: 3 = ดีเยี่ยม | M20: 2 = ดี | O20: 1 = ผ่าน | Q20: 0= ไม่ผ่าน
B21: =IF(COUNTIF(คุณลักษณะ!$AD$6:$AD$55,"3"),COUNTIF(คุณลักษณะ!$AD$6:$AD$55,"3"),"-") -> 20 | D21: =IF(COUNTIF(คุณลักษณะ!$AD$6:$AD$55,"2"),COUNTIF(คุณลักษณะ!$AD$6:$AD$55,"2"),"-") -> - | F21: =IF(COUNTIF(คุณลักษณะ!$AD$6:$AD$55,"1"),COUNTIF(คุณลักษณะ!$AD$6:$AD$55,"1"),"-") -> - | H21: =IF(COUNTIF(คุณลักษณะ!$AD$6:$AD$55,"0"),COUNTIF(คุณลักษณะ!$AD$6:$AD$55,"0"),"-") -> - | K21: =IF(COUNTIF(คิดวิเคราะห์!$AB$7:$AB$56,"3"),COUNTIF(คิดวิเคราะห์!$AB$7:$AB$56,"3"),"-") -> 13 | M21: =IF(COUNTIF(คิดวิเคราะห์!$AB$7:$AB$56,"2"),COUNTIF(คิดวิเคราะห์!$AB$7:$AB$56,"2"),"-") -> 6 | O21: =IF(COUNTIF(คิดวิเคราะห์!$AB$7:$AB$56,"1"),COUNTIF(คิดวิเคราะห์!$AB$7:$AB$56,"1"),"-") -> 1 | Q21: =IF(COUNTIF(คิดวิเคราะห์!$AB$7:$AB$56,"0"),COUNTIF(คิดวิเคราะห์!$AB$7:$AB$56,"0"),"-") -> -
B22: =IF($B$21="-","",COUNTIF(คุณลักษณะ!$AD$6:$AD$55,"3")*100/$B$16) -> 100 | D22: =IF($D$21="-","",COUNTIF(คุณลักษณะ!$AD$6:$AD$55,"2")*100/$B$16) | F22: =IF($F$21="-","",COUNTIF(คุณลักษณะ!$AD$6:$AD$55,"1")*100/$B$16) | H22: =IF($H$21="-","",COUNTIF(คุณลักษณะ!$AD$6:$AD$55,"0")*100/$B$16) | K22: =IF(K21="-","",COUNTIF(คิดวิเคราะห์!$AB$7:$AB$56,"3")*100/$B$16) -> 65 | M22: =IF(M21="-","",COUNTIF(คิดวิเคราะห์!$AB$7:$AB$56,"2")*100/$B$16) -> 30 | O22: =IF(O21="-","",COUNTIF(คิดวิเคราะห์!$AB$7:$AB$56,"1")*100/$B$16) -> 5 | Q22: =IF(Q21="-","",COUNTIF(คิดวิเคราะห์!$AB$7:$AB$56,"0")*100/$B$16)
B23: การอนุมัติผลการเรียน
E24: ลงชื่อ | L24: ครูผู้สอน
E25: ลงชื่อ | L25: หัวหน้ากลุ่มสาระการเรียนรู้
F26: =IF(Home!C16="","","("&Home!C16&")") -> (นายคมลิขิต นามไว)
E27: =IF(Home!C17="","","ลงชื่อ") -> ลงชื่อ | L27: =IF(Home!F17="","",Home!F17) -> หัวหน้างานวิชาการ
F28: =IF(Home!C17="","","("&Home!C17&")") -> (นางสาวอรัญญา บรรณกิจ)
B29: เรียนเสนอ เพื่อโปรดพิจารณา
E30: =IF(Home!C18="","","ลงชื่อ") | L30: =IF(Home!F18="","",Home!F18)
E31: =IF(Home!C18="","","("&Home!C18&")")
B32: o | C32: อนุมัติ | D32: o | E32: ไม่อนุมัติ | G32: ลงชื่อ
H33: =IF(Home!C19="","","("&Home!C19&")") -> (นางบุษราคัม อุตคะวาปี)
E34: =IF(Home!C19="","",Home!F19&"โรงเรียน"&Home!C3) -> ผู้อำนวยการโรงเรียนบ้านม่วง
G35: วันที่ | H35: =" "&Home!F7&" " -> 31 | I35: เดือน | J35: =Home!F8&" " -> มีนาคม | M35: พ.ศ. | N35: =Home!F9&" " -> 2567

Sheet เวลาเรียน_ป
H1: ควรใช้ปุ่ม TAB หรือ ปุ่มลูกศร 4 ทิศทางบนแป้นพิมพ์ ในการเลื่อนไปช่องทางซ้าย ขวา หรือขึ้น-ลง | LX1: =COUNT(G6:LW6) -> 40
B2: เลขที่ | C2: เลขประจำตัว | D2: เลขประจำตัวประชาชน | E2: ชื่อ - สกุล | F2: สัปดาห์ | G2: 1 | N2: 2 | U2: 3 | AB2: 4 | AI2: 5 | AP2: 6 | AW2: 7 | BD2: 8 | BK2: 9 | BR2: 10 | BY2: 11 | CF2: 12 | CM2: 13 | CT2: 14 | DA2: 15 | DH2: 16 | DO2: 17 | DV2: 18 | EC2: 19 | EJ2: 20 | EQ2: 21 | EX2: 22 | FE2: 23 | FL2: 24 | FS2: 25 | FZ2: 26 | GG2: 27 | GN2: 28 | GU2: 29 | HB2: 30 | HI2: 31 | HP2: 32 | HW2: 33 | ID2: 34 | IK2: 35 | IR2: 36 | IY2: 37 | JF2: 38 | JM2: 39 | JT2: 40 | KA2: 41 | KH2: 42 | KO2: 43 | KV2: 44 | LC2: 45 | LJ2: 46 | LQ2: 47 | LX2: เวลาเรียนเต็ม | LY2: สรุปเวลาเรียน | MC2: หมายเหตุ
F3: เดือน | G3: พ.ค. | N3: พ.ค. | U3: มิ.ย. | AB3: มิ.ย. | AI3: มิ.ย. | AP3: มิ.ย. | AW3: มิ.ย. | BD3: มิ.ย. | BK3: ก.ค. | BR3: ก.ค. | BY3: ก.ค. | CF3: ก.ค. | CM3: ส.ค. | CT3: ส.ค. | DA3: ส.ค. | DH3: ส.ค. | DO3: ส.ค. | DV3: ก.ย. | EC3: ก.ย. | EJ3: ก.ย. | EQ3: ก.ย. | EX3: ต.ค. | FE3: พ.ย. | FL3: พ.ย. | FS3: พ.ย. | FZ3: พ.ย. | GG3: ธ.ค. | GN3: ธ.ค. | GU3: ธ.ค. | HB3: ธ.ค. | HI3: ม.ค. | HP3: ม.ค. | HW3: ม.ค. | ID3: ม.ค. | IK3: ก.พ. | IR3: ก.พ. | IY3: ก.พ. | JF3: ก.พ. | JM3: มี.ค. | JT3: มี.ค. | KA3: มี.ค. | KH3: มี.ค. | LX3: =COUNT(G6:LW6)&" "&"ชม." -> 40 ชม.
F4: วัน | G4: อา | H4: จ | I4: อ | J4: พ | K4: พฤ | L4: ศ | M4: ส | N4: อา | O4: จ | P4: อ | Q4: พ | R4: พฤ | S4: ศ | T4: ส | U4: อา | V4: จ | W4: อ | X4: พ | Y4: พฤ | Z4: ศ | AA4: ส | AB4: อา | AC4: จ | AD4: อ | AE4: พ | AF4: พฤ | AG4: ศ | AH4: ส | AI4: อา | AJ4: จ | AK4: อ | AL4: พ | AM4: พฤ | AN4: ศ | AO4: ส | AP4: อา | AQ4: จ | AR4: อ | AS4: พ | AT4: พฤ | AU4: ศ | AV4: ส | AW4: อา | AX4: จ | AY4: อ | AZ4: พ | BA4: พฤ | BB4: ศ | BC4: ส | BD4: อา | BE4: จ | BF4: อ | BG4: พ | BH4: พฤ | BI4: ศ | BJ4: ส | BK4: อา | BL4: จ | BM4: อ | BN4: พ | BO4: พฤ | BP4: ศ | BQ4: ส | BR4: อา | BS4: จ | BT4: อ | BU4: พ | BV4: พฤ | BW4: ศ | BX4: ส | BY4: อา | BZ4: จ | CA4: อ | CB4: พ | CC4: พฤ | CD4: ศ | CE4: ส | CF4: อา | CG4: จ | CH4: อ | CI4: พ | CJ4: พฤ | CK4: ศ | CL4: ส | CM4: อา | CN4: จ | CO4: อ | CP4: พ | CQ4: พฤ | CR4: ศ | CS4: ส | CT4: อา | CU4: จ | CV4: อ | CW4: พ | CX4: พฤ | CY4: ศ | CZ4: ส | DA4: อา | DB4: จ | DC4: อ | DD4: พ | DE4: พฤ | DF4: ศ | DG4: ส | DH4: อา | DI4: จ | DJ4: อ | DK4: พ | DL4: พฤ | DM4: ศ | DN4: ส | DO4: อา | DP4: จ | DQ4: อ | DR4: พ | DS4: พฤ | DT4: ศ | DU4: ส | DV4: อา | DW4: จ | DX4: อ | DY4: พ | DZ4: พฤ | EA4: ศ | EB4: ส | EC4: อา | ED4: จ | EE4: อ | EF4: พ | EG4: พฤ | EH4: ศ | EI4: ส | EJ4: อา | EK4: จ | EL4: อ | EM4: พ | EN4: พฤ | EO4: ศ | EP4: ส | EQ4: อา | ER4: จ | ES4: อ | ET4: พ | EU4: พฤ | EV4: ศ | EW4: ส | EX4: อา | EY4: จ | EZ4: อ | FA4: พ | FB4: พฤ | FC4: ศ | FD4: ส | FE4: อา | FF4: จ | FG4: อ | FH4: พ | FI4: พฤ | FJ4: ศ | FK4: ส | FL4: อา | FM4: จ | FN4: อ | FO4: พ | FP4: พฤ | FQ4: ศ | FR4: ส | FS4: อา | FT4: จ | FU4: อ | FV4: พ | FW4: พฤ | FX4: ศ | FY4: ส | FZ4: อา | GA4: จ | GB4: อ | GC4: พ | GD4: พฤ | GE4: ศ | GF4: ส | GG4: อา | GH4: จ | GI4: อ | GJ4: พ | GK4: พฤ | GL4: ศ | GM4: ส | GN4: อา | GO4: จ | GP4: อ | GQ4: พ | GR4: พฤ | GS4: ศ | GT4: ส | GU4: อา | GV4: จ | GW4: อ | GX4: พ | GY4: พฤ | GZ4: ศ | HA4: ส | HB4: อา | HC4: จ | HD4: อ | HE4: พ | HF4: พฤ | HG4: ศ | HH4: ส | HI4: อา | HJ4: จ | HK4: อ | HL4: พ | HM4: พฤ | HN4: ศ | HO4: ส | HP4: อา | HQ4: จ | HR4: อ | HS4: พ | HT4: พฤ | HU4: ศ | HV4: ส | HW4: อา | HX4: จ | HY4: อ | HZ4: พ | IA4: พฤ | IB4: ศ | IC4: ส | ID4: อา | IE4: จ | IF4: อ | IG4: พ | IH4: พฤ | II4: ศ | IJ4: ส | IK4: อา | IL4: จ | IM4: อ | IN4: พ | IO4: พฤ | IP4: ศ | IQ4: ส | IR4: อา | IS4: จ | IT4: อ | IU4: พ | IV4: พฤ | IW4: ศ | IX4: ส | IY4: อา | IZ4: จ | JA4: อ | JB4: พ | JC4: พฤ | JD4: ศ | JE4: ส | JF4: อา | JG4: จ | JH4: อ | JI4: พ | JJ4: พฤ | JK4: ศ | JL4: ส | JM4: อา | JN4: จ | JO4: อ | JP4: พ | JQ4: พฤ | JR4: ศ | JS4: ส | JT4: อา | JU4: จ | JV4: อ | JW4: พ | JX4: พฤ | JY4: ศ | JZ4: ส | KA4: อา | KB4: จ | KC4: อ | KD4: พ | KE4: พฤ | KF4: ศ | KG4: ส | KH4: อา | KI4: จ | KJ4: อ | KK4: พ | KL4: พฤ | KM4: ศ | KN4: ส | KO4: อา | KP4: จ | KQ4: อ | KR4: พ | KS4: พฤ | KT4: ศ | KU4: ส | LX4: มาเรียน | LY4: ป่วย | LZ4: ลา | MA4: ขาด | MB4: ร้อยละ ที่มาเรียน
F5: วันที่ | K5: 18 | R5: 25 | Y5: 1 | AF5: 1 | AM5: 8 | AT5: 15 | BA5: 22 | BH5: 29 | BO5: 6 | BV5: 13 | CC5: 20 | CJ5: 27 | CQ5: 3 | CX5: 10 | DE5: 17 | DL5: 24 | DS5: 31 | DZ5: 7 | EG5: 14 | EN5: 21 | EU5: 28 | FB5: 5 | FI5: 2 | FP5: 9 | FW5: 23 | GD5: 30 | GK5: 7 | GR5: 14 | GY5: 21 | HF5: 28 | HM5: 4 | HT5: 11 | IA5: 18 | IH5: 25 | IO5: 1 | IV5: 8 | JC5: 15 | JJ5: 22 | JQ5: 7 | JX5: 14
F6: ชั่วโมงที่ | K6: 1 | R6: 2 | Y6: 3 | AF6: 4 | AM6: 5 | AT6: 6 | BA6: 7 | BH6: 8 | BO6: 9 | BV6: 10 | CC6: 11 | CJ6: 12 | CQ6: 13 | CX6: 14 | DE6: 15 | DL6: 16 | DS6: 17 | DZ6: 18 | EG6: 19 | EN6: 20 | EU6: 21 | FB6: 22 | FI6: 23 | FP6: 24 | FW6: 25 | GD6: 26 | GK6: 27 | GR6: 18 | GY6: 29 | HF6: 30 | HM6: 31 | HT6: 32 | IA6: 33 | IH6: 34 | IO6: 35 | IV6: 36 | JC6: 37 | JJ6: 38 | JQ6: 39 | JX6: 40
B7: 1 | C7: =IF(นักเรียน!C6="","",นักเรียน!C6) -> 1526 | D7: =IF(นักเรียน!D6="","",นักเรียน!D6) -> 1430800119384 | E7: =IF(นักเรียน!E6="","",นักเรียน!E6) -> เด็กชายจิรทีปต์ พวงมาลา | F7: =IF(นักเรียน!E6="","",นักเรียน!B6) -> 1 | K7: / | R7: / | Y7: / | AF7: / | AM7: / | AT7: / | BA7: / | BH7: / | BO7: / | BV7: / | CC7: / | CJ7: ข | CQ7: / | CX7: / | DE7: / | DL7: / | DS7: / | DZ7: / | EG7: / | EN7: / | EU7: / | FB7: / | FI7: / | FP7: / | FW7: / | GD7: / | GK7: / | GR7: / | GY7: / | HF7: / | HM7: / | HT7: / | IA7: / | IH7: / | IO7: / | IV7: / | JC7: / | JJ7: / | JQ7: / | JX7: / | LX7: =IF(COUNTIF($G7:$LW7," /"),COUNTIF($G7:$LW7," /"),"") -> 39 | LY7: =IF(COUNTIF($G7:$LW7,"ป"),COUNTIF($G7:$LW7,"ป"),"") | LZ7: =IF(COUNTIF($G7:$LW7,"ล"),COUNTIF($G7:$LW7,"ล"),"") | MA7: =IF(COUNTIF($G7:$LW7,"ข"),COUNTIF($G7:$LW7,"ข"),"") -> 1 | MB7: =IF(LX7="","",LX7*100/COUNT($G$6:$LW$6)) -> 97.5
B8: 2 | C8: =IF(นักเรียน!C7="","",นักเรียน!C7) -> 1527 | D8: =IF(นักเรียน!D7="","",นักเรียน!D7) -> 1439600135104 | E8: =IF(นักเรียน!E7="","",นักเรียน!E7) -> เด็กชายพีระศิลป์ นรสิงห์ | F8: =IF(นักเรียน!E7="","",นักเรียน!B7) -> 2 | K8: / | R8: / | Y8: / | AF8: / | AM8: / | AT8: / | BA8: / | BH8: / | BO8: / | BV8: / | CC8: / | CJ8: / | CQ8: / | CX8: / | DE8: / | DL8: / | DS8: / | DZ8: / | EG8: / | EN8: / | EU8: / | FB8: / | FI8: / | FP8: / | FW8: / | GD8: / | GK8: / | GR8: / | GY8: / | HF8: / | HM8: / | HT8: / | IA8: / | IH8: / | IO8: / | IV8: / | JC8: / | JJ8: / | JQ8: / | JX8: / | LX8: =IF(COUNTIF($G8:$LW8," /"),COUNTIF($G8:$LW8," /"),"") -> 40 | LY8: =IF(COUNTIF($G8:$LW8,"ป"),COUNTIF($G8:$LW8,"ป"),"") | LZ8: =IF(COUNTIF($G8:$LW8,"ล"),COUNTIF($G8:$LW8,"ล"),"") | MA8: =IF(COUNTIF($G8:$LW8,"ข"),COUNTIF($G8:$LW8,"ข"),"") | MB8: =IF(LX8="","",LX8*100/COUNT($G$6:$LW$6)) -> 100
B9: 3 | C9: =IF(นักเรียน!C8="","",นักเรียน!C8) -> 1528 | D9: =IF(นักเรียน!D8="","",นักเรียน!D8) -> 1439600135198 | E9: =IF(นักเรียน!E8="","",นักเรียน!E8) -> เด็กชายภูผา เศษจำปา | F9: =IF(นักเรียน!E8="","",นักเรียน!B8) -> 3 | K9: / | R9: / | Y9: / | AF9: / | AM9: ข | AT9: / | BA9: / | BH9: / | BO9: / | BV9: / | CC9: / | CJ9: / | CQ9: / | CX9: / | DE9: / | DL9: / | DS9: / | DZ9: / | EG9: / | EN9: / | EU9: / | FB9: / | FI9: / | FP9: / | FW9: / | GD9: / | GK9: / | GR9: / | GY9: / | HF9: / | HM9: / | HT9: / | IA9: / | IH9: / | IO9: / | IV9: / | JC9: / | JJ9: / | JQ9: / | JX9: / | LX9: =IF(COUNTIF($G9:$LW9," /"),COUNTIF($G9:$LW9," /"),"") -> 39 | LY9: =IF(COUNTIF($G9:$LW9,"ป"),COUNTIF($G9:$LW9,"ป"),"") | LZ9: =IF(COUNTIF($G9:$LW9,"ล"),COUNTIF($G9:$LW9,"ล"),"") | MA9: =IF(COUNTIF($G9:$LW9,"ข"),COUNTIF($G9:$LW9,"ข"),"") -> 1 | MB9: =IF(LX9="","",LX9*100/COUNT($G$6:$LW$6)) -> 97.5
B10: 4 | C10: =IF(นักเรียน!C9="","",นักเรียน!C9) -> 1529 | D10: =IF(นักเรียน!D9="","",นักเรียน!D9) -> 1430800119295 | E10: =IF(นักเรียน!E9="","",นักเรียน!E9) -> เด็กชายภูมิพันธ์ สมพงษ์ | F10: =IF(นักเรียน!E9="","",นักเรียน!B9) -> 4 | K10: / | R10: / | Y10: / | AF10: / | AM10: / | AT10: / | BA10: / | BH10: / | BO10: / | BV10: / | CC10: / | CJ10: / | CQ10: / | CX10: / | DE10: / | DL10: / | DS10: / | DZ10: / | EG10: / | EN10: / | EU10: / | FB10: / | FI10: / | FP10: / | FW10: / | GD10: / | GK10: / | GR10: / | GY10: / | HF10: / | HM10: / | HT10: / | IA10: / | IH10: / | IO10: / | IV10: / | JC10: / | JJ10: / | JQ10: / | JX10: / | LX10: =IF(COUNTIF($G10:$LW10," /"),COUNTIF($G10:$LW10," /"),"") -> 40 | LY10: =IF(COUNTIF($G10:$LW10,"ป"),COUNTIF($G10:$LW10,"ป"),"") | LZ10: =IF(COUNTIF($G10:$LW10,"ล"),COUNTIF($G10:$LW10,"ล"),"") | MA10: =IF(COUNTIF($G10:$LW10,"ข"),COUNTIF($G10:$LW10,"ข"),"") | MB10: =IF(LX10="","",LX10*100/COUNT($G$6:$LW$6)) -> 100
B11: 5 | C11: =IF(นักเรียน!C10="","",นักเรียน!C10) -> 1530 | D11: =IF(นักเรียน!D10="","",นักเรียน!D10) -> 1439600134035 | E11: =IF(นักเรียน!E10="","",นักเรียน!E10) -> เด็กชายอดุลยวัฒน์ สอนนาง | F11: =IF(นักเรียน!E10="","",นักเรียน!B10) -> 5 | K11: / | R11: / | Y11: / | AF11: / | AM11: / | AT11: / | BA11: / | BH11: / | BO11: / | BV11: / | CC11: / | CJ11: / | CQ11: / | CX11: / | DE11: / | DL11: / | DS11: / | DZ11: / | EG11: / | EN11: / | EU11: / | FB11: / | FI11: / | FP11: / | FW11: / | GD11: / | GK11: / | GR11: / | GY11: / | HF11: / | HM11: / | HT11: / | IA11: / | IH11: / | IO11: / | IV11: / | JC11: / | JJ11: / | JQ11: / | JX11: / | LX11: =IF(COUNTIF($G11:$LW11," /"),COUNTIF($G11:$LW11," /"),"") -> 40 | LY11: =IF(COUNTIF($G11:$LW11,"ป"),COUNTIF($G11:$LW11,"ป"),"") | LZ11: =IF(COUNTIF($G11:$LW11,"ล"),COUNTIF($G11:$LW11,"ล"),"") | MA11: =IF(COUNTIF($G11:$LW11,"ข"),COUNTIF($G11:$LW11,"ข"),"") | MB11: =IF(LX11="","",LX11*100/COUNT($G$6:$LW$6)) -> 100
B12: 6 | C12: =IF(นักเรียน!C11="","",นักเรียน!C11) -> 1536 | D12: =IF(นักเรียน!D11="","",นักเรียน!D11) -> 1439600139363 | E12: =IF(นักเรียน!E11="","",นักเรียน!E11) -> เด็กชายชวัลวิทย์ อ่างมัจฉา | F12: =IF(นักเรียน!E11="","",นักเรียน!B11) -> 6 | K12: / | R12: / | Y12: / | AF12: / | AM12: / | AT12: / | BA12: / | BH12: / | BO12: / | BV12: / | CC12: / | CJ12: / | CQ12: / | CX12: / | DE12: / | DL12: / | DS12: / | DZ12: / | EG12: / | EN12: / | EU12: / | FB12: / | FI12: / | FP12: / | FW12: / | GD12: / | GK12: / | GR12: / | GY12: / | HF12: / | HM12: / | HT12: / | IA12: / | IH12: / | IO12: / | IV12: / | JC12: / | JJ12: / | JQ12: / | JX12: / | LX12: =IF(COUNTIF($G12:$LW12," /"),COUNTIF($G12:$LW12," /"),"") -> 40 | LY12: =IF(COUNTIF($G12:$LW12,"ป"),COUNTIF($G12:$LW12,"ป"),"") | LZ12: =IF(COUNTIF($G12:$LW12,"ล"),COUNTIF($G12:$LW12,"ล"),"") | MA12: =IF(COUNTIF($G12:$LW12,"ข"),COUNTIF($G12:$LW12,"ข"),"") | MB12: =IF(LX12="","",LX12*100/COUNT($G$6:$LW$6)) -> 100
B13: 7 | C13: =IF(นักเรียน!C12="","",นักเรียน!C12) -> 1545 | D13: =IF(นักเรียน!D12="","",นักเรียน!D12) -> 1629900982226 | E13: =IF(นักเรียน!E12="","",นักเรียน!E12) -> เด็กชายศักดิ์ดา จันทะวงค์ | F13: =IF(นักเรียน!E12="","",นักเรียน!B12) -> 7 | K13: / | R13: / | Y13: / | AF13: / | AM13: / | AT13: / | BA13: / | BH13: / | BO13: / | BV13: ข | CC13: / | CJ13: / | CQ13: / | CX13: / | DE13: / | DL13: / | DS13: / | DZ13: / | EG13: / | EN13: / | EU13: / | FB13: / | FI13: / | FP13: / | FW13: / | GD13: / | GK13: / | GR13: / | GY13: / | HF13: / | HM13: / | HT13: / | IA13: / | IH13: / | IO13: / | IV13: / | JC13: / | JJ13: / | JQ13: / | JX13: / | LX13: =IF(COUNTIF($G13:$LW13," /"),COUNTIF($G13:$LW13," /"),"") -> 39 | LY13: =IF(COUNTIF($G13:$LW13,"ป"),COUNTIF($G13:$LW13,"ป"),"") | LZ13: =IF(COUNTIF($G13:$LW13,"ล"),COUNTIF($G13:$LW13,"ล"),"") | MA13: =IF(COUNTIF($G13:$LW13,"ข"),COUNTIF($G13:$LW13,"ข"),"") -> 1 | MB13: =IF(LX13="","",LX13*100/COUNT($G$6:$LW$6)) -> 97.5
B14: 8 | C14: =IF(นักเรียน!C13="","",นักเรียน!C13) -> 1616 | D14: =IF(นักเรียน!D13="","",นักเรียน!D13) -> G624100000761 | E14: =IF(นักเรียน!E13="","",นักเรียน!E13) -> เด็กชายแจ็คกี้ ระถิกา | F14: =IF(นักเรียน!E13="","",นักเรียน!B13) -> 8 | K14: / | R14: / | Y14: / | AF14: / | AM14: / | AT14: / | BA14: / | BH14: / | BO14: / | BV14: / | CC14: / | CJ14: / | CQ14: / | CX14: / | DE14: / | DL14: / | DS14: / | DZ14: / | EG14: / | EN14: / | EU14: / | FB14: / | FI14: / | FP14: / | FW14: / | GD14: / | GK14: / | GR14: / | GY14: / | HF14: / | HM14: / | HT14: / | IA14: / | IH14: / | IO14: / | IV14: / | JC14: / | JJ14: / | JQ14: / | JX14: / | LX14: =IF(COUNTIF($G14:$LW14," /"),COUNTIF($G14:$LW14," /"),"") -> 40 | LY14: =IF(COUNTIF($G14:$LW14,"ป"),COUNTIF($G14:$LW14,"ป"),"") | LZ14: =IF(COUNTIF($G14:$LW14,"ล"),COUNTIF($G14:$LW14,"ล"),"") | MA14: =IF(COUNTIF($G14:$LW14,"ข"),COUNTIF($G14:$LW14,"ข"),"") | MB14: =IF(LX14="","",LX14*100/COUNT($G$6:$LW$6)) -> 100
B15: 9 | C15: =IF(นักเรียน!C14="","",นักเรียน!C14) -> 1531 | D15: =IF(นักเรียน!D14="","",นักเรียน!D14) -> 1439600140302 | E15: =IF(นักเรียน!E14="","",นักเรียน!E14) -> เด็กหญิงธิราวัลย์ อ่อนตามา | F15: =IF(นักเรียน!E14="","",นักเรียน!B14) -> 9 | K15: / | R15: / | Y15: / | AF15: / | AM15: / | AT15: / | BA15: / | BH15: / | BO15: / | BV15: / | CC15: / | CJ15: ข | CQ15: / | CX15: / | DE15: / | DL15: / | DS15: / | DZ15: / | EG15: / | EN15: / | EU15: / | FB15: / | FI15: / | FP15: / | FW15: / | GD15: / | GK15: / | GR15: / | GY15: / | HF15: / | HM15: / | HT15: / | IA15: / | IH15: / | IO15: / | IV15: / | JC15: / | JJ15: / | JQ15: / | JX15: / | LX15: =IF(COUNTIF($G15:$LW15," /"),COUNTIF($G15:$LW15," /"),"") -> 39 | LY15: =IF(COUNTIF($G15:$LW15,"ป"),COUNTIF($G15:$LW15,"ป"),"") | LZ15: =IF(COUNTIF($G15:$LW15,"ล"),COUNTIF($G15:$LW15,"ล"),"") | MA15: =IF(COUNTIF($G15:$LW15,"ข"),COUNTIF($G15:$LW15,"ข"),"") -> 1 | MB15: =IF(LX15="","",LX15*100/COUNT($G$6:$LW$6)) -> 97.5
B16: 10 | C16: =IF(นักเรียน!C15="","",นักเรียน!C15) -> 1532 | D16: =IF(นักเรียน!D15="","",นักเรียน!D15) -> 1419902904909 | E16: =IF(นักเรียน!E15="","",นักเรียน!E15) -> เด็กหญิงนงนภัส ติยะภา | F16: =IF(นักเรียน!E15="","",นักเรียน!B15) -> 10 | K16: / | R16: / | Y16: / | AF16: / | AM16: / | AT16: / | BA16: / | BH16: / | BO16: / | BV16: / | CC16: / | CJ16: / | CQ16: / | CX16: / | DE16: / | DL16: / | DS16: / | DZ16: / | EG16: / | EN16: / | EU16: / | FB16: / | FI16: / | FP16: / | FW16: / | GD16: / | GK16: / | GR16: / | GY16: / | HF16: / | HM16: / | HT16: / | IA16: / | IH16: / | IO16: / | IV16: / | JC16: / | JJ16: / | JQ16: / | JX16: / | LX16: =IF(COUNTIF($G16:$LW16," /"),COUNTIF($G16:$LW16," /"),"") -> 40 | LY16: =IF(COUNTIF($G16:$LW16,"ป"),COUNTIF($G16:$LW16,"ป"),"") | LZ16: =IF(COUNTIF($G16:$LW16,"ล"),COUNTIF($G16:$LW16,"ล"),"") | MA16: =IF(COUNTIF($G16:$LW16,"ข"),COUNTIF($G16:$LW16,"ข"),"") | MB16: =IF(LX16="","",LX16*100/COUNT($G$6:$LW$6)) -> 100
B17: 11 | C17: =IF(นักเรียน!C16="","",นักเรียน!C16) -> 1533 | D17: =IF(นักเรียน!D16="","",นักเรียน!D16) -> 1439600133896 | E17: =IF(นักเรียน!E16="","",นักเรียน!E16) -> เด็กหญิงปรารถณา แสนรินทร์ | F17: =IF(นักเรียน!E16="","",นักเรียน!B16) -> 11 | K17: / | R17: / | Y17: / | AF17: ข | AM17: / | AT17: ข | BA17: / | BH17: / | BO17: / | BV17: / | CC17: / | CJ17: / | CQ17: / | CX17: / | DE17: / | DL17: / | DS17: / | DZ17: / | EG17: / | EN17: / | EU17: / | FB17: / | FI17: / | FP17: / | FW17: / | GD17: / | GK17: / | GR17: / | GY17: / | HF17: / | HM17: / | HT17: / | IA17: / | IH17: / | IO17: / | IV17: / | JC17: / | JJ17: / | JQ17: / | JX17: / | LX17: =IF(COUNTIF($G17:$LW17," /"),COUNTIF($G17:$LW17," /"),"") -> 38 | LY17: =IF(COUNTIF($G17:$LW17,"ป"),COUNTIF($G17:$LW17,"ป"),"") | LZ17: =IF(COUNTIF($G17:$LW17,"ล"),COUNTIF($G17:$LW17,"ล"),"") | MA17: =IF(COUNTIF($G17:$LW17,"ข"),COUNTIF($G17:$LW17,"ข"),"") -> 2 | MB17: =IF(LX17="","",LX17*100/COUNT($G$6:$LW$6)) -> 95
B18: 12 | C18: =IF(นักเรียน!C17="","",นักเรียน!C17) -> 1538 | D18: =IF(นักเรียน!D17="","",นักเรียน!D17) -> 1508700133896 | E18: =IF(นักเรียน!E17="","",นักเรียน!E17) -> เด็กหญิงอุษามณี อินทะพิมพ์ | F18: =IF(นักเรียน!E17="","",นักเรียน!B17) -> 12 | K18: / | R18: / | Y18: / | AF18: / | AM18: / | AT18: / | BA18: / | BH18: / | BO18: / | BV18: / | CC18: / | CJ18: / | CQ18: / | CX18: / | DE18: / | DL18: / | DS18: / | DZ18: / | EG18: / | EN18: / | EU18: / | FB18: / | FI18: / | FP18: / | FW18: / | GD18: / | GK18: / | GR18: / | GY18: / | HF18: / | HM18: / | HT18: / | IA18: / | IH18: / | IO18: / | IV18: / | JC18: / | JJ18: / | JQ18: / | JX18: / | LX18: =IF(COUNTIF($G18:$LW18," /"),COUNTIF($G18:$LW18," /"),"") -> 40 | LY18: =IF(COUNTIF($G18:$LW18,"ป"),COUNTIF($G18:$LW18,"ป"),"") | LZ18: =IF(COUNTIF($G18:$LW18,"ล"),COUNTIF($G18:$LW18,"ล"),"") | MA18: =IF(COUNTIF($G18:$LW18,"ข"),COUNTIF($G18:$LW18,"ข"),"") | MB18: =IF(LX18="","",LX18*100/COUNT($G$6:$LW$6)) -> 100
... B26: 20 | C26: =IF(นักเรียน!C25="","",นักเรียน!C25) -> 628 | D26: =IF(นักเรียน!D25="","",นักเรียน!D25) -> 1419902915749 | E26: =IF(นักเรียน!E25="","",นักเรียน!E25) -> เด็กหญิงณัฐชา มาตรรักษ์ | F26: =IF(นักเรียน!E25="","",นักเรียน!B25) -> 20 | K26: / | R26: / | Y26: / | AF26: / | AM26: / | AT26: / | BA26: / | BH26: / | BO26: / | BV26: ข | CC26: / | CJ26: / | CQ26: / | CX26: / | DE26: / | DL26: / | DS26: / | DZ26: / | EG26: / | EN26: / | EU26: / | FB26: / | FI26: / | FP26: / | FW26: / | GD26: / | GK26: / | GR26: / | GY26: / | HF26: / | HM26: / | HT26: / | IA26: / | IH26: / | IO26: / | IV26: / | JC26: / | JJ26: / | JQ26: / | JX26: / | LX26: =IF(COUNTIF($G26:$LW26," /"),COUNTIF($G26:$LW26," /"),"") -> 39 | LY26: =IF(COUNTIF($G26:$LW26,"ป"),COUNTIF($G26:$LW26,"ป"),"") | LZ26: =IF(COUNTIF($G26:$LW26,"ล"),COUNTIF($G26:$LW26,"ล"),"") | MA26: =IF(COUNTIF($G26:$LW26,"ข"),COUNTIF($G26:$LW26,"ข"),"") -> 1 | MB26: =IF(LX26="","",LX26*100/COUNT($G$6:$LW$6)) -> 97.5
B27: 21 | C27: =IF(นักเรียน!C26="","",นักเรียน!C26) | D27: =IF(นักเรียน!D26="","",นักเรียน!D26) | E27: =IF(นักเรียน!E26="","",นักเรียน!E26) | F27: =IF(นักเรียน!E26="","",นักเรียน!B26) | LX27: =IF(COUNTIF($G27:$LW27," /"),COUNTIF($G27:$LW27," /"),"") | LY27: =IF(COUNTIF($G27:$LW27,"ป"),COUNTIF($G27:$LW27,"ป"),"") | LZ27: =IF(COUNTIF($G27:$LW27,"ล"),COUNTIF($G27:$LW27,"ล"),"") | MA27: =IF(COUNTIF($G27:$LW27,"ข"),COUNTIF($G27:$LW27,"ข"),"") | MB27: =IF(LX27="","",LX27*100/COUNT($G$6:$LW$6))
B28: 22 | C28: =IF(นักเรียน!C27="","",นักเรียน!C27) | D28: =IF(นักเรียน!D27="","",นักเรียน!D27) | E28: =IF(นักเรียน!E27="","",นักเรียน!E27) | F28: =IF(นักเรียน!E27="","",นักเรียน!B27) | LX28: =IF(COUNTIF($G28:$LW28," /"),COUNTIF($G28:$LW28," /"),"") | LY28: =IF(COUNTIF($G28:$LW28,"ป"),COUNTIF($G28:$LW28,"ป"),"") | LZ28: =IF(COUNTIF($G28:$LW28,"ล"),COUNTIF($G28:$LW28,"ล"),"") | MA28: =IF(COUNTIF($G28:$LW28,"ข"),COUNTIF($G28:$LW28,"ข"),"") | MB28: =IF(LX28="","",LX28*100/COUNT($G$6:$LW$6))
B29: 23 | C29: =IF(นักเรียน!C28="","",นักเรียน!C28) | D29: =IF(นักเรียน!D28="","",นักเรียน!D28) | E29: =IF(นักเรียน!E28="","",นักเรียน!E28) | F29: =IF(นักเรียน!E28="","",นักเรียน!B28) | LX29: =IF(COUNTIF($G29:$LW29," /"),COUNTIF($G29:$LW29," /"),"") | LY29: =IF(COUNTIF($G29:$LW29,"ป"),COUNTIF($G29:$LW29,"ป"),"") | LZ29: =IF(COUNTIF($G29:$LW29,"ล"),COUNTIF($G29:$LW29,"ล"),"") | MA29: =IF(COUNTIF($G29:$LW29,"ข"),COUNTIF($G29:$LW29,"ข"),"") | MB29: =IF(LX29="","",LX29*100/COUNT($G$6:$LW$6))
B30: 24 | C30: =IF(นักเรียน!C29="","",นักเรียน!C29) | D30: =IF(นักเรียน!D29="","",นักเรียน!D29) | E30: =IF(นักเรียน!E29="","",นักเรียน!E29) | F30: =IF(นักเรียน!E29="","",นักเรียน!B29) | LX30: =IF(COUNTIF($G30:$LW30," /"),COUNTIF($G30:$LW30," /"),"") | LY30: =IF(COUNTIF($G30:$LW30,"ป"),COUNTIF($G30:$LW30,"ป"),"") | LZ30: =IF(COUNTIF($G30:$LW30,"ล"),COUNTIF($G30:$LW30,"ล"),"") | MA30: =IF(COUNTIF($G30:$LW30,"ข"),COUNTIF($G30:$LW30,"ข"),"") | MB30: =IF(LX30="","",LX30*100/COUNT($G$6:$LW$6))
B31: 25 | C31: =IF(นักเรียน!C30="","",นักเรียน!C30) | D31: =IF(นักเรียน!D30="","",นักเรียน!D30) | E31: =IF(นักเรียน!E30="","",นักเรียน!E30) | F31: =IF(นักเรียน!E30="","",นักเรียน!B30) | LX31: =IF(COUNTIF($G31:$LW31," /"),COUNTIF($G31:$LW31," /"),"") | LY31: =IF(COUNTIF($G31:$LW31,"ป"),COUNTIF($G31:$LW31,"ป"),"") | LZ31: =IF(COUNTIF($G31:$LW31,"ล"),COUNTIF($G31:$LW31,"ล"),"") | MA31: =IF(COUNTIF($G31:$LW31,"ข"),COUNTIF($G31:$LW31,"ข"),"") | MB31: =IF(LX31="","",LX31*100/COUNT($G$6:$LW$6))
B32: 26 | C32: =IF(นักเรียน!C31="","",นักเรียน!C31) | D32: =IF(นักเรียน!D31="","",นักเรียน!D31) | E32: =IF(นักเรียน!E31="","",นักเรียน!E31) | F32: =IF(นักเรียน!E31="","",นักเรียน!B31) | LX32: =IF(COUNTIF($G32:$LW32," /"),COUNTIF($G32:$LW32," /"),"") | LY32: =IF(COUNTIF($G32:$LW32,"ป"),COUNTIF($G32:$LW32,"ป"),"") | LZ32: =IF(COUNTIF($G32:$LW32,"ล"),COUNTIF($G32:$LW32,"ล"),"") | MA32: =IF(COUNTIF($G32:$LW32,"ข"),COUNTIF($G32:$LW32,"ข"),"") | MB32: =IF(LX32="","",LX32*100/COUNT($G$6:$LW$6))
B33: 27 | C33: =IF(นักเรียน!C32="","",นักเรียน!C32) | D33: =IF(นักเรียน!D32="","",นักเรียน!D32) | E33: =IF(นักเรียน!E32="","",นักเรียน!E32) | F33: =IF(นักเรียน!E32="","",นักเรียน!B32) | LX33: =IF(COUNTIF($G33:$LW33," /"),COUNTIF($G33:$LW33," /"),"") | LY33: =IF(COUNTIF($G33:$LW33,"ป"),COUNTIF($G33:$LW33,"ป"),"") | LZ33: =IF(COUNTIF($G33:$LW33,"ล"),COUNTIF($G33:$LW33,"ล"),"") | MA33: =IF(COUNTIF($G33:$LW33,"ข"),COUNTIF($G33:$LW33,"ข"),"") | MB33: =IF(LX33="","",LX33*100/COUNT($G$6:$LW$6))
B34: 28 | C34: =IF(นักเรียน!C33="","",นักเรียน!C33) | D34: =IF(นักเรียน!D33="","",นักเรียน!D33) | E34: =IF(นักเรียน!E33="","",นักเรียน!E33) | F34: =IF(นักเรียน!E33="","",นักเรียน!B33) | LX34: =IF(COUNTIF($G34:$LW34," /"),COUNTIF($G34:$LW34," /"),"") | LY34: =IF(COUNTIF($G34:$LW34,"ป"),COUNTIF($G34:$LW34,"ป"),"") | LZ34: =IF(COUNTIF($G34:$LW34,"ล"),COUNTIF($G34:$LW34,"ล"),"") | MA34: =IF(COUNTIF($G34:$LW34,"ข"),COUNTIF($G34:$LW34,"ข"),"") | MB34: =IF(LX34="","",LX34*100/COUNT($G$6:$LW$6))
B35: 29 | C35: =IF(นักเรียน!C34="","",นักเรียน!C34) | D35: =IF(นักเรียน!D34="","",นักเรียน!D34) | E35: =IF(นักเรียน!E34="","",นักเรียน!E34) | F35: =IF(นักเรียน!E34="","",นักเรียน!B34) | LX35: =IF(COUNTIF($G35:$LW35," /"),COUNTIF($G35:$LW35," /"),"") | LY35: =IF(COUNTIF($G35:$LW35,"ป"),COUNTIF($G35:$LW35,"ป"),"") | LZ35: =IF(COUNTIF($G35:$LW35,"ล"),COUNTIF($G35:$LW35,"ล"),"") | MA35: =IF(COUNTIF($G35:$LW35,"ข"),COUNTIF($G35:$LW35,"ข"),"") | MB35: =IF(LX35="","",LX35*100/COUNT($G$6:$LW$6))
B36: 30 | C36: =IF(นักเรียน!C35="","",นักเรียน!C35) | D36: =IF(นักเรียน!D35="","",นักเรียน!D35) | E36: =IF(นักเรียน!E35="","",นักเรียน!E35) | F36: =IF(นักเรียน!E35="","",นักเรียน!B35) | LX36: =IF(COUNTIF($G36:$LW36," /"),COUNTIF($G36:$LW36," /"),"") | LY36: =IF(COUNTIF($G36:$LW36,"ป"),COUNTIF($G36:$LW36,"ป"),"") | LZ36: =IF(COUNTIF($G36:$LW36,"ล"),COUNTIF($G36:$LW36,"ล"),"") | MA36: =IF(COUNTIF($G36:$LW36,"ข"),COUNTIF($G36:$LW36,"ข"),"") | MB36: =IF(LX36="","",LX36*100/COUNT($G$6:$LW$6))
B37: 31 | C37: =IF(นักเรียน!C36="","",นักเรียน!C36) | D37: =IF(นักเรียน!D36="","",นักเรียน!D36) | E37: =IF(นักเรียน!E36="","",นักเรียน!E36) | F37: =IF(นักเรียน!E36="","",นักเรียน!B36) | LX37: =IF(COUNTIF($G37:$LW37," /"),COUNTIF($G37:$LW37," /"),"") | LY37: =IF(COUNTIF($G37:$LW37,"ป"),COUNTIF($G37:$LW37,"ป"),"") | LZ37: =IF(COUNTIF($G37:$LW37,"ล"),COUNTIF($G37:$LW37,"ล"),"") | MA37: =IF(COUNTIF($G37:$LW37,"ข"),COUNTIF($G37:$LW37,"ข"),"") | MB37: =IF(LX37="","",LX37*100/COUNT($G$6:$LW$6))
B38: 32 | C38: =IF(นักเรียน!C37="","",นักเรียน!C37) | D38: =IF(นักเรียน!D37="","",นักเรียน!D37) | E38: =IF(นักเรียน!E37="","",นักเรียน!E37) | F38: =IF(นักเรียน!E37="","",นักเรียน!B37) | LX38: =IF(COUNTIF($G38:$LW38," /"),COUNTIF($G38:$LW38," /"),"") | LY38: =IF(COUNTIF($G38:$LW38,"ป"),COUNTIF($G38:$LW38,"ป"),"") | LZ38: =IF(COUNTIF($G38:$LW38,"ล"),COUNTIF($G38:$LW38,"ล"),"") | MA38: =IF(COUNTIF($G38:$LW38,"ข"),COUNTIF($G38:$LW38,"ข"),"") | MB38: =IF(LX38="","",LX38*100/COUNT($G$6:$LW$6))
... B56: 50 | C56: =IF(นักเรียน!C55="","",นักเรียน!C55) | D56: =IF(นักเรียน!D55="","",นักเรียน!D55) | E56: =IF(นักเรียน!E55="","",นักเรียน!E55) | F56: =IF(นักเรียน!E55="","",นักเรียน!B55) | LX56: =IF(COUNTIF($G56:$LW56," /"),COUNTIF($G56:$LW56," /"),"") | LY56: =IF(COUNTIF($G56:$LW56,"ป"),COUNTIF($G56:$LW56,"ป"),"") | LZ56: =IF(COUNTIF($G56:$LW56,"ล"),COUNTIF($G56:$LW56,"ล"),"") | MA56: =IF(COUNTIF($G56:$LW56,"ข"),COUNTIF($G56:$LW56,"ข"),"") | MB56: =IF(LX56="","",LX56*100/COUNT($G$6:$LW$6))

Sheet เวลาเรียน_ม
H1: ควรใช้ปุ่ม TAB หรือ ปุ่มลูกศร 4 ทิศทางบนแป้นพิมพ์ ในการเลื่อนไปช่องทางซ้าย ขวา หรือขึ้น-ลง | FL1: =COUNT(G6:FK6) -> 0
B2: เลขที่ | C2: เลขประจำตัว | D2: เลขประจำตัวประชาชน | E2: ชื่อ - สกุล | F2: สัปดาห์ | G2: 1 | N2: 2 | U2: 3 | AB2: 4 | AI2: 5 | AP2: 6 | AW2: 7 | BD2: 8 | BK2: 9 | BR2: 10 | BY2: 11 | CF2: 12 | CM2: 13 | CT2: 14 | DA2: 15 | DH2: 16 | DO2: 17 | DV2: 18 | EC2: 19 | EJ2: 20 | EQ2: 21 | EX2: 22 | FE2: 23 | FL2: เวลาเรียนเต็ม | FM2: สรุปเวลาเรียน | FQ2: หมายเหตุ
F3: เดือน | G3: พ.ค. | N3: พ.ค./มิ.ย. | FL3: =COUNT(G6:FK6)&" "&"ชม." -> 0 ชม.
F4: วัน | G4: จ | H4: อ | I4: พ | J4: พฤ | K4: ศ | N4: จ | O4: อ | P4: พ | Q4: พฤ | R4: ศ | U4: จ | V4: อ | W4: พ | X4: พฤ | Y4: ศ | AB4: จ | AC4: อ | AD4: พ | AE4: พฤ | AF4: ศ | AI4: จ | AJ4: อ | AK4: พ | AL4: พฤ | AM4: ศ | AP4: จ | AQ4: อ | AR4: พ | AS4: พฤ | AT4: ศ | AW4: จ | AX4: อ | AY4: พ | AZ4: พฤ | BA4: ศ | BD4: จ | BE4: อ | BF4: พ | BG4: พฤ | BH4: ศ | BK4: จ | BL4: อ | BM4: พ | BN4: พฤ | BO4: ศ | BR4: จ | BS4: อ | BT4: พ | BU4: พฤ | BV4: ศ | BY4: จ | BZ4: อ | CA4: พ | CB4: พฤ | CC4: ศ | CF4: จ | CG4: อ | CH4: พ | CI4: พฤ | CJ4: ศ | CM4: จ | CN4: อ | CO4: พ | CP4: พฤ | CQ4: ศ | CT4: จ | CU4: อ | CV4: พ | CW4: พฤ | CX4: ศ | DA4: จ | DB4: อ | DC4: พ | DD4: พฤ | DE4: ศ | DH4: จ | DI4: อ | DJ4: พ | DK4: พฤ | DL4: ศ | DO4: จ | DP4: อ | DQ4: พ | DR4: พฤ | DS4: ศ | DV4: จ | DW4: อ | DX4: พ | DY4: พฤ | DZ4: ศ | EC4: จ | ED4: อ | EE4: พ | EF4: พฤ | EG4: ศ | EJ4: จ | EK4: อ | EL4: พ | EM4: พฤ | EN4: ศ | EQ4: จ | ER4: อ | ES4: พ | ET4: พฤ | EU4: ศ | EX4: จ | EY4: อ | EZ4: พ | FA4: พฤ | FB4: ศ | FE4: จ | FF4: อ | FG4: พ | FH4: พฤ | FI4: ศ | FL4: มาเรียน | FM4: ป่วย | FN4: ลา | FO4: ขาด | FP4: ร้อยละ ที่มาเรียน
F5: วันที่
F6: ชั่วโมงที่
B7: 1 | C7: =IF(นักเรียน!C6="","",นักเรียน!C6) -> 1526 | D7: =IF(นักเรียน!D6="","",นักเรียน!D6) -> 1430800119384 | E7: =IF(นักเรียน!E6="","",นักเรียน!E6) -> เด็กชายจิรทีปต์ พวงมาลา | F7: =IF(นักเรียน!E6="","",นักเรียน!B6) -> 1 | FL7: =IF(COUNTIF($G7:$FK7," /"),COUNTIF($G7:$FK7," /"),"") | FM7: =IF(COUNTIF($G7:$FK7,"ป"),COUNTIF($G7:$FK7,"ป"),"") | FN7: =IF(COUNTIF($G7:$FK7,"ล"),COUNTIF($G7:$FK7,"ล"),"") | FO7: =IF(COUNTIF($G7:$FK7,"ข"),COUNTIF($G7:$FK7,"ข"),"") | FP7: =IF(FL7="","",FL7*100/COUNT($G$6:$FK$6))
B8: 2 | C8: =IF(นักเรียน!C7="","",นักเรียน!C7) -> 1527 | D8: =IF(นักเรียน!D7="","",นักเรียน!D7) -> 1439600135104 | E8: =IF(นักเรียน!E7="","",นักเรียน!E7) -> เด็กชายพีระศิลป์ นรสิงห์ | F8: =IF(นักเรียน!E7="","",นักเรียน!B7) -> 2 | FL8: =IF(COUNTIF($G8:$FK8," /"),COUNTIF($G8:$FK8," /"),"") | FM8: =IF(COUNTIF($G8:$FK8,"ป"),COUNTIF($G8:$FK8,"ป"),"") | FN8: =IF(COUNTIF($G8:$FK8,"ล"),COUNTIF($G8:$FK8,"ล"),"") | FO8: =IF(COUNTIF($G8:$FK8,"ข"),COUNTIF($G8:$FK8,"ข"),"") | FP8: =IF(FL8="","",FL8*100/COUNT($G$6:$FK$6))
B9: 3 | C9: =IF(นักเรียน!C8="","",นักเรียน!C8) -> 1528 | D9: =IF(นักเรียน!D8="","",นักเรียน!D8) -> 1439600135198 | E9: =IF(นักเรียน!E8="","",นักเรียน!E8) -> เด็กชายภูผา เศษจำปา | F9: =IF(นักเรียน!E8="","",นักเรียน!B8) -> 3 | FL9: =IF(COUNTIF($G9:$FK9," /"),COUNTIF($G9:$FK9," /"),"") | FM9: =IF(COUNTIF($G9:$FK9,"ป"),COUNTIF($G9:$FK9,"ป"),"") | FN9: =IF(COUNTIF($G9:$FK9,"ล"),COUNTIF($G9:$FK9,"ล"),"") | FO9: =IF(COUNTIF($G9:$FK9,"ข"),COUNTIF($G9:$FK9,"ข"),"") | FP9: =IF(FL9="","",FL9*100/COUNT($G$6:$FK$6))
B10: 4 | C10: =IF(นักเรียน!C9="","",นักเรียน!C9) -> 1529 | D10: =IF(นักเรียน!D9="","",นักเรียน!D9) -> 1430800119295 | E10: =IF(นักเรียน!E9="","",นักเรียน!E9) -> เด็กชายภูมิพันธ์ สมพงษ์ | F10: =IF(นักเรียน!E9="","",นักเรียน!B9) -> 4 | FL10: =IF(COUNTIF($G10:$FK10," /"),COUNTIF($G10:$FK10," /"),"") | FM10: =IF(COUNTIF($G10:$FK10,"ป"),COUNTIF($G10:$FK10,"ป"),"") | FN10: =IF(COUNTIF($G10:$FK10,"ล"),COUNTIF($G10:$FK10,"ล"),"") | FO10: =IF(COUNTIF($G10:$FK10,"ข"),COUNTIF($G10:$FK10,"ข"),"") | FP10: =IF(FL10="","",FL10*100/COUNT($G$6:$FK$6))
B11: 5 | C11: =IF(นักเรียน!C10="","",นักเรียน!C10) -> 1530 | D11: =IF(นักเรียน!D10="","",นักเรียน!D10) -> 1439600134035 | E11: =IF(นักเรียน!E10="","",นักเรียน!E10) -> เด็กชายอดุลยวัฒน์ สอนนาง | F11: =IF(นักเรียน!E10="","",นักเรียน!B10) -> 5 | FL11: =IF(COUNTIF($G11:$FK11," /"),COUNTIF($G11:$FK11," /"),"") | FM11: =IF(COUNTIF($G11:$FK11,"ป"),COUNTIF($G11:$FK11,"ป"),"") | FN11: =IF(COUNTIF($G11:$FK11,"ล"),COUNTIF($G11:$FK11,"ล"),"") | FO11: =IF(COUNTIF($G11:$FK11,"ข"),COUNTIF($G11:$FK11,"ข"),"") | FP11: =IF(FL11="","",FL11*100/COUNT($G$6:$FK$6))
B12: 6 | C12: =IF(นักเรียน!C11="","",นักเรียน!C11) -> 1536 | D12: =IF(นักเรียน!D11="","",นักเรียน!D11) -> 1439600139363 | E12: =IF(นักเรียน!E11="","",นักเรียน!E11) -> เด็กชายชวัลวิทย์ อ่างมัจฉา | F12: =IF(นักเรียน!E11="","",นักเรียน!B11) -> 6 | FL12: =IF(COUNTIF($G12:$FK12," /"),COUNTIF($G12:$FK12," /"),"") | FM12: =IF(COUNTIF($G12:$FK12,"ป"),COUNTIF($G12:$FK12,"ป"),"") | FN12: =IF(COUNTIF($G12:$FK12,"ล"),COUNTIF($G12:$FK12,"ล"),"") | FO12: =IF(COUNTIF($G12:$FK12,"ข"),COUNTIF($G12:$FK12,"ข"),"") | FP12: =IF(FL12="","",FL12*100/COUNT($G$6:$FK$6))
B13: 7 | C13: =IF(นักเรียน!C12="","",นักเรียน!C12) -> 1545 | D13: =IF(นักเรียน!D12="","",นักเรียน!D12) -> 1629900982226 | E13: =IF(นักเรียน!E12="","",นักเรียน!E12) -> เด็กชายศักดิ์ดา จันทะวงค์ | F13: =IF(นักเรียน!E12="","",นักเรียน!B12) -> 7 | FL13: =IF(COUNTIF($G13:$FK13," /"),COUNTIF($G13:$FK13," /"),"") | FM13: =IF(COUNTIF($G13:$FK13,"ป"),COUNTIF($G13:$FK13,"ป"),"") | FN13: =IF(COUNTIF($G13:$FK13,"ล"),COUNTIF($G13:$FK13,"ล"),"") | FO13: =IF(COUNTIF($G13:$FK13,"ข"),COUNTIF($G13:$FK13,"ข"),"") | FP13: =IF(FL13="","",FL13*100/COUNT($G$6:$FK$6))
B14: 8 | C14: =IF(นักเรียน!C13="","",นักเรียน!C13) -> 1616 | D14: =IF(นักเรียน!D13="","",นักเรียน!D13) -> G624100000761 | E14: =IF(นักเรียน!E13="","",นักเรียน!E13) -> เด็กชายแจ็คกี้ ระถิกา | F14: =IF(นักเรียน!E13="","",นักเรียน!B13) -> 8 | FL14: =IF(COUNTIF($G14:$FK14," /"),COUNTIF($G14:$FK14," /"),"") | FM14: =IF(COUNTIF($G14:$FK14,"ป"),COUNTIF($G14:$FK14,"ป"),"") | FN14: =IF(COUNTIF($G14:$FK14,"ล"),COUNTIF($G14:$FK14,"ล"),"") | FO14: =IF(COUNTIF($G14:$FK14,"ข"),COUNTIF($G14:$FK14,"ข"),"") | FP14: =IF(FL14="","",FL14*100/COUNT($G$6:$FK$6))
B15: 9 | C15: =IF(นักเรียน!C14="","",นักเรียน!C14) -> 1531 | D15: =IF(นักเรียน!D14="","",นักเรียน!D14) -> 1439600140302 | E15: =IF(นักเรียน!E14="","",นักเรียน!E14) -> เด็กหญิงธิราวัลย์ อ่อนตามา | F15: =IF(นักเรียน!E14="","",นักเรียน!B14) -> 9 | FL15: =IF(COUNTIF($G15:$FK15," /"),COUNTIF($G15:$FK15," /"),"") | FM15: =IF(COUNTIF($G15:$FK15,"ป"),COUNTIF($G15:$FK15,"ป"),"") | FN15: =IF(COUNTIF($G15:$FK15,"ล"),COUNTIF($G15:$FK15,"ล"),"") | FO15: =IF(COUNTIF($G15:$FK15,"ข"),COUNTIF($G15:$FK15,"ข"),"") | FP15: =IF(FL15="","",FL15*100/COUNT($G$6:$FK$6))
B16: 10 | C16: =IF(นักเรียน!C15="","",นักเรียน!C15) -> 1532 | D16: =IF(นักเรียน!D15="","",นักเรียน!D15) -> 1419902904909 | E16: =IF(นักเรียน!E15="","",นักเรียน!E15) -> เด็กหญิงนงนภัส ติยะภา | F16: =IF(นักเรียน!E15="","",นักเรียน!B15) -> 10 | FL16: =IF(COUNTIF($G16:$FK16," /"),COUNTIF($G16:$FK16," /"),"") | FM16: =IF(COUNTIF($G16:$FK16,"ป"),COUNTIF($G16:$FK16,"ป"),"") | FN16: =IF(COUNTIF($G16:$FK16,"ล"),COUNTIF($G16:$FK16,"ล"),"") | FO16: =IF(COUNTIF($G16:$FK16,"ข"),COUNTIF($G16:$FK16,"ข"),"") | FP16: =IF(FL16="","",FL16*100/COUNT($G$6:$FK$6))
B17: 11 | C17: =IF(นักเรียน!C16="","",นักเรียน!C16) -> 1533 | D17: =IF(นักเรียน!D16="","",นักเรียน!D16) -> 1439600133896 | E17: =IF(นักเรียน!E16="","",นักเรียน!E16) -> เด็กหญิงปรารถณา แสนรินทร์ | F17: =IF(นักเรียน!E16="","",นักเรียน!B16) -> 11 | FL17: =IF(COUNTIF($G17:$FK17," /"),COUNTIF($G17:$FK17," /"),"") | FM17: =IF(COUNTIF($G17:$FK17,"ป"),COUNTIF($G17:$FK17,"ป"),"") | FN17: =IF(COUNTIF($G17:$FK17,"ล"),COUNTIF($G17:$FK17,"ล"),"") | FO17: =IF(COUNTIF($G17:$FK17,"ข"),COUNTIF($G17:$FK17,"ข"),"") | FP17: =IF(FL17="","",FL17*100/COUNT($G$6:$FK$6))
B18: 12 | C18: =IF(นักเรียน!C17="","",นักเรียน!C17) -> 1538 | D18: =IF(นักเรียน!D17="","",นักเรียน!D17) -> 1508700133896 | E18: =IF(นักเรียน!E17="","",นักเรียน!E17) -> เด็กหญิงอุษามณี อินทะพิมพ์ | F18: =IF(นักเรียน!E17="","",นักเรียน!B17) -> 12 | FL18: =IF(COUNTIF($G18:$FK18," /"),COUNTIF($G18:$FK18," /"),"") | FM18: =IF(COUNTIF($G18:$FK18,"ป"),COUNTIF($G18:$FK18,"ป"),"") | FN18: =IF(COUNTIF($G18:$FK18,"ล"),COUNTIF($G18:$FK18,"ล"),"") | FO18: =IF(COUNTIF($G18:$FK18,"ข"),COUNTIF($G18:$FK18,"ข"),"") | FP18: =IF(FL18="","",FL18*100/COUNT($G$6:$FK$6))
... B56: 50 | C56: =IF(นักเรียน!C55="","",นักเรียน!C55) | D56: =IF(นักเรียน!D55="","",นักเรียน!D55) | E56: =IF(นักเรียน!E55="","",นักเรียน!E55) | F56: =IF(นักเรียน!E55="","",นักเรียน!B55) | FL56: =IF(COUNTIF($G56:$FK56," /"),COUNTIF($G56:$FK56," /"),"") | FM56: =IF(COUNTIF($G56:$FK56,"ป"),COUNTIF($G56:$FK56,"ป"),"") | FN56: =IF(COUNTIF($G56:$FK56,"ล"),COUNTIF($G56:$FK56,"ล"),"") | FO56: =IF(COUNTIF($G56:$FK56,"ข"),COUNTIF($G56:$FK56,"ข"),"") | FP56: =IF(FL56="","",FL56*100/COUNT($G$6:$FK$6))

Sheet list01
A1: ม.ค. | C1: / | D1: ภาษาไทย | F1: มกราคม | G1: 1 | J1: ชั่วโมง/ปี | K1: ครู | N1: 5
A2: ม.ค./ก.พ. | B2: หัวหน้างานวัดและประเมินผล | C2: ป | D2: คณิตศาสตร์ | E2: ประถมศึกษา | F2: กุมภาพันธ์ | G2: 2 | H2: 2558 | I2: ประถมศึกษาปีที่ 1 | J2: ชั่วโมง/สัปดาห์ | K2: ครูชำนาญการ | L2: 0 | M2: 10 | N2: 10 | O2: ออก | P2: มส | Q2: วัดประเมินเป็นรายตัวชี้วัด | R2: เอาออก | S2: ผ่าน
A3: ก.พ. | B3: หัวหน้างานวิชาการ | C3: ล | D3: วิทยาศาสตร์ | E3: มัธยมศึกษาตอนต้น | F3: มีนาคม | G3: 3 | H3: 2559 | I3: ประถมศึกษาปีที่ 2 | K3: ครูชำนาญการพิเศษ | L3: 1 | M3: 15 | N3: 15 | P3: ร | Q3: วัดประเมินเป็นหน่วยการเรียนรู้ | S3: ไม่ผ่าน
A4: ก.พ./มี.ค. | B4: รองผู้อำนวยการ | C4: ข | D4: วิทยาศาสตร์และเทคโนโลยี | E4: มัธยมศึกษาตอนปลาย | F4: เมษายน | G4: 4 | H4: 2560 | I4: ประถมศึกษาปีที่ 3 | K4: ครูเชี่ยวชาญ | L4: 2 | M4: 20 | N4: 20 | P4: 4 | S4: ---ย้าย---
A5: มี.ค. | B5: รองผู้อำนวยการฯ กลุ่มบริหารวิชาการ | C5: - | D5: สังคมศึกษา ศาสนาและวัฒนธรรม | F5: พฤษภาคม | G5: 5 | H5: 2561 | I5: ประถมศึกษาปีที่ 4 | K5: ครูเชี่ยวชาญพิเศษ | M5: 25 | N5: 25 | P5: 3.5 | Q5: นำคะแนนไปรวมตัดเกรด
A6: มี.ค./เม.ย. | B6: ผู้อำนวยการ | D6: สุขศึกษาและพลศึกษา | F6: มิถุนายน | G6: 6 | H6: 2562 | I6: ประถมศึกษาปีที่ 5 | K6: รองผู้อำนวยการ | M6: 30 | N6: 30 | P6: 3 | Q6: ไม่นำคะแนนไปรวมตัดเกรด
A7: เม.ย. | B7: อาจารย์ใหญ่ | D7: ศิลปะ | F7: กรกฎาคม | G7: 7 | H7: 2563 | I7: ประถมศึกษาปีที่ 6 | K7: ผู้อำนวยการ | M7: 35 | N7: 35 | P7: 2.5
A8: เม.ย./พ.ค. | B8: ครูใหญ่ | D8: การงานอาชีพ | F8: สิงหาคม | G8: 8 | H8: 2564 | M8: 40 | N8: 40 | P8: 2
A9: พ.ค. | D9: การงานอาชีพและเทคโนโลยี | F9: กันยายน | G9: 9 | H9: 2565 | I9: มัธยมศึกษาปีที่ 1 | K9: พนักงานราชการ | M9: 45 | N9: 45 | P9: 1.5
A10: พ.ค./มิ.ย. | D10: ภาษาต่างประเทศ | F10: ตุลาคม | G10: 10 | H10: 2566 | I10: มัธยมศึกษาปีที่ 2 | K10: ครูอัตราจ้าง | M10: 50 | N10: 50 | P10: 1
A11: มิ.ย. | D11: กิจกรรมพัฒนาผู้เรียน | F11: พฤศจิกายน | G11: 11 | H11: 2567 | I11: มัธยมศึกษาปีที่ 3 | K11: ครูผู้ช่วย | M11: 55 | N11: 55 | P11: 0
A12: มิ.ย./ก.ค. | D12: กิจกรรมแนะแนว | F12: ธันวาคม | G12: 12 | H12: 2568 | I12: มัธยมศึกษาปีที่ 4 | M12: 60 | N12: 60 | P12: ผ
A13: ก.ค. | D13: กิจกรรมนักเรียน | G13: 13 | H13: 2569 | I13: มัธยมศึกษาปีที่ 5 | K13: นักศึกษาฝึกประสบการณ์ฯ | M13: 65 | N13: 65 | P13: มผ
A14: ก.ค./ส.ค. | D14: กิจกรรมเพื่อสังคมและสาธารณประโยชน์ | G14: 14 | H14: 2570 | I14: มัธยมศึกษาปีที่ 6 | M14: 70 | N14: 70 | P14: มก
A15: ส.ค. | G15: 15 | H15: 2571 | M15: 75 | N15: 75
A16: ส.ค./ก.ย. | G16: 16 | H16: 2572 | M16: 80 | N16: 80
A17: ก.ย. | G17: 17 | H17: 2573 | M17: 85 | N17: 85
A18: ก.ย./ต.ค. | G18: 18 | H18: 2574 | M18: 90 | N18: 90
A19: ต.ค. | G19: 19 | H19: 2575 | M19: 95
A20: ต.ค./พ.ย. | G20: 20 | M20: 100
A21: พ.ย. | G21: 21
A22: พ.ย./ธ.ค. | G22: 22
A23: ธ.ค. | G23: 23
A24: ธ.ค./ม.ค. | G24: 24
G25: 25
G26: 26
G27: 27
G28: 28
G29: 29
G30: 30
G31: 31

Sheet คะแนน00
F1: ชีท "คะแนน1"----ให้บันทึกคะแนนประเมินผลตามตัวชี้วัด หรือคะแนนสอบแต่ละหน่วยการเรียน และคะแนนสอบปลายภาค ---ให้กำหนดค่าคะแนนเต็ม ในช่อง "คะแนนเต็ม" ช่องใดไม่ได้ใช้---ให้ปล่อยว่างไว้
B2: เลขที่ | C2: เลขประจำตัว | D2: ชื่อ - สกุล | F2: ="การวัดผลระหว่างเรียน รายวิชา "&Home!C11&" "&Home!C12 -> การวัดผลระหว่างเรียน รายวิชา ประวัติศาสตร์ ส 15101 | AA2: =F2 -> การวัดผลระหว่างเรียน รายวิชา ประวัติศาสตร์ ส 15101 | AQ2: การวัดผลปลายภาค | AX2: รวมคะแนน | AY2: =IF(เกณฑ์!$N$19="ACT","ผลการประเมิน","ระดับผลการเรียน") -> ระดับผลการเรียน | AZ2: ผลการปรับคะแนน
F3: =IF(เกณฑ์!F8="วัดประเมินเป็นหน่วยการเรียนรู้","คะแนนหน่วยการเรียนรู้","คะแนนผลการเรียนรู้ตามตัวชี้วัด")&" ภาคเรียนที่ "&Home!F4 -> คะแนนหน่วยการเรียนรู้ ภาคเรียนที่ ตลอดปี | AA3: =F3 -> คะแนนหน่วยการเรียนรู้ ภาคเรียนที่ ตลอดปี | AL3: คะแนนวัดผลกลางภาค | AP3: สรุป | AQ3: คะแนนปลายภาคเรียน | AU3: ข้อสอบกลาง | AW3: สรุป
E4: =IF(เกณฑ์!F8="วัดประเมินเป็นหน่วยการเรียนรู้","หน่วยที่","ข้อที่") -> หน่วยที่ | AJ4: รวม | AK4: สรุป | AL4: ฉ.1 | AM4: ฉ.2 | AN4: รวม | AO4: สรุป | AP4: คะแนน | AQ4: ฉ.1 | AR4: ฉ.2 | AS4: รวม | AT4: สรุป | AU4: =IF(เกณฑ์!F7="","",เกณฑ์!F7&"%") | AV4: สรุป | AW4: คะแนน
E5: คะแนนเต็ม | F5: 10 | AJ5: =IF(SUM(F5:AI5),SUM(F5:AI5),"") -> 10 | AK5: =เกณฑ์!F4 -> 80 | AL5: 10 | AN5: =IF(SUM(AL5:AM5),SUM(AL5:AM5),"") -> 10 | AO5: =เกณฑ์!F5 -> 0 | AP5: =SUM(AK5,AO5) -> 80 | AQ5: 10 | AS5: =IF(SUM(AQ5:AR5),SUM(AQ5:AR5),"") -> 10 | AT5: =(100-เกณฑ์!F7)/100*$AW$5 -> 20 | AV5: =IF(เกณฑ์!F7="","",เกณฑ์!F7/100*$AW$5) | AW5: =เกณฑ์!F6 -> 20 | AX5: =SUM(AP5,AW5) -> 100
B6: 1 | C6: =IF(นักเรียน!C6="","",นักเรียน!C6) -> 1526 | D6: =IF(นักเรียน!E6="","",นักเรียน!E6) -> เด็กชายจิรทีปต์ พวงมาลา | F6: 8 | AJ6: =IF(SUM(F6:AI6),SUM(F6:AI6),"") -> 8 | AK6: =IF(AJ6="","",ROUND(AJ6/$AJ$5*$AK$5,0)) -> 64 | AL6: 6 | AN6: =IF(SUM(AL6:AM6),SUM(AL6:AM6),"") -> 6 | AO6: =IF(AN6="","",ROUND(AN6/$AN$5*$AO$5,0)) -> 0 | AP6: =IF(SUM(AK6,AO6),SUM(AK6,AO6),"") -> 64 | AQ6: 7 | AS6: =IF(SUM(AQ6:AR6),SUM(AQ6:AR6),"") -> 7 | AT6: =IF(AS6="","",ROUND(AS6/$AS$5*$AT$5,0)) -> 14 | AV6: =IF(AU6="","",ROUND(AU6/$AU$5*$AV$5,0)) | AW6: =IF(SUM(AT6,AV6),SUM(AT6,AV6),"") -> 14 | AX6: =IF(SUM(AP6,AW6),SUM(AP6,AW6),"") -> 78 | AY6: =IF(OR(นักเรียน!N6="ออก",AZ6="ร",AZ6="มส",AX6=""),"",IF(เกณฑ์!$N$19="ACT",VLOOKUP(AX6,gradeact,5,TRUE),VLOOKUP(AX6,grade1,5,TRUE))) -> 3.5
B7: 2 | C7: =IF(นักเรียน!C7="","",นักเรียน!C7) -> 1527 | D7: =IF(นักเรียน!E7="","",นักเรียน!E7) -> เด็กชายพีระศิลป์ นรสิงห์ | F7: 7 | AJ7: =IF(SUM(F7:AI7),SUM(F7:AI7),"") -> 7 | AK7: =IF(AJ7="","",ROUND(AJ7/$AJ$5*$AK$5,0)) -> 56 | AL7: 7 | AN7: =IF(SUM(AL7:AM7),SUM(AL7:AM7),"") -> 7 | AO7: =IF(AN7="","",ROUND(AN7/$AN$5*$AO$5,0)) -> 0 | AP7: =IF(SUM(AK7,AO7),SUM(AK7,AO7),"") -> 56 | AQ7: 6 | AS7: =IF(SUM(AQ7:AR7),SUM(AQ7:AR7),"") -> 6 | AT7: =IF(AS7="","",ROUND(AS7/$AS$5*$AT$5,0)) -> 12 | AV7: =IF(AU7="","",ROUND(AU7/$AU$5*$AV$5,0)) | AW7: =IF(SUM(AT7,AV7),SUM(AT7,AV7),"") -> 12 | AX7: =IF(SUM(AP7,AW7),SUM(AP7,AW7),"") -> 68 | AY7: =IF(OR(นักเรียน!N7="ออก",AZ7="ร",AZ7="มส",AX7=""),"",IF(เกณฑ์!$N$19="ACT",VLOOKUP(AX7,gradeact,5,TRUE),VLOOKUP(AX7,grade1,5,TRUE))) -> 2.5
B8: 3 | C8: =IF(นักเรียน!C8="","",นักเรียน!C8) -> 1528 | D8: =IF(นักเรียน!E8="","",นักเรียน!E8) -> เด็กชายภูผา เศษจำปา | F8: 9 | AJ8: =IF(SUM(F8:AI8),SUM(F8:AI8),"") -> 9 | AK8: =IF(AJ8="","",ROUND(AJ8/$AJ$5*$AK$5,0)) -> 72 | AL8: 8 | AN8: =IF(SUM(AL8:AM8),SUM(AL8:AM8),"") -> 8 | AO8: =IF(AN8="","",ROUND(AN8/$AN$5*$AO$5,0)) -> 0 | AP8: =IF(SUM(AK8,AO8),SUM(AK8,AO8),"") -> 72 | AQ8: 8 | AS8: =IF(SUM(AQ8:AR8),SUM(AQ8:AR8),"") -> 8 | AT8: =IF(AS8="","",ROUND(AS8/$AS$5*$AT$5,0)) -> 16 | AV8: =IF(AU8="","",ROUND(AU8/$AU$5*$AV$5,0)) | AW8: =IF(SUM(AT8,AV8),SUM(AT8,AV8),"") -> 16 | AX8: =IF(SUM(AP8,AW8),SUM(AP8,AW8),"") -> 88 | AY8: =IF(OR(นักเรียน!N8="ออก",AZ8="ร",AZ8="มส",AX8=""),"",IF(เกณฑ์!$N$19="ACT",VLOOKUP(AX8,gradeact,5,TRUE),VLOOKUP(AX8,grade1,5,TRUE))) -> 4
B9: 4 | C9: =IF(นักเรียน!C9="","",นักเรียน!C9) -> 1529 | D9: =IF(นักเรียน!E9="","",นักเรียน!E9) -> เด็กชายภูมิพันธ์ สมพงษ์ | F9: 6 | AJ9: =IF(SUM(F9:AI9),SUM(F9:AI9),"") -> 6 | AK9: =IF(AJ9="","",ROUND(AJ9/$AJ$5*$AK$5,0)) -> 48 | AL9: 3 | AN9: =IF(SUM(AL9:AM9),SUM(AL9:AM9),"") -> 3 | AO9: =IF(AN9="","",ROUND(AN9/$AN$5*$AO$5,0)) -> 0 | AP9: =IF(SUM(AK9,AO9),SUM(AK9,AO9),"") -> 48 | AQ9: 5 | AS9: =IF(SUM(AQ9:AR9),SUM(AQ9:AR9),"") -> 5 | AT9: =IF(AS9="","",ROUND(AS9/$AS$5*$AT$5,0)) -> 10 | AV9: =IF(AU9="","",ROUND(AU9/$AU$5*$AV$5,0)) | AW9: =IF(SUM(AT9,AV9),SUM(AT9,AV9),"") -> 10 | AX9: =IF(SUM(AP9,AW9),SUM(AP9,AW9),"") -> 58 | AY9: =IF(OR(นักเรียน!N9="ออก",AZ9="ร",AZ9="มส",AX9=""),"",IF(เกณฑ์!$N$19="ACT",VLOOKUP(AX9,gradeact,5,TRUE),VLOOKUP(AX9,grade1,5,TRUE))) -> 1.5
B10: 5 | C10: =IF(นักเรียน!C10="","",นักเรียน!C10) -> 1530 | D10: =IF(นักเรียน!E10="","",นักเรียน!E10) -> เด็กชายอดุลยวัฒน์ สอนนาง | F10: 5 | AJ10: =IF(SUM(F10:AI10),SUM(F10:AI10),"") -> 5 | AK10: =IF(AJ10="","",ROUND(AJ10/$AJ$5*$AK$5,0)) -> 40 | AL10: 6 | AN10: =IF(SUM(AL10:AM10),SUM(AL10:AM10),"") -> 6 | AO10: =IF(AN10="","",ROUND(AN10/$AN$5*$AO$5,0)) -> 0 | AP10: =IF(SUM(AK10,AO10),SUM(AK10,AO10),"") -> 40 | AQ10: 6 | AS10: =IF(SUM(AQ10:AR10),SUM(AQ10:AR10),"") -> 6 | AT10: =IF(AS10="","",ROUND(AS10/$AS$5*$AT$5,0)) -> 12 | AV10: =IF(AU10="","",ROUND(AU10/$AU$5*$AV$5,0)) | AW10: =IF(SUM(AT10,AV10),SUM(AT10,AV10),"") -> 12 | AX10: =IF(SUM(AP10,AW10),SUM(AP10,AW10),"") -> 52 | AY10: =IF(OR(นักเรียน!N10="ออก",AZ10="ร",AZ10="มส",AX10=""),"",IF(เกณฑ์!$N$19="ACT",VLOOKUP(AX10,gradeact,5,TRUE),VLOOKUP(AX10,grade1,5,TRUE))) -> 1
B11: 6 | C11: =IF(นักเรียน!C11="","",นักเรียน!C11) -> 1536 | D11: =IF(นักเรียน!E11="","",นักเรียน!E11) -> เด็กชายชวัลวิทย์ อ่างมัจฉา | F11: 4 | AJ11: =IF(SUM(F11:AI11),SUM(F11:AI11),"") -> 4 | AK11: =IF(AJ11="","",ROUND(AJ11/$AJ$5*$AK$5,0)) -> 32 | AL11: 6 | AN11: =IF(SUM(AL11:AM11),SUM(AL11:AM11),"") -> 6 | AO11: =IF(AN11="","",ROUND(AN11/$AN$5*$AO$5,0)) -> 0 | AP11: =IF(SUM(AK11,AO11),SUM(AK11,AO11),"") -> 32 | AQ11: 7 | AS11: =IF(SUM(AQ11:AR11),SUM(AQ11:AR11),"") -> 7 | AT11: =IF(AS11="","",ROUND(AS11/$AS$5*$AT$5,0)) -> 14 | AV11: =IF(AU11="","",ROUND(AU11/$AU$5*$AV$5,0)) | AW11: =IF(SUM(AT11,AV11),SUM(AT11,AV11),"") -> 14 | AX11: =IF(SUM(AP11,AW11),SUM(AP11,AW11),"") -> 46 | AY11: =IF(OR(นักเรียน!N11="ออก",AZ11="ร",AZ11="มส",AX11=""),"",IF(เกณฑ์!$N$19="ACT",VLOOKUP(AX11,gradeact,5,TRUE),VLOOKUP(AX11,grade1,5,TRUE))) -> 0
B12: 7 | C12: =IF(นักเรียน!C12="","",นักเรียน!C12) -> 1545 | D12: =IF(นักเรียน!E12="","",นักเรียน!E12) -> เด็กชายศักดิ์ดา จันทะวงค์ | F12: 8 | AJ12: =IF(SUM(F12:AI12),SUM(F12:AI12),"") -> 8 | AK12: =IF(AJ12="","",ROUND(AJ12/$AJ$5*$AK$5,0)) -> 64 | AL12: 7 | AN12: =IF(SUM(AL12:AM12),SUM(AL12:AM12),"") -> 7 | AO12: =IF(AN12="","",ROUND(AN12/$AN$5*$AO$5,0)) -> 0 | AP12: =IF(SUM(AK12,AO12),SUM(AK12,AO12),"") -> 64 | AQ12: 8 | AS12: =IF(SUM(AQ12:AR12),SUM(AQ12:AR12),"") -> 8 | AT12: =IF(AS12="","",ROUND(AS12/$AS$5*$AT$5,0)) -> 16 | AV12: =IF(AU12="","",ROUND(AU12/$AU$5*$AV$5,0)) | AW12: =IF(SUM(AT12,AV12),SUM(AT12,AV12),"") -> 16 | AX12: =IF(SUM(AP12,AW12),SUM(AP12,AW12),"") -> 80 | AY12: =IF(OR(นักเรียน!N12="ออก",AZ12="ร",AZ12="มส",AX12=""),"",IF(เกณฑ์!$N$19="ACT",VLOOKUP(AX12,gradeact,5,TRUE),VLOOKUP(AX12,grade1,5,TRUE))) -> 4
B13: 8 | C13: =IF(นักเรียน!C13="","",นักเรียน!C13) -> 1616 | D13: =IF(นักเรียน!E13="","",นักเรียน!E13) -> เด็กชายแจ็คกี้ ระถิกา | F13: 7 | AJ13: =IF(SUM(F13:AI13),SUM(F13:AI13),"") -> 7 | AK13: =IF(AJ13="","",ROUND(AJ13/$AJ$5*$AK$5,0)) -> 56 | AL13: 5 | AN13: =IF(SUM(AL13:AM13),SUM(AL13:AM13),"") -> 5 | AO13: =IF(AN13="","",ROUND(AN13/$AN$5*$AO$5,0)) -> 0 | AP13: =IF(SUM(AK13,AO13),SUM(AK13,AO13),"") -> 56 | AQ13: 7 | AS13: =IF(SUM(AQ13:AR13),SUM(AQ13:AR13),"") -> 7 | AT13: =IF(AS13="","",ROUND(AS13/$AS$5*$AT$5,0)) -> 14 | AV13: =IF(AU13="","",ROUND(AU13/$AU$5*$AV$5,0)) | AW13: =IF(SUM(AT13,AV13),SUM(AT13,AV13),"") -> 14 | AX13: =IF(SUM(AP13,AW13),SUM(AP13,AW13),"") -> 70 | AY13: =IF(OR(นักเรียน!N13="ออก",AZ13="ร",AZ13="มส",AX13=""),"",IF(เกณฑ์!$N$19="ACT",VLOOKUP(AX13,gradeact,5,TRUE),VLOOKUP(AX13,grade1,5,TRUE))) -> 3
B14: 9 | C14: =IF(นักเรียน!C14="","",นักเรียน!C14) -> 1531 | D14: =IF(นักเรียน!E14="","",นักเรียน!E14) -> เด็กหญิงธิราวัลย์ อ่อนตามา | AJ14: =IF(SUM(F14:AI14),SUM(F14:AI14),"") | AK14: =IF(AJ14="","",ROUND(AJ14/$AJ$5*$AK$5,0)) | AN14: =IF(SUM(AL14:AM14),SUM(AL14:AM14),"") | AO14: =IF(AN14="","",ROUND(AN14/$AN$5*$AO$5,0)) | AP14: =IF(SUM(AK14,AO14),SUM(AK14,AO14),"") | AS14: =IF(SUM(AQ14:AR14),SUM(AQ14:AR14),"") | AT14: =IF(AS14="","",ROUND(AS14/$AS$5*$AT$5,0)) | AV14: =IF(AU14="","",ROUND(AU14/$AU$5*$AV$5,0)) | AW14: =IF(SUM(AT14,AV14),SUM(AT14,AV14),"") | AX14: =IF(SUM(AP14,AW14),SUM(AP14,AW14),"") | AY14: =IF(OR(นักเรียน!N14="ออก",AZ14="ร",AZ14="มส",AX14=""),"",IF(เกณฑ์!$N$19="ACT",VLOOKUP(AX14,gradeact,5,TRUE),VLOOKUP(AX14,grade1,5,TRUE)))
B15: 10 | C15: =IF(นักเรียน!C15="","",นักเรียน!C15) -> 1532 | D15: =IF(นักเรียน!E15="","",นักเรียน!E15) -> เด็กหญิงนงนภัส ติยะภา | AJ15: =IF(SUM(F15:AI15),SUM(F15:AI15),"") | AK15: =IF(AJ15="","",ROUND(AJ15/$AJ$5*$AK$5,0)) | AN15: =IF(SUM(AL15:AM15),SUM(AL15:AM15),"") | AO15: =IF(AN15="","",ROUND(AN15/$AN$5*$AO$5,0)) | AP15: =IF(SUM(AK15,AO15),SUM(AK15,AO15),"") | AS15: =IF(SUM(AQ15:AR15),SUM(AQ15:AR15),"") | AT15: =IF(AS15="","",ROUND(AS15/$AS$5*$AT$5,0)) | AV15: =IF(AU15="","",ROUND(AU15/$AU$5*$AV$5,0)) | AW15: =IF(SUM(AT15,AV15),SUM(AT15,AV15),"") | AX15: =IF(SUM(AP15,AW15),SUM(AP15,AW15),"") | AY15: =IF(OR(นักเรียน!N15="ออก",AZ15="ร",AZ15="มส",AX15=""),"",IF(เกณฑ์!$N$19="ACT",VLOOKUP(AX15,gradeact,5,TRUE),VLOOKUP(AX15,grade1,5,TRUE)))
B16: 11 | C16: =IF(นักเรียน!C16="","",นักเรียน!C16) -> 1533 | D16: =IF(นักเรียน!E16="","",นักเรียน!E16) -> เด็กหญิงปรารถณา แสนรินทร์ | AJ16: =IF(SUM(F16:AI16),SUM(F16:AI16),"") | AK16: =IF(AJ16="","",ROUND(AJ16/$AJ$5*$AK$5,0)) | AN16: =IF(SUM(AL16:AM16),SUM(AL16:AM16),"") | AO16: =IF(AN16="","",ROUND(AN16/$AN$5*$AO$5,0)) | AP16: =IF(SUM(AK16,AO16),SUM(AK16,AO16),"") | AS16: =IF(SUM(AQ16:AR16),SUM(AQ16:AR16),"") | AT16: =IF(AS16="","",ROUND(AS16/$AS$5*$AT$5,0)) | AV16: =IF(AU16="","",ROUND(AU16/$AU$5*$AV$5,0)) | AW16: =IF(SUM(AT16,AV16),SUM(AT16,AV16),"") | AX16: =IF(SUM(AP16,AW16),SUM(AP16,AW16),"") | AY16: =IF(OR(นักเรียน!N16="ออก",AZ16="ร",AZ16="มส",AX16=""),"",IF(เกณฑ์!$N$19="ACT",VLOOKUP(AX16,gradeact,5,TRUE),VLOOKUP(AX16,grade1,5,TRUE)))
B17: 12 | C17: =IF(นักเรียน!C17="","",นักเรียน!C17) -> 1538 | D17: =IF(นักเรียน!E17="","",นักเรียน!E17) -> เด็กหญิงอุษามณี อินทะพิมพ์ | AJ17: =IF(SUM(F17:AI17),SUM(F17:AI17),"") | AK17: =IF(AJ17="","",ROUND(AJ17/$AJ$5*$AK$5,0)) | AN17: =IF(SUM(AL17:AM17),SUM(AL17:AM17),"") | AO17: =IF(AN17="","",ROUND(AN17/$AN$5*$AO$5,0)) | AP17: =IF(SUM(AK17,AO17),SUM(AK17,AO17),"") | AS17: =IF(SUM(AQ17:AR17),SUM(AQ17:AR17),"") | AT17: =IF(AS17="","",ROUND(AS17/$AS$5*$AT$5,0)) | AV17: =IF(AU17="","",ROUND(AU17/$AU$5*$AV$5,0)) | AW17: =IF(SUM(AT17,AV17),SUM(AT17,AV17),"") | AX17: =IF(SUM(AP17,AW17),SUM(AP17,AW17),"") | AY17: =IF(OR(นักเรียน!N17="ออก",AZ17="ร",AZ17="มส",AX17=""),"",IF(เกณฑ์!$N$19="ACT",VLOOKUP(AX17,gradeact,5,TRUE),VLOOKUP(AX17,grade1,5,TRUE)))
B18: 13 | C18: =IF(นักเรียน!C18="","",นักเรียน!C18) -> 1592 | D18: =IF(นักเรียน!E18="","",นักเรียน!E18) -> เด็กหญิงกชกร พิมพ์พงษ์ | AJ18: =IF(SUM(F18:AI18),SUM(F18:AI18),"") | AK18: =IF(AJ18="","",ROUND(AJ18/$AJ$5*$AK$5,0)) | AN18: =IF(SUM(AL18:AM18),SUM(AL18:AM18),"") | AO18: =IF(AN18="","",ROUND(AN18/$AN$5*$AO$5,0)) | AP18: =IF(SUM(AK18,AO18),SUM(AK18,AO18),"") | AS18: =IF(SUM(AQ18:AR18),SUM(AQ18:AR18),"") | AT18: =IF(AS18="","",ROUND(AS18/$AS$5*$AT$5,0)) | AV18: =IF(AU18="","",ROUND(AU18/$AU$5*$AV$5,0)) | AW18: =IF(SUM(AT18,AV18),SUM(AT18,AV18),"") | AX18: =IF(SUM(AP18,AW18),SUM(AP18,AW18),"") | AY18: =IF(OR(นักเรียน!N18="ออก",AZ18="ร",AZ18="มส",AX18=""),"",IF(เกณฑ์!$N$19="ACT",VLOOKUP(AX18,gradeact,5,TRUE),VLOOKUP(AX18,grade1,5,TRUE)))
B19: 14 | C19: =IF(นักเรียน!C19="","",นักเรียน!C19) -> 1598 | D19: =IF(นักเรียน!E19="","",นักเรียน!E19) -> เด็กหญิงอภิรญาพร นรสิงห์ | AJ19: =IF(SUM(F19:AI19),SUM(F19:AI19),"") | AK19: =IF(AJ19="","",ROUND(AJ19/$AJ$5*$AK$5,0)) | AN19: =IF(SUM(AL19:AM19),SUM(AL19:AM19),"") | AO19: =IF(AN19="","",ROUND(AN19/$AN$5*$AO$5,0)) | AP19: =IF(SUM(AK19,AO19),SUM(AK19,AO19),"") | AS19: =IF(SUM(AQ19:AR19),SUM(AQ19:AR19),"") | AT19: =IF(AS19="","",ROUND(AS19/$AS$5*$AT$5,0)) | AV19: =IF(AU19="","",ROUND(AU19/$AU$5*$AV$5,0)) | AW19: =IF(SUM(AT19,AV19),SUM(AT19,AV19),"") | AX19: =IF(SUM(AP19,AW19),SUM(AP19,AW19),"") | AY19: =IF(OR(นักเรียน!N19="ออก",AZ19="ร",AZ19="มส",AX19=""),"",IF(เกณฑ์!$N$19="ACT",VLOOKUP(AX19,gradeact,5,TRUE),VLOOKUP(AX19,grade1,5,TRUE)))
B20: 15 | C20: =IF(นักเรียน!C20="","",นักเรียน!C20) -> 1641 | D20: =IF(นักเรียน!E20="","",นักเรียน!E20) -> เด็กหญิงกนกอร เกษอินทร์ | AJ20: =IF(SUM(F20:AI20),SUM(F20:AI20),"") | AK20: =IF(AJ20="","",ROUND(AJ20/$AJ$5*$AK$5,0)) | AN20: =IF(SUM(AL20:AM20),SUM(AL20:AM20),"") | AO20: =IF(AN20="","",ROUND(AN20/$AN$5*$AO$5,0)) | AP20: =IF(SUM(AK20,AO20),SUM(AK20,AO20),"") | AS20: =IF(SUM(AQ20:AR20),SUM(AQ20:AR20),"") | AT20: =IF(AS20="","",ROUND(AS20/$AS$5*$AT$5,0)) | AV20: =IF(AU20="","",ROUND(AU20/$AU$5*$AV$5,0)) | AW20: =IF(SUM(AT20,AV20),SUM(AT20,AV20),"") | AX20: =IF(SUM(AP20,AW20),SUM(AP20,AW20),"") | AY20: =IF(OR(นักเรียน!N20="ออก",AZ20="ร",AZ20="มส",AX20=""),"",IF(เกณฑ์!$N$19="ACT",VLOOKUP(AX20,gradeact,5,TRUE),VLOOKUP(AX20,grade1,5,TRUE)))
B21: 16 | C21: =IF(นักเรียน!C21="","",นักเรียน!C21) -> 1662 | D21: =IF(นักเรียน!E21="","",นักเรียน!E21) -> เด็กหญิงรุ่งอรุณรัศมี จันทร์แจ่มศรี | AJ21: =IF(SUM(F21:AI21),SUM(F21:AI21),"") | AK21: =IF(AJ21="","",ROUND(AJ21/$AJ$5*$AK$5,0)) | AN21: =IF(SUM(AL21:AM21),SUM(AL21:AM21),"") | AO21: =IF(AN21="","",ROUND(AN21/$AN$5*$AO$5,0)) | AP21: =IF(SUM(AK21,AO21),SUM(AK21,AO21),"") | AS21: =IF(SUM(AQ21:AR21),SUM(AQ21:AR21),"") | AT21: =IF(AS21="","",ROUND(AS21/$AS$5*$AT$5,0)) | AV21: =IF(AU21="","",ROUND(AU21/$AU$5*$AV$5,0)) | AW21: =IF(SUM(AT21,AV21),SUM(AT21,AV21),"") | AX21: =IF(SUM(AP21,AW21),SUM(AP21,AW21),"") | AY21: =IF(OR(นักเรียน!N21="ออก",AZ21="ร",AZ21="มส",AX21=""),"",IF(เกณฑ์!$N$19="ACT",VLOOKUP(AX21,gradeact,5,TRUE),VLOOKUP(AX21,grade1,5,TRUE)))
B22: 17 | C22: =IF(นักเรียน!C22="","",นักเรียน!C22) -> 655 | D22: =IF(นักเรียน!E22="","",นักเรียน!E22) -> เด็กชายจักรภัทร เสนาฤทธิ์ | AJ22: =IF(SUM(F22:AI22),SUM(F22:AI22),"") | AK22: =IF(AJ22="","",ROUND(AJ22/$AJ$5*$AK$5,0)) | AN22: =IF(SUM(AL22:AM22),SUM(AL22:AM22),"") | AO22: =IF(AN22="","",ROUND(AN22/$AN$5*$AO$5,0)) | AP22: =IF(SUM(AK22,AO22),SUM(AK22,AO22),"") | AS22: =IF(SUM(AQ22:AR22),SUM(AQ22:AR22),"") | AT22: =IF(AS22="","",ROUND(AS22/$AS$5*$AT$5,0)) | AV22: =IF(AU22="","",ROUND(AU22/$AU$5*$AV$5,0)) | AW22: =IF(SUM(AT22,AV22),SUM(AT22,AV22),"") | AX22: =IF(SUM(AP22,AW22),SUM(AP22,AW22),"") | AY22: =IF(OR(นักเรียน!N22="ออก",AZ22="ร",AZ22="มส",AX22=""),"",IF(เกณฑ์!$N$19="ACT",VLOOKUP(AX22,gradeact,5,TRUE),VLOOKUP(AX22,grade1,5,TRUE)))
B23: 18 | C23: =IF(นักเรียน!C23="","",นักเรียน!C23) -> 656 | D23: =IF(นักเรียน!E23="","",นักเรียน!E23) -> เด็กชายธนวัต มีศิลป์ | AJ23: =IF(SUM(F23:AI23),SUM(F23:AI23),"") | AK23: =IF(AJ23="","",ROUND(AJ23/$AJ$5*$AK$5,0)) | AN23: =IF(SUM(AL23:AM23),SUM(AL23:AM23),"") | AO23: =IF(AN23="","",ROUND(AN23/$AN$5*$AO$5,0)) | AP23: =IF(SUM(AK23,AO23),SUM(AK23,AO23),"") | AS23: =IF(SUM(AQ23:AR23),SUM(AQ23:AR23),"") | AT23: =IF(AS23="","",ROUND(AS23/$AS$5*$AT$5,0)) | AV23: =IF(AU23="","",ROUND(AU23/$AU$5*$AV$5,0)) | AW23: =IF(SUM(AT23,AV23),SUM(AT23,AV23),"") | AX23: =IF(SUM(AP23,AW23),SUM(AP23,AW23),"") | AY23: =IF(OR(นักเรียน!N23="ออก",AZ23="ร",AZ23="มส",AX23=""),"",IF(เกณฑ์!$N$19="ACT",VLOOKUP(AX23,gradeact,5,TRUE),VLOOKUP(AX23,grade1,5,TRUE)))
B24: 19 | C24: =IF(นักเรียน!C24="","",นักเรียน!C24) -> 627 | D24: =IF(นักเรียน!E24="","",นักเรียน!E24) -> เด็กชายธนบูรณ์ พุทธชัย | AJ24: =IF(SUM(F24:AI24),SUM(F24:AI24),"") | AK24: =IF(AJ24="","",ROUND(AJ24/$AJ$5*$AK$5,0)) | AN24: =IF(SUM(AL24:AM24),SUM(AL24:AM24),"") | AO24: =IF(AN24="","",ROUND(AN24/$AN$5*$AO$5,0)) | AP24: =IF(SUM(AK24,AO24),SUM(AK24,AO24),"") | AS24: =IF(SUM(AQ24:AR24),SUM(AQ24:AR24),"") | AT24: =IF(AS24="","",ROUND(AS24/$AS$5*$AT$5,0)) | AV24: =IF(AU24="","",ROUND(AU24/$AU$5*$AV$5,0)) | AW24: =IF(SUM(AT24,AV24),SUM(AT24,AV24),"") | AX24: =IF(SUM(AP24,AW24),SUM(AP24,AW24),"") | AY24: =IF(OR(นักเรียน!N24="ออก",AZ24="ร",AZ24="มส",AX24=""),"",IF(เกณฑ์!$N$19="ACT",VLOOKUP(AX24,gradeact,5,TRUE),VLOOKUP(AX24,grade1,5,TRUE)))
B25: 20 | C25: =IF(นักเรียน!C25="","",นักเรียน!C25) -> 628 | D25: =IF(นักเรียน!E25="","",นักเรียน!E25) -> เด็กหญิงณัฐชา มาตรรักษ์ | AJ25: =IF(SUM(F25:AI25),SUM(F25:AI25),"") | AK25: =IF(AJ25="","",ROUND(AJ25/$AJ$5*$AK$5,0)) | AN25: =IF(SUM(AL25:AM25),SUM(AL25:AM25),"") | AO25: =IF(AN25="","",ROUND(AN25/$AN$5*$AO$5,0)) | AP25: =IF(SUM(AK25,AO25),SUM(AK25,AO25),"") | AS25: =IF(SUM(AQ25:AR25),SUM(AQ25:AR25),"") | AT25: =IF(AS25="","",ROUND(AS25/$AS$5*$AT$5,0)) | AV25: =IF(AU25="","",ROUND(AU25/$AU$5*$AV$5,0)) | AW25: =IF(SUM(AT25,AV25),SUM(AT25,AV25),"") | AX25: =IF(SUM(AP25,AW25),SUM(AP25,AW25),"") | AY25: =IF(OR(นักเรียน!N25="ออก",AZ25="ร",AZ25="มส",AX25=""),"",IF(เกณฑ์!$N$19="ACT",VLOOKUP(AX25,gradeact,5,TRUE),VLOOKUP(AX25,grade1,5,TRUE)))
... B55: 50 | C55: =IF(นักเรียน!C55="","",นักเรียน!C55) | D55: =IF(นักเรียน!E55="","",นักเรียน!E55) | AJ55: =IF(SUM(F55:AI55),SUM(F55:AI55),"") | AK55: =IF(AJ55="","",ROUND(AJ55/$AJ$5*$AK$5,0)) | AN55: =IF(SUM(AL55:AM55),SUM(AL55:AM55),"") | AO55: =IF(AN55="","",ROUND(AN55/$AN$5*$AO$5,0)) | AP55: =IF(SUM(AK55,AO55),SUM(AK55,AO55),"") | AS55: =IF(SUM(AQ55:AR55),SUM(AQ55:AR55),"") | AT55: =IF(AS55="","",ROUND(AS55/$AS$5*$AT$5,0)) | AV55: =IF(AU55="","",ROUND(AU55/$AU$5*$AV$5,0)) | AW55: =IF(SUM(AT55,AV55),SUM(AT55,AV55),"") | AX55: =IF(SUM(AP55,AW55),SUM(AP55,AW55),"") | AY55: =IF(OR(นักเรียน!N55="ออก",AZ55="ร",AZ55="มส",AX55=""),"",IF(เกณฑ์!$N$19="ACT",VLOOKUP(AX55,gradeact,5,TRUE),VLOOKUP(AX55,grade1,5,TRUE)))

Sheet คะแนนตัวชี้วัด
JD1: รวมคะแนนที่ได้ | JE1: จำนวนตัวชี้วัด | JG1: เกณฑ์ผ่าน ตชว.(%) | JL1: ข้อมูลคะแนนรวมตัวชี้วัด
F2: ชีท "คะแนนตัวชี้วัด"----ให้บันทึกคะแนนประเมินผลตามตัวชี้วัด ของรายวิชาตามหลักสูตรฯ---ให้กำหนดค่าคะแนนเต็ม ในช่อง "คะแนนเต็ม" ช่องใดไม่ได้ใช้---ให้ปล่อยว่างไว้ | JC2: ไม่ต้องการให้แสดงข้อมูล "รวมคะแนนที่ได้" คลิ๊กเลือก "เอาออก" | JG2: =เกณฑ์!J31 -> 80
B3: เลขที่ | C3: เลขประจำตัว | D3: ชื่อ - สกุล | F3: =IF(Home!C11="","ผลการประเมินตัวชี้วัด รายวิชา ","ผลการประเมินตัวชี้วัด รายวิชา "&Home!C11&" "&Home!C12)&" ชั้น"&Home!C9 -> ผลการประเมินตัวชี้วัด รายวิชา ประวัติศาสตร์ ส 15101 ชั้นประถมศึกษาปีที่ 5 | X3: =F3 -> ผลการประเมินตัวชี้วัด รายวิชา ประวัติศาสตร์ ส 15101 ชั้นประถมศึกษาปีที่ 5 | AV3: =F3 -> ผลการประเมินตัวชี้วัด รายวิชา ประวัติศาสตร์ ส 15101 ชั้นประถมศึกษาปีที่ 5 | BT3: =F3 -> ผลการประเมินตัวชี้วัด รายวิชา ประวัติศาสตร์ ส 15101 ชั้นประถมศึกษาปีที่ 5 | CR3: =F3 -> ผลการประเมินตัวชี้วัด รายวิชา ประวัติศาสตร์ ส 15101 ชั้นประถมศึกษาปีที่ 5 | DP3: =F3 -> ผลการประเมินตัวชี้วัด รายวิชา ประวัติศาสตร์ ส 15101 ชั้นประถมศึกษาปีที่ 5 | EN3: =F3 -> ผลการประเมินตัวชี้วัด รายวิชา ประวัติศาสตร์ ส 15101 ชั้นประถมศึกษาปีที่ 5 | FL3: =F3 -> ผลการประเมินตัวชี้วัด รายวิชา ประวัติศาสตร์ ส 15101 ชั้นประถมศึกษาปีที่ 5 | GJ3: =F3 -> ผลการประเมินตัวชี้วัด รายวิชา ประวัติศาสตร์ ส 15101 ชั้นประถมศึกษาปีที่ 5 | HH3: =F3 -> ผลการประเมินตัวชี้วัด รายวิชา ประวัติศาสตร์ ส 15101 ชั้นประถมศึกษาปีที่ 5 | IF3: =F3 -> ผลการประเมินตัวชี้วัด รายวิชา ประวัติศาสตร์ ส 15101 ชั้นประถมศึกษาปีที่ 5 | JD3: =F3 -> ผลการประเมินตัวชี้วัด รายวิชา ประวัติศาสตร์ ส 15101 ชั้นประถมศึกษาปีที่ 5
E4: มาตรฐาน | F4: =IF(ตัวชีวัด!$D$18="","",ตัวชีวัด!$D$18) -> ส 4.1.1 | L4: =IF(ตัวชีวัด!$D$19="","",ตัวชีวัด!$D$19) -> ส 4.1.2 | R4: =IF(ตัวชีวัด!$D$20="","",ตัวชีวัด!$D$20) -> ส 4.1.3 | X4: =IF(ตัวชีวัด!$D$21="","",ตัวชีวัด!$D$21) -> ส 4.2.1 | AD4: =IF(ตัวชีวัด!$D$22="","",ตัวชีวัด!$D$22) -> ส 4.2.2 | AJ4: =IF(ตัวชีวัด!$D$23="","",ตัวชีวัด!$D$23) -> ส 4.3.1 | AP4: =IF(ตัวชีวัด!$D$24="","",ตัวชีวัด!$D$24) -> ส 4.3.2 | AV4: =IF(ตัวชีวัด!$D$25="","",ตัวชีวัด!$D$25) -> ส 4.3.3 | BB4: =IF(ตัวชีวัด!$D$26="","",ตัวชีวัด!$D$26) -> ส 4.3.4 | BH4: =IF(ตัวชีวัด!$D$27="","",ตัวชีวัด!$D$27) | BN4: =IF(ตัวชีวัด!$D$28="","",ตัวชีวัด!$D$28) | BT4: =IF(ตัวชีวัด!$D$29="","",ตัวชีวัด!$D$29) | BZ4: =IF(ตัวชีวัด!$D$30="","",ตัวชีวัด!$D$30) | CF4: =IF(ตัวชีวัด!$D$31="","",ตัวชีวัด!$D$31) | CL4: =IF(ตัวชีวัด!$D$32="","",ตัวชีวัด!$D$32) | CR4: =IF(ตัวชีวัด!$D$33="","",ตัวชีวัด!$D$33) | CX4: =IF(ตัวชีวัด!$D$34="","",ตัวชีวัด!$D$34) | DD4: =IF(ตัวชีวัด!$D$35="","",ตัวชีวัด!$D$35) | DJ4: =IF(ตัวชีวัด!$D$36="","",ตัวชีวัด!$D$36) | DP4: =IF(ตัวชีวัด!$D$37="","",ตัวชีวัด!$D$37) | DV4: =IF(ตัวชีวัด!$D$38="","",ตัวชีวัด!$D$38) | EB4: =IF(ตัวชีวัด!$D$39="","",ตัวชีวัด!$D$39) | EH4: =IF(ตัวชีวัด!$D$40="","",ตัวชีวัด!$D$40) | EN4: =IF(ตัวชีวัด!$D$41="","",ตัวชีวัด!$D$41) | ET4: =IF(ตัวชีวัด!$D$42="","",ตัวชีวัด!$D$42) | EZ4: =IF(ตัวชีวัด!$D$43="","",ตัวชีวัด!$D$43) | FF4: =IF(ตัวชีวัด!$D$44="","",ตัวชีวัด!$D$44) | FL4: =IF(ตัวชีวัด!$D$45="","",ตัวชีวัด!$D$45) | FR4: =IF(ตัวชีวัด!$D$46="","",ตัวชีวัด!$D$46) | FX4: =IF(ตัวชีวัด!$D$47="","",ตัวชีวัด!$D$47) | GD4: =IF(ตัวชีวัด!$D$48="","",ตัวชีวัด!$D$48) | GJ4: =IF(ตัวชีวัด!$D$49="","",ตัวชีวัด!$D$49) | GP4: =IF(ตัวชีวัด!$D$50="","",ตัวชีวัด!$D$50) | GV4: =IF(ตัวชีวัด!$D$51="","",ตัวชีวัด!$D$51) | HB4: =IF(ตัวชีวัด!$D$52="","",ตัวชีวัด!$D$52) | HH4: =IF(ตัวชีวัด!$D$53="","",ตัวชีวัด!$D$53) | HN4: =IF(ตัวชีวัด!$D$54="","",ตัวชีวัด!$D$54) | HT4: =IF(ตัวชีวัด!$D$55="","",ตัวชีวัด!$D$55) | HZ4: =IF(ตัวชีวัด!$D$56="","",ตัวชีวัด!$D$56) | IF4: =IF(ตัวชีวัด!$D$57="","",ตัวชีวัด!$D$57) | IL4: =IF(ตัวชีวัด!$D$58="","",ตัวชีวัด!$D$58) | IR4: =IF(ตัวชีวัด!$D$59="","",ตัวชีวัด!$D$59) | IX4: =IF(ตัวชีวัด!$D$60="","",ตัวชีวัด!$D$60) | JD4: รวมตัวชี้วัดรายวิชา ทั้งหมด | JF4: =IF(COUNT(ตัวชีวัด!C18:C60),COUNT(ตัวชีวัด!C18:C60),"-") -> 9 | JG4: ตัวชี้วัด | JH4: หมายเหตุ | JM4: รวมคะแนนตัวชี้วัด
E5: ตัวชี้วัดที่ | F5: =IF(ตัวชีวัด!$E$18="","",ตัวชีวัด!$E$18) -> 1.สืบค้นความเป็นมาของท้องถิ่นโดยใช้หลักฐานที่หลากหลาย | L5: =IF(ตัวชีวัด!$E$19="","",ตัวชีวัด!$E$19) -> 2. รวบรวมข้อมูลจากแหล่งต่าง ๆ เพื่อตอบคำถามทางประวัติศาสตร์ อย่างมีเหตุผล | R5: =IF(ตัวชีวัด!$E$20="","",ตัวชีวัด!$E$20) -> 3.อธิบายความแตกต่างระหว่างความจริงกับข้อเท็จจริงเกี่ยวกับเรื่องราวในท้องถิ่น | X5: =IF(ตัวชีวัด!$E$21="","",ตัวชีวัด!$E$21) -> 4.อธิบายอิทธิพลของอารยธรรมอินเดียและจีนที่มีต่อไทย และเอเชียตะวันออกเฉียงใต้โดยสังเขป | AD5: =IF(ตัวชีวัด!$E$22="","",ตัวชีวัด!$E$22) -> 5.อภิปรายอิทธิพลของวัฒนธรรมต่างชาติที่มีต่อสังคมไทยปัจจุบันโดยสังเขป | AJ5: =IF(ตัวชีวัด!$E$23="","",ตัวชีวัด!$E$23) -> 6.อธิบายพัฒนาการของอาณาจักรอยุธยาและธนบุรีโดยสังเขป | AP5: =IF(ตัวชีวัด!$E$24="","",ตัวชีวัด!$E$24) -> 7.อธิบายปัจจัยที่ส่งเสริมความเจริญ รุ่งเรืองทางเศรษฐกิจและการปกครอง ของอาณาจักรอยุธยา | AV5: =IF(ตัวชีวัด!$E$25="","",ตัวชีวัด!$E$25) -> 8.บอกประวัติและผลงานของบุคคลสำคัญสมัยอยุธยาและธนบุรีที่น่าภาคภูมิใจ | BB5: =IF(ตัวชีวัด!$E$26="","",ตัวชีวัด!$E$26) -> 9.อธิบายภูมิปัญญาไทยที่สำคัญสมัยอยุธยาและธนบุรีที่น่าภาคภูมิใจและควรค่าแก่การอนุรักษ์ไว้ | BH5: =IF(ตัวชีวัด!$E$27="","",ตัวชีวัด!$E$27) | BN5: =IF(ตัวชีวัด!$E$28="","",ตัวชีวัด!$E$28) | BT5: =IF(ตัวชีวัด!$E$29="","",ตัวชีวัด!$E$29) | BZ5: =IF(ตัวชีวัด!$E$30="","",ตัวชีวัด!$E$30) | CF5: =IF(ตัวชีวัด!$E$31="","",ตัวชีวัด!$E$31) | CL5: =IF(ตัวชีวัด!$E$32="","",ตัวชีวัด!$E$32) | CR5: =IF(ตัวชีวัด!$E$33="","",ตัวชีวัด!$E$33) | CX5: =IF(ตัวชีวัด!$E$34="","",ตัวชีวัด!$E$34) | DD5: =IF(ตัวชีวัด!$E$35="","",ตัวชีวัด!$E$35) | DJ5: =IF(ตัวชีวัด!$E$36="","",ตัวชีวัด!$E$36) | DP5: =IF(ตัวชีวัด!$E$37="","",ตัวชีวัด!$E$37) | DV5: =IF(ตัวชีวัด!$E$38="","",ตัวชีวัด!$E$38) | EB5: =IF(ตัวชีวัด!$E$39="","",ตัวชีวัด!$E$39) | EH5: =IF(ตัวชีวัด!$E$40="","",ตัวชีวัด!$E$40) | EN5: =IF(ตัวชีวัด!$E$41="","",ตัวชีวัด!$E$41) | ET5: =IF(ตัวชีวัด!$E$42="","",ตัวชีวัด!$E$42) | EZ5: =IF(ตัวชีวัด!$E$43="","",ตัวชีวัด!$E$43) | FF5: =IF(ตัวชีวัด!$E$44="","",ตัวชีวัด!$E$44) | FL5: =IF(ตัวชีวัด!$E$45="","",ตัวชีวัด!$E$45) | FR5: =IF(ตัวชีวัด!$E$46="","",ตัวชีวัด!$E$46) | FX5: =IF(ตัวชีวัด!$E$47="","",ตัวชีวัด!$E$47) | GD5: =IF(ตัวชีวัด!$E$48="","",ตัวชีวัด!$E$48) | GJ5: =IF(ตัวชีวัด!$E$49="","",ตัวชีวัด!$E$49) | GP5: =IF(ตัวชีวัด!$E$50="","",ตัวชีวัด!$E$50) | GV5: =IF(ตัวชีวัด!$E$51="","",ตัวชีวัด!$E$51) | HB5: =IF(ตัวชีวัด!$E$52="","",ตัวชีวัด!$E$52) | HH5: =IF(ตัวชีวัด!$E$53="","",ตัวชีวัด!$E$53) | HN5: =IF(ตัวชีวัด!$E$54="","",ตัวชีวัด!$E$54) | HT5: =IF(ตัวชีวัด!$E$55="","",ตัวชีวัด!$E$55) | HZ5: =IF(ตัวชีวัด!$E$56="","",ตัวชีวัด!$E$56) | IF5: =IF(ตัวชีวัด!$E$57="","",ตัวชีวัด!$E$57) | IL5: =IF(ตัวชีวัด!$E$58="","",ตัวชีวัด!$E$58) | IR5: =IF(ตัวชีวัด!$E$59="","",ตัวชีวัด!$E$59) | IX5: =IF(ตัวชีวัด!$E$60="","",ตัวชีวัด!$E$60) | JD5: รวมคะแนนที่ได้ | JE5: จำนวนตัวชี้วัดที่มีผลการประเมิน อยู่ในระดับ "ผ่าน" | JG5: สรุปผลการประเมิน | JM5: ตชว.1-10 | JN5: ตชว.11-20 | JO5: ตชว.21-30 | JP5: ตชว.31-43 | JQ5: รวม | JS5: จำนวนนักเรียน
E6: คะแนนเต็ม | F6: 10 | I6: รวม | J6: =IF(SUM(F6:H6),SUM(F6:H6),"") -> 10 | K6: สรุป | L6: 10 | O6: รวม | P6: =IF(SUM(L6:N6),SUM(L6:N6),"") -> 10 | Q6: สรุป | R6: 10 | U6: รวม | V6: =IF(SUM(R6:T6),SUM(R6:T6),"") -> 10 | W6: สรุป | X6: 10 | AA6: รวม | AB6: =IF(SUM(X6:Z6),SUM(X6:Z6),"") -> 10 | AC6: สรุป | AD6: 10 | AG6: รวม | AH6: =IF(SUM(AD6:AF6),SUM(AD6:AF6),"") -> 10 | AI6: สรุป | AJ6: 10 | AM6: รวม | AN6: =IF(SUM(AJ6:AL6),SUM(AJ6:AL6),"") -> 10 | AO6: สรุป | AP6: 10 | AS6: รวม | AT6: =IF(SUM(AP6:AR6),SUM(AP6:AR6),"") -> 10 | AU6: สรุป | AV6: 10 | AY6: รวม | AZ6: =IF(SUM(AV6:AX6),SUM(AV6:AX6),"") -> 10 | BA6: สรุป | BB6: 10 | BE6: รวม | BF6: =IF(SUM(BB6:BD6),SUM(BB6:BD6),"") -> 10 | BG6: สรุป | BK6: รวม | BL6: =IF(SUM(BH6:BJ6),SUM(BH6:BJ6),"") | BM6: สรุป | BQ6: รวม | BR6: =IF(SUM(BN6:BP6),SUM(BN6:BP6),"") | BS6: สรุป | BW6: รวม | BX6: =IF(SUM(BT6:BV6),SUM(BT6:BV6),"") | BY6: สรุป | CC6: รวม | CD6: =IF(SUM(BZ6:CB6),SUM(BZ6:CB6),"") | CE6: สรุป | CI6: รวม | CJ6: =IF(SUM(CF6:CH6),SUM(CF6:CH6),"") | CK6: สรุป | CO6: รวม | CP6: =IF(SUM(CL6:CN6),SUM(CL6:CN6),"") | CQ6: สรุป | CU6: รวม | CV6: =IF(SUM(CR6:CT6),SUM(CR6:CT6),"") | CW6: สรุป | DA6: รวม | DB6: =IF(SUM(CX6:CZ6),SUM(CX6:CZ6),"") | DC6: สรุป | DG6: รวม | DH6: =IF(SUM(DD6:DF6),SUM(DD6:DF6),"") | DI6: สรุป | DM6: รวม | DN6: =IF(SUM(DJ6:DL6),SUM(DJ6:DL6),"") | DO6: สรุป | DS6: รวม | DT6: =IF(SUM(DP6:DR6),SUM(DP6:DR6),"") | DU6: สรุป | DY6: รวม | DZ6: =IF(SUM(DV6:DX6),SUM(DV6:DX6),"") | EA6: สรุป | EE6: รวม | EF6: =IF(SUM(EB6:ED6),SUM(EB6:ED6),"") | EG6: สรุป | EK6: รวม | EL6: =IF(SUM(EH6:EJ6),SUM(EH6:EJ6),"") | EM6: สรุป | EQ6: รวม | ER6: =IF(SUM(EN6:EP6),SUM(EN6:EP6),"") | ES6: สรุป | EW6: รวม | EX6: =IF(SUM(ET6:EV6),SUM(ET6:EV6),"") | EY6: สรุป | FC6: รวม | FD6: =IF(SUM(EZ6:FB6),SUM(EZ6:FB6),"") | FE6: สรุป | FI6: รวม | FJ6: =IF(SUM(FF6:FH6),SUM(FF6:FH6),"") | FK6: สรุป | FO6: รวม | FP6: =IF(SUM(FL6:FN6),SUM(FL6:FN6),"") | FQ6: สรุป | FU6: รวม | FV6: =IF(SUM(FR6:FT6),SUM(FR6:FT6),"") | FW6: สรุป | GA6: รวม | GB6: =IF(SUM(FX6:FZ6),SUM(FX6:FZ6),"") | GC6: สรุป | GG6: รวม | GH6: =IF(SUM(GD6:GF6),SUM(GD6:GF6),"") | GI6: สรุป | GM6: รวม | GN6: =IF(SUM(GJ6:GL6),SUM(GJ6:GL6),"") | GO6: สรุป | GS6: รวม | GT6: =IF(SUM(GP6:GR6),SUM(GP6:GR6),"") | GU6: สรุป | GY6: รวม | GZ6: =IF(SUM(GV6:GX6),SUM(GV6:GX6),"") | HA6: สรุป | HE6: รวม | HF6: =IF(SUM(HB6:HD6),SUM(HB6:HD6),"") | HG6: สรุป | HK6: รวม | HL6: =IF(SUM(HH6:HJ6),SUM(HH6:HJ6),"") | HM6: สรุป | HQ6: รวม | HR6: =IF(SUM(HN6:HP6),SUM(HN6:HP6),"") | HS6: สรุป | HW6: รวม | HX6: =IF(SUM(HT6:HV6),SUM(HT6:HV6),"") | HY6: สรุป | IC6: รวม | ID6: =IF(SUM(HZ6:IB6),SUM(HZ6:IB6),"") | IE6: สรุป | II6: รวม | IJ6: =IF(SUM(IF6:IH6),SUM(IF6:IH6),"") | IK6: สรุป | IO6: รวม | IP6: =IF(SUM(IL6:IN6),SUM(IL6:IN6),"") | IQ6: สรุป | IU6: รวม | IV6: =IF(SUM(IR6:IT6),SUM(IR6:IT6),"") | IW6: สรุป | JA6: รวม | JB6: =IF(SUM(IX6:IZ6),SUM(IX6:IZ6),"") | JC6: สรุป | JD6: =IF($JD$2="เอาออก","",JQ6) -> 90 | JE6: จำนวน (ตัวชี้วัด) | JF6: คิดเป็นร้อยละ | JM6: =SUM(BL6,BF6,AZ6,AT6,AN6,AH6,AB6,V6,P6,J6) -> 90 | JN6: =SUM(DT6,DN6,DH6,DB6,CV6,CP6,CJ6,CD6,BX6,BR6) -> 0 | JO6: =SUM(GB6,FV6,FP6,FJ6,FD6,EX6,ER6,EL6,EF6,DZ6) -> 0 | JP6: =SUM(JB6,IV6,IP6,IJ6,ID6,HX6,HR6,HL6,HF6,GZ6,GT6,GN6,GH6) -> 0 | JQ6: =IF(SUM(JM6:JP6),SUM(JM6:JP6),"") -> 90 | JS6: ทั้งหมด (คน) | JT6: ผ่าน | JU6: ไม่ผ่าน
B7: 1 | C7: =IF(นักเรียน!C6="","",นักเรียน!C6) -> 1526 | D7: =IF(นักเรียน!E6="","",นักเรียน!E6) -> เด็กชายจิรทีปต์ พวงมาลา | F7: 6 | I7: =IF(SUM(F7:H7),SUM(F7:H7),"") -> 6 | J7: =IF(I7="","",ROUND(I7/$J$6*100,0)) -> 60 | K7: =IF(I7="","",VLOOKUP(J7,gradekpi,4)) -> ผ่าน | L7: 6 | O7: =IF(SUM(L7:N7),SUM(L7:N7),"") -> 6 | P7: =IF(O7="","",ROUND(O7/$P$6*100,0)) -> 60 | Q7: =IF(O7="","",VLOOKUP(P7,gradekpi,4)) -> ผ่าน | R7: 6 | U7: =IF(SUM(R7:T7),SUM(R7:T7),"") -> 6 | V7: =IF(U7="","",ROUND(U7/$V$6*100,0)) -> 60 | W7: =IF(U7="","",VLOOKUP(V7,gradekpi,4)) -> ผ่าน | X7: 6 | AA7: =IF(SUM(X7:Z7),SUM(X7:Z7),"") -> 6 | AB7: =IF(AA7="","",ROUND(AA7/$AB$6*100,0)) -> 60 | AC7: =IF(AA7="","",VLOOKUP(AB7,gradekpi,4)) -> ผ่าน | AD7: 6 | AG7: =IF(SUM(AD7:AF7),SUM(AD7:AF7),"") -> 6 | AH7: =IF(AG7="","",ROUND(AG7/$AH$6*100,0)) -> 60 | AI7: =IF(AG7="","",VLOOKUP(AH7,gradekpi,4)) -> ผ่าน | AJ7: 6 | AM7: =IF(SUM(AJ7:AL7),SUM(AJ7:AL7),"") -> 6 | AN7: =IF(AM7="","",ROUND(AM7/$AN$6*100,0)) -> 60 | AO7: =IF(AM7="","",VLOOKUP(AN7,gradekpi,4)) -> ผ่าน | AP7: 6 | AS7: =IF(SUM(AP7:AR7),SUM(AP7:AR7),"") -> 6 | AT7: =IF(AS7="","",ROUND(AS7/$AT$6*100,0)) -> 60 | AU7: =IF(AS7="","",VLOOKUP(AT7,gradekpi,4)) -> ผ่าน | AV7: 6 | AY7: =IF(SUM(AV7:AX7),SUM(AV7:AX7),"") -> 6 | AZ7: =IF(AY7="","",ROUND(AY7/$AZ$6*100,0)) -> 60 | BA7: =IF(AY7="","",VLOOKUP(AZ7,gradekpi,4)) -> ผ่าน | BB7: 6 | BE7: =IF(SUM(BB7:BD7),SUM(BB7:BD7),"") -> 6 | BF7: =IF(BE7="","",ROUND(BE7/$BF$6*100,0)) -> 60 | BG7: =IF(BE7="","",VLOOKUP(BF7,gradekpi,4)) -> ผ่าน | BK7: =IF(SUM(BH7:BJ7),SUM(BH7:BJ7),"") | BL7: =IF(BK7="","",ROUND(BK7/$BL$6*100,0)) | BM7: =IF(BK7="","",VLOOKUP(BL7,gradekpi,4)) | BQ7: =IF(SUM(BN7:BP7),SUM(BN7:BP7),"") | BR7: =IF(BQ7="","",ROUND(BQ7/$BR$6*100,0)) | BS7: =IF(BQ7="","",VLOOKUP(BR7,gradekpi,4)) | BW7: =IF(SUM(BT7:BV7),SUM(BT7:BV7),"") | BX7: =IF(BW7="","",ROUND(BW7/$BX$6*100,0)) | BY7: =IF(BW7="","",VLOOKUP(BX7,gradekpi,4)) | CC7: =IF(SUM(BZ7:CB7),SUM(BZ7:CB7),"") | CD7: =IF(CC7="","",ROUND(CC7/$CD$6*100,0)) | CE7: =IF(CC7="","",VLOOKUP(CD7,gradekpi,4)) | CI7: =IF(SUM(CF7:CH7),SUM(CF7:CH7),"") | CJ7: =IF(CI7="","",ROUND(CI7/$CJ$6*100,0)) | CK7: =IF(CI7="","",VLOOKUP(CJ7,gradekpi,4)) | CO7: =IF(SUM(CL7:CN7),SUM(CL7:CN7),"") | CP7: =IF(CO7="","",ROUND(CO7/$CP$6*100,0)) | CQ7: =IF(CO7="","",VLOOKUP(CP7,gradekpi,4)) | CU7: =IF(SUM(CR7:CT7),SUM(CR7:CT7),"") | CV7: =IF(CU7="","",ROUND(CU7/$CV$6*100,0)) | CW7: =IF(CU7="","",VLOOKUP(CV7,gradekpi,4)) | DA7: =IF(SUM(CX7:CZ7),SUM(CX7:CZ7),"") | DB7: =IF(DA7="","",ROUND(DA7/$DB$6*100,0)) | DC7: =IF(DA7="","",VLOOKUP(DB7,gradekpi,4)) | DG7: =IF(SUM(DD7:DF7),SUM(DD7:DF7),"") | DH7: =IF(DG7="","",ROUND(DG7/$DH$6*100,0)) | DI7: =IF(DG7="","",VLOOKUP(DH7,gradekpi,4)) | DM7: =IF(SUM(DJ7:DL7),SUM(DJ7:DL7),"") | DN7: =IF(DM7="","",ROUND(DM7/$DN$6*100,0)) | DO7: =IF(DM7="","",VLOOKUP(DN7,gradekpi,4)) | DS7: =IF(SUM(DP7:DR7),SUM(DP7:DR7),"") | DT7: =IF(DS7="","",ROUND(DS7/$DT$6*100,0)) | DU7: =IF(DS7="","",VLOOKUP(DT7,gradekpi,4)) | DY7: =IF(SUM(DV7:DX7),SUM(DV7:DX7),"") | DZ7: =IF(DY7="","",ROUND(DY7/$DZ$6*100,0)) | EA7: =IF(DY7="","",VLOOKUP(DZ7,gradekpi,4)) | EE7: =IF(SUM(EB7:ED7),SUM(EB7:ED7),"") | EF7: =IF(EE7="","",ROUND(EE7/$EF$6*100,0)) | EG7: =IF(EE7="","",VLOOKUP(EF7,gradekpi,4)) | EK7: =IF(SUM(EH7:EJ7),SUM(EH7:EJ7),"") | EL7: =IF(EK7="","",ROUND(EK7/$EL$6*100,0)) | EM7: =IF(EK7="","",VLOOKUP(EL7,gradekpi,4)) | EQ7: =IF(SUM(EN7:EP7),SUM(EN7:EP7),"") | ER7: =IF(EQ7="","",ROUND(EQ7/$ER$6*100,0)) | ES7: =IF(EQ7="","",VLOOKUP(ER7,gradekpi,4)) | EW7: =IF(SUM(ET7:EV7),SUM(ET7:EV7),"") | EX7: =IF(EW7="","",ROUND(EW7/$EX$6*100,0)) | EY7: =IF(EW7="","",VLOOKUP(EX7,gradekpi,4)) | FC7: =IF(SUM(EZ7:FB7),SUM(EZ7:FB7),"") | FD7: =IF(FC7="","",ROUND(FC7/$FD$6*100,0)) | FE7: =IF(FC7="","",VLOOKUP(FD7,gradekpi,4)) | FI7: =IF(SUM(FF7:FH7),SUM(FF7:FH7),"") | FJ7: =IF(FI7="","",ROUND(FI7/$FJ$6*100,0)) | FK7: =IF(FI7="","",VLOOKUP(FJ7,gradekpi,4)) | FO7: =IF(SUM(FL7:FN7),SUM(FL7:FN7),"") | FP7: =IF(FO7="","",ROUND(FO7/$FP$6*100,0)) | FQ7: =IF(FO7="","",VLOOKUP(FP7,gradekpi,4)) | FU7: =IF(SUM(FR7:FT7),SUM(FR7:FT7),"") | FV7: =IF(FU7="","",ROUND(FU7/$FV$6*100,0)) | FW7: =IF(FU7="","",VLOOKUP(FV7,gradekpi,4)) | GA7: =IF(SUM(FX7:FZ7),SUM(FX7:FZ7),"") | GB7: =IF(GA7="","",ROUND(GA7/$GB$6*100,0)) | GC7: =IF(GA7="","",VLOOKUP(GB7,gradekpi,4)) | GG7: =IF(SUM(GD7:GF7),SUM(GD7:GF7),"") | GH7: =IF(GG7="","",ROUND(GG7/$GH$6*100,0)) | GI7: =IF(GG7="","",VLOOKUP(GH7,gradekpi,4)) | GM7: =IF(SUM(GJ7:GL7),SUM(GJ7:GL7),"") | GN7: =IF(GM7="","",ROUND(GM7/$GN$6*100,0)) | GO7: =IF(GM7="","",VLOOKUP(GN7,gradekpi,4)) | GS7: =IF(SUM(GP7:GR7),SUM(GP7:GR7),"") | GT7: =IF(GS7="","",ROUND(GS7/$GT$6*100,0)) | GU7: =IF(GS7="","",VLOOKUP(GT7,gradekpi,4)) | GY7: =IF(SUM(GV7:GX7),SUM(GV7:GX7),"") | GZ7: =IF(GY7="","",ROUND(GY7/$GZ$6*100,0)) | HA7: =IF(GY7="","",VLOOKUP(GZ7,gradekpi,4)) | HE7: =IF(SUM(HB7:HD7),SUM(HB7:HD7),"") | HF7: =IF(HE7="","",ROUND(HE7/$HF$6*100,0)) | HG7: =IF(HE7="","",VLOOKUP(HF7,gradekpi,4)) | HK7: =IF(SUM(HH7:HJ7),SUM(HH7:HJ7),"") | HL7: =IF(HK7="","",ROUND(HK7/$HL$6*100,0)) | HM7: =IF(HK7="","",VLOOKUP(HL7,gradekpi,4)) | HQ7: =IF(SUM(HN7:HP7),SUM(HN7:HP7),"") | HR7: =IF(HQ7="","",ROUND(HQ7/$HR$6*100,0)) | HS7: =IF(HQ7="","",VLOOKUP(HR7,gradekpi,4)) | HW7: =IF(SUM(HT7:HV7),SUM(HT7:HV7),"") | HX7: =IF(HW7="","",ROUND(HW7/$HX$6*100,0)) | HY7: =IF(HW7="","",VLOOKUP(HX7,gradekpi,4)) | IC7: =IF(SUM(HZ7:IB7),SUM(HZ7:IB7),"") | ID7: =IF(IC7="","",ROUND(IC7/$ID$6*100,0)) | IE7: =IF(IC7="","",VLOOKUP(ID7,gradekpi,4)) | II7: =IF(SUM(IF7:IH7),SUM(IF7:IH7),"") | IJ7: =IF(II7="","",ROUND(II7/$IJ$6*100,0)) | IK7: =IF(II7="","",VLOOKUP(IJ7,gradekpi,4)) | IO7: =IF(SUM(IL7:IN7),SUM(IL7:IN7),"") | IP7: =IF(IO7="","",ROUND(IO7/$IP$6*100,0)) | IQ7: =IF(IO7="","",VLOOKUP(IP7,gradekpi,4)) | IU7: =IF(SUM(IR7:IT7),SUM(IR7:IT7),"") | IV7: =IF(IU7="","",ROUND(IU7/$IV$6*100,0)) | IW7: =IF(IU7="","",VLOOKUP(IV7,gradekpi,4)) | JA7: =IF(SUM(IX7:IZ7),SUM(IX7:IZ7),"") | JB7: =IF(JA7="","",ROUND(JA7/$JB$6*100,0)) | JC7: =IF(JA7="","",VLOOKUP(JB7,gradekpi,4)) | JD7: =IF(OR(D7="",$JD$2="เอาออก"),"",JQ7) -> 54 | JE7: =IF(OR(D7="",$JE$2="เอาออก"),"",COUNTIF(F7:JC7,"ผ่าน")) -> 9 | JF7: =IF(JE7="","",ROUND(JE7/$JF$4*100,2)) -> 100 | JG7: =IF(JF7="","",IF(นักเรียน!N6="ออก","---ย้าย---",VLOOKUP(JF7,gradekpisum,4))) -> ผ่าน | JM7: =SUM(BK7,BE7,AY7,AS7,AM7,AG7,AA7,U7,O7,I7) -> 54 | JN7: =SUM(BQ7,BW7,CC7,CI7,CO7,CU7,DA7,DG7,DM7,DS7) -> 0 | JO7: =SUM(DY7,EE7,EK7,EQ7,EW7,FC7,FI7,FO7,FU7,GA7) -> 0 | JP7: =SUM(JA7,IU7,IO7,II7,IC7,HW7,HQ7,HK7,HE7,GY7,GS7,GM7,GG7) -> 0 | JQ7: =IF(SUM(JM7:JP7),SUM(JM7:JP7),"") -> 54 | JS7: =COUNTA(นักเรียน!E6:E55) -> 20 | JT7: =COUNTIF(JG7:JG56,"ผ่าน") -> 18 | JU7: =COUNTIF(JG7:JG56,"ไม่ผ่าน") -> 2
B8: 2 | C8: =IF(นักเรียน!C7="","",นักเรียน!C7) -> 1527 | D8: =IF(นักเรียน!E7="","",นักเรียน!E7) -> เด็กชายพีระศิลป์ นรสิงห์ | F8: 8 | I8: =IF(SUM(F8:H8),SUM(F8:H8),"") -> 8 | J8: =IF(I8="","",ROUND(I8/$J$6*100,0)) -> 80 | K8: =IF(I8="","",VLOOKUP(J8,gradekpi,4)) -> ผ่าน | L8: 8 | O8: =IF(SUM(L8:N8),SUM(L8:N8),"") -> 8 | P8: =IF(O8="","",ROUND(O8/$P$6*100,0)) -> 80 | Q8: =IF(O8="","",VLOOKUP(P8,gradekpi,4)) -> ผ่าน | R8: 8 | U8: =IF(SUM(R8:T8),SUM(R8:T8),"") -> 8 | V8: =IF(U8="","",ROUND(U8/$V$6*100,0)) -> 80 | W8: =IF(U8="","",VLOOKUP(V8,gradekpi,4)) -> ผ่าน | X8: 8 | AA8: =IF(SUM(X8:Z8),SUM(X8:Z8),"") -> 8 | AB8: =IF(AA8="","",ROUND(AA8/$AB$6*100,0)) -> 80 | AC8: =IF(AA8="","",VLOOKUP(AB8,gradekpi,4)) -> ผ่าน | AD8: 8 | AG8: =IF(SUM(AD8:AF8),SUM(AD8:AF8),"") -> 8 | AH8: =IF(AG8="","",ROUND(AG8/$AH$6*100,0)) -> 80 | AI8: =IF(AG8="","",VLOOKUP(AH8,gradekpi,4)) -> ผ่าน | AJ8: 8 | AM8: =IF(SUM(AJ8:AL8),SUM(AJ8:AL8),"") -> 8 | AN8: =IF(AM8="","",ROUND(AM8/$AN$6*100,0)) -> 80 | AO8: =IF(AM8="","",VLOOKUP(AN8,gradekpi,4)) -> ผ่าน | AP8: 8 | AS8: =IF(SUM(AP8:AR8),SUM(AP8:AR8),"") -> 8 | AT8: =IF(AS8="","",ROUND(AS8/$AT$6*100,0)) -> 80 | AU8: =IF(AS8="","",VLOOKUP(AT8,gradekpi,4)) -> ผ่าน | AV8: 8 | AY8: =IF(SUM(AV8:AX8),SUM(AV8:AX8),"") -> 8 | AZ8: =IF(AY8="","",ROUND(AY8/$AZ$6*100,0)) -> 80 | BA8: =IF(AY8="","",VLOOKUP(AZ8,gradekpi,4)) -> ผ่าน | BB8: 8 | BE8: =IF(SUM(BB8:BD8),SUM(BB8:BD8),"") -> 8 | BF8: =IF(BE8="","",ROUND(BE8/$BF$6*100,0)) -> 80 | BG8: =IF(BE8="","",VLOOKUP(BF8,gradekpi,4)) -> ผ่าน | BK8: =IF(SUM(BH8:BJ8),SUM(BH8:BJ8),"") | BL8: =IF(BK8="","",ROUND(BK8/$BL$6*100,0)) | BM8: =IF(BK8="","",VLOOKUP(BL8,gradekpi,4)) | BQ8: =IF(SUM(BN8:BP8),SUM(BN8:BP8),"") | BR8: =IF(BQ8="","",ROUND(BQ8/$BR$6*100,0)) | BS8: =IF(BQ8="","",VLOOKUP(BR8,gradekpi,4)) | BW8: =IF(SUM(BT8:BV8),SUM(BT8:BV8),"") | BX8: =IF(BW8="","",ROUND(BW8/$BX$6*100,0)) | BY8: =IF(BW8="","",VLOOKUP(BX8,gradekpi,4)) | CC8: =IF(SUM(BZ8:CB8),SUM(BZ8:CB8),"") | CD8: =IF(CC8="","",ROUND(CC8/$CD$6*100,0)) | CE8: =IF(CC8="","",VLOOKUP(CD8,gradekpi,4)) | CI8: =IF(SUM(CF8:CH8),SUM(CF8:CH8),"") | CJ8: =IF(CI8="","",ROUND(CI8/$CJ$6*100,0)) | CK8: =IF(CI8="","",VLOOKUP(CJ8,gradekpi,4)) | CO8: =IF(SUM(CL8:CN8),SUM(CL8:CN8),"") | CP8: =IF(CO8="","",ROUND(CO8/$CP$6*100,0)) | CQ8: =IF(CO8="","",VLOOKUP(CP8,gradekpi,4)) | CU8: =IF(SUM(CR8:CT8),SUM(CR8:CT8),"") | CV8: =IF(CU8="","",ROUND(CU8/$CV$6*100,0)) | CW8: =IF(CU8="","",VLOOKUP(CV8,gradekpi,4)) | DA8: =IF(SUM(CX8:CZ8),SUM(CX8:CZ8),"") | DB8: =IF(DA8="","",ROUND(DA8/$DB$6*100,0)) | DC8: =IF(DA8="","",VLOOKUP(DB8,gradekpi,4)) | DG8: =IF(SUM(DD8:DF8),SUM(DD8:DF8),"") | DH8: =IF(DG8="","",ROUND(DG8/$DH$6*100,0)) | DI8: =IF(DG8="","",VLOOKUP(DH8,gradekpi,4)) | DM8: =IF(SUM(DJ8:DL8),SUM(DJ8:DL8),"") | DN8: =IF(DM8="","",ROUND(DM8/$DN$6*100,0)) | DO8: =IF(DM8="","",VLOOKUP(DN8,gradekpi,4)) | DS8: =IF(SUM(DP8:DR8),SUM(DP8:DR8),"") | DT8: =IF(DS8="","",ROUND(DS8/$DT$6*100,0)) | DU8: =IF(DS8="","",VLOOKUP(DT8,gradekpi,4)) | DY8: =IF(SUM(DV8:DX8),SUM(DV8:DX8),"") | DZ8: =IF(DY8="","",ROUND(DY8/$DZ$6*100,0)) | EA8: =IF(DY8="","",VLOOKUP(DZ8,gradekpi,4)) | EE8: =IF(SUM(EB8:ED8),SUM(EB8:ED8),"") | EF8: =IF(EE8="","",ROUND(EE8/$EF$6*100,0)) | EG8: =IF(EE8="","",VLOOKUP(EF8,gradekpi,4)) | EK8: =IF(SUM(EH8:EJ8),SUM(EH8:EJ8),"") | EL8: =IF(EK8="","",ROUND(EK8/$EL$6*100,0)) | EM8: =IF(EK8="","",VLOOKUP(EL8,gradekpi,4)) | EQ8: =IF(SUM(EN8:EP8),SUM(EN8:EP8),"") | ER8: =IF(EQ8="","",ROUND(EQ8/$ER$6*100,0)) | ES8: =IF(EQ8="","",VLOOKUP(ER8,gradekpi,4)) | EW8: =IF(SUM(ET8:EV8),SUM(ET8:EV8),"") | EX8: =IF(EW8="","",ROUND(EW8/$EX$6*100,0)) | EY8: =IF(EW8="","",VLOOKUP(EX8,gradekpi,4)) | FC8: =IF(SUM(EZ8:FB8),SUM(EZ8:FB8),"") | FD8: =IF(FC8="","",ROUND(FC8/$FD$6*100,0)) | FE8: =IF(FC8="","",VLOOKUP(FD8,gradekpi,4)) | FI8: =IF(SUM(FF8:FH8),SUM(FF8:FH8),"") | FJ8: =IF(FI8="","",ROUND(FI8/$FJ$6*100,0)) | FK8: =IF(FI8="","",VLOOKUP(FJ8,gradekpi,4)) | FO8: =IF(SUM(FL8:FN8),SUM(FL8:FN8),"") | FP8: =IF(FO8="","",ROUND(FO8/$FP$6*100,0)) | FQ8: =IF(FO8="","",VLOOKUP(FP8,gradekpi,4)) | FU8: =IF(SUM(FR8:FT8),SUM(FR8:FT8),"") | FV8: =IF(FU8="","",ROUND(FU8/$FV$6*100,0)) | FW8: =IF(FU8="","",VLOOKUP(FV8,gradekpi,4)) | GA8: =IF(SUM(FX8:FZ8),SUM(FX8:FZ8),"") | GB8: =IF(GA8="","",ROUND(GA8/$GB$6*100,0)) | GC8: =IF(GA8="","",VLOOKUP(GB8,gradekpi,4)) | GG8: =IF(SUM(GD8:GF8),SUM(GD8:GF8),"") | GH8: =IF(GG8="","",ROUND(GG8/$GH$6*100,0)) | GI8: =IF(GG8="","",VLOOKUP(GH8,gradekpi,4)) | GM8: =IF(SUM(GJ8:GL8),SUM(GJ8:GL8),"") | GN8: =IF(GM8="","",ROUND(GM8/$GN$6*100,0)) | GO8: =IF(GM8="","",VLOOKUP(GN8,gradekpi,4)) | GS8: =IF(SUM(GP8:GR8),SUM(GP8:GR8),"") | GT8: =IF(GS8="","",ROUND(GS8/$GT$6*100,0)) | GU8: =IF(GS8="","",VLOOKUP(GT8,gradekpi,4)) | GY8: =IF(SUM(GV8:GX8),SUM(GV8:GX8),"") | GZ8: =IF(GY8="","",ROUND(GY8/$GZ$6*100,0)) | HA8: =IF(GY8="","",VLOOKUP(GZ8,gradekpi,4)) | HE8: =IF(SUM(HB8:HD8),SUM(HB8:HD8),"") | HF8: =IF(HE8="","",ROUND(HE8/$HF$6*100,0)) | HG8: =IF(HE8="","",VLOOKUP(HF8,gradekpi,4)) | HK8: =IF(SUM(HH8:HJ8),SUM(HH8:HJ8),"") | HL8: =IF(HK8="","",ROUND(HK8/$HL$6*100,0)) | HM8: =IF(HK8="","",VLOOKUP(HL8,gradekpi,4)) | HQ8: =IF(SUM(HN8:HP8),SUM(HN8:HP8),"") | HR8: =IF(HQ8="","",ROUND(HQ8/$HR$6*100,0)) | HS8: =IF(HQ8="","",VLOOKUP(HR8,gradekpi,4)) | HW8: =IF(SUM(HT8:HV8),SUM(HT8:HV8),"") | HX8: =IF(HW8="","",ROUND(HW8/$HX$6*100,0)) | HY8: =IF(HW8="","",VLOOKUP(HX8,gradekpi,4)) | IC8: =IF(SUM(HZ8:IB8),SUM(HZ8:IB8),"") | ID8: =IF(IC8="","",ROUND(IC8/$ID$6*100,0)) | IE8: =IF(IC8="","",VLOOKUP(ID8,gradekpi,4)) | II8: =IF(SUM(IF8:IH8),SUM(IF8:IH8),"") | IJ8: =IF(II8="","",ROUND(II8/$IJ$6*100,0)) | IK8: =IF(II8="","",VLOOKUP(IJ8,gradekpi,4)) | IO8: =IF(SUM(IL8:IN8),SUM(IL8:IN8),"") | IP8: =IF(IO8="","",ROUND(IO8/$IP$6*100,0)) | IQ8: =IF(IO8="","",VLOOKUP(IP8,gradekpi,4)) | IU8: =IF(SUM(IR8:IT8),SUM(IR8:IT8),"") | IV8: =IF(IU8="","",ROUND(IU8/$IV$6*100,0)) | IW8: =IF(IU8="","",VLOOKUP(IV8,gradekpi,4)) | JA8: =IF(SUM(IX8:IZ8),SUM(IX8:IZ8),"") | JB8: =IF(JA8="","",ROUND(JA8/$JB$6*100,0)) | JC8: =IF(JA8="","",VLOOKUP(JB8,gradekpi,4)) | JD8: =IF(OR(D8="",$JD$2="เอาออก"),"",JQ8) -> 72 | JE8: =IF(OR(D8="",$JE$2="เอาออก"),"",COUNTIF(F8:JC8,"ผ่าน")) -> 9 | JF8: =IF(JE8="","",ROUND(JE8/$JF$4*100,2)) -> 100 | JG8: =IF(JF8="","",IF(นักเรียน!N7="ออก","---ย้าย---",VLOOKUP(JF8,gradekpisum,4))) -> ผ่าน | JM8: =SUM(BK8,BE8,AY8,AS8,AM8,AG8,AA8,U8,O8,I8) -> 72 | JN8: =SUM(BQ8,BW8,CC8,CI8,CO8,CU8,DA8,DG8,DM8,DS8) -> 0 | JO8: =SUM(DY8,EE8,EK8,EQ8,EW8,FC8,FI8,FO8,FU8,GA8) -> 0 | JP8: =SUM(JA8,IU8,IO8,II8,IC8,HW8,HQ8,HK8,HE8,GY8,GS8,GM8,GG8) -> 0 | JQ8: =IF(SUM(JM8:JP8),SUM(JM8:JP8),"") -> 72
B9: 3 | C9: =IF(นักเรียน!C8="","",นักเรียน!C8) -> 1528 | D9: =IF(นักเรียน!E8="","",นักเรียน!E8) -> เด็กชายภูผา เศษจำปา | F9: 8 | I9: =IF(SUM(F9:H9),SUM(F9:H9),"") -> 8 | J9: =IF(I9="","",ROUND(I9/$J$6*100,0)) -> 80 | K9: =IF(I9="","",VLOOKUP(J9,gradekpi,4)) -> ผ่าน | L9: 8 | O9: =IF(SUM(L9:N9),SUM(L9:N9),"") -> 8 | P9: =IF(O9="","",ROUND(O9/$P$6*100,0)) -> 80 | Q9: =IF(O9="","",VLOOKUP(P9,gradekpi,4)) -> ผ่าน | R9: 8 | U9: =IF(SUM(R9:T9),SUM(R9:T9),"") -> 8 | V9: =IF(U9="","",ROUND(U9/$V$6*100,0)) -> 80 | W9: =IF(U9="","",VLOOKUP(V9,gradekpi,4)) -> ผ่าน | X9: 8 | AA9: =IF(SUM(X9:Z9),SUM(X9:Z9),"") -> 8 | AB9: =IF(AA9="","",ROUND(AA9/$AB$6*100,0)) -> 80 | AC9: =IF(AA9="","",VLOOKUP(AB9,gradekpi,4)) -> ผ่าน | AD9: 8 | AG9: =IF(SUM(AD9:AF9),SUM(AD9:AF9),"") -> 8 | AH9: =IF(AG9="","",ROUND(AG9/$AH$6*100,0)) -> 80 | AI9: =IF(AG9="","",VLOOKUP(AH9,gradekpi,4)) -> ผ่าน | AJ9: 8 | AM9: =IF(SUM(AJ9:AL9),SUM(AJ9:AL9),"") -> 8 | AN9: =IF(AM9="","",ROUND(AM9/$AN$6*100,0)) -> 80 | AO9: =IF(AM9="","",VLOOKUP(AN9,gradekpi,4)) -> ผ่าน | AP9: 8 | AS9: =IF(SUM(AP9:AR9),SUM(AP9:AR9),"") -> 8 | AT9: =IF(AS9="","",ROUND(AS9/$AT$6*100,0)) -> 80 | AU9: =IF(AS9="","",VLOOKUP(AT9,gradekpi,4)) -> ผ่าน | AV9: 8 | AY9: =IF(SUM(AV9:AX9),SUM(AV9:AX9),"") -> 8 | AZ9: =IF(AY9="","",ROUND(AY9/$AZ$6*100,0)) -> 80 | BA9: =IF(AY9="","",VLOOKUP(AZ9,gradekpi,4)) -> ผ่าน | BB9: 8 | BE9: =IF(SUM(BB9:BD9),SUM(BB9:BD9),"") -> 8 | BF9: =IF(BE9="","",ROUND(BE9/$BF$6*100,0)) -> 80 | BG9: =IF(BE9="","",VLOOKUP(BF9,gradekpi,4)) -> ผ่าน | BK9: =IF(SUM(BH9:BJ9),SUM(BH9:BJ9),"") | BL9: =IF(BK9="","",ROUND(BK9/$BL$6*100,0)) | BM9: =IF(BK9="","",VLOOKUP(BL9,gradekpi,4)) | BQ9: =IF(SUM(BN9:BP9),SUM(BN9:BP9),"") | BR9: =IF(BQ9="","",ROUND(BQ9/$BR$6*100,0)) | BS9: =IF(BQ9="","",VLOOKUP(BR9,gradekpi,4)) | BW9: =IF(SUM(BT9:BV9),SUM(BT9:BV9),"") | BX9: =IF(BW9="","",ROUND(BW9/$BX$6*100,0)) | BY9: =IF(BW9="","",VLOOKUP(BX9,gradekpi,4)) | CC9: =IF(SUM(BZ9:CB9),SUM(BZ9:CB9),"") | CD9: =IF(CC9="","",ROUND(CC9/$CD$6*100,0)) | CE9: =IF(CC9="","",VLOOKUP(CD9,gradekpi,4)) | CI9: =IF(SUM(CF9:CH9),SUM(CF9:CH9),"") | CJ9: =IF(CI9="","",ROUND(CI9/$CJ$6*100,0)) | CK9: =IF(CI9="","",VLOOKUP(CJ9,gradekpi,4)) | CO9: =IF(SUM(CL9:CN9),SUM(CL9:CN9),"") | CP9: =IF(CO9="","",ROUND(CO9/$CP$6*100,0)) | CQ9: =IF(CO9="","",VLOOKUP(CP9,gradekpi,4)) | CU9: =IF(SUM(CR9:CT9),SUM(CR9:CT9),"") | CV9: =IF(CU9="","",ROUND(CU9/$CV$6*100,0)) | CW9: =IF(CU9="","",VLOOKUP(CV9,gradekpi,4)) | DA9: =IF(SUM(CX9:CZ9),SUM(CX9:CZ9),"") | DB9: =IF(DA9="","",ROUND(DA9/$DB$6*100,0)) | DC9: =IF(DA9="","",VLOOKUP(DB9,gradekpi,4)) | DG9: =IF(SUM(DD9:DF9),SUM(DD9:DF9),"") | DH9: =IF(DG9="","",ROUND(DG9/$DH$6*100,0)) | DI9: =IF(DG9="","",VLOOKUP(DH9,gradekpi,4)) | DM9: =IF(SUM(DJ9:DL9),SUM(DJ9:DL9),"") | DN9: =IF(DM9="","",ROUND(DM9/$DN$6*100,0)) | DO9: =IF(DM9="","",VLOOKUP(DN9,gradekpi,4)) | DS9: =IF(SUM(DP9:DR9),SUM(DP9:DR9),"") | DT9: =IF(DS9="","",ROUND(DS9/$DT$6*100,0)) | DU9: =IF(DS9="","",VLOOKUP(DT9,gradekpi,4)) | DY9: =IF(SUM(DV9:DX9),SUM(DV9:DX9),"") | DZ9: =IF(DY9="","",ROUND(DY9/$DZ$6*100,0)) | EA9: =IF(DY9="","",VLOOKUP(DZ9,gradekpi,4)) | EE9: =IF(SUM(EB9:ED9),SUM(EB9:ED9),"") | EF9: =IF(EE9="","",ROUND(EE9/$EF$6*100,0)) | EG9: =IF(EE9="","",VLOOKUP(EF9,gradekpi,4)) | EK9: =IF(SUM(EH9:EJ9),SUM(EH9:EJ9),"") | EL9: =IF(EK9="","",ROUND(EK9/$EL$6*100,0)) | EM9: =IF(EK9="","",VLOOKUP(EL9,gradekpi,4)) | EQ9: =IF(SUM(EN9:EP9),SUM(EN9:EP9),"") | ER9: =IF(EQ9="","",ROUND(EQ9/$ER$6*100,0)) | ES9: =IF(EQ9="","",VLOOKUP(ER9,gradekpi,4)) | EW9: =IF(SUM(ET9:EV9),SUM(ET9:EV9),"") | EX9: =IF(EW9="","",ROUND(EW9/$EX$6*100,0)) | EY9: =IF(EW9="","",VLOOKUP(EX9,gradekpi,4)) | FC9: =IF(SUM(EZ9:FB9),SUM(EZ9:FB9),"") | FD9: =IF(FC9="","",ROUND(FC9/$FD$6*100,0)) | FE9: =IF(FC9="","",VLOOKUP(FD9,gradekpi,4)) | FI9: =IF(SUM(FF9:FH9),SUM(FF9:FH9),"") | FJ9: =IF(FI9="","",ROUND(FI9/$FJ$6*100,0)) | FK9: =IF(FI9="","",VLOOKUP(FJ9,gradekpi,4)) | FO9: =IF(SUM(FL9:FN9),SUM(FL9:FN9),"") | FP9: =IF(FO9="","",ROUND(FO9/$FP$6*100,0)) | FQ9: =IF(FO9="","",VLOOKUP(FP9,gradekpi,4)) | FU9: =IF(SUM(FR9:FT9),SUM(FR9:FT9),"") | FV9: =IF(FU9="","",ROUND(FU9/$FV$6*100,0)) | FW9: =IF(FU9="","",VLOOKUP(FV9,gradekpi,4)) | GA9: =IF(SUM(FX9:FZ9),SUM(FX9:FZ9),"") | GB9: =IF(GA9="","",ROUND(GA9/$GB$6*100,0)) | GC9: =IF(GA9="","",VLOOKUP(GB9,gradekpi,4)) | GG9: =IF(SUM(GD9:GF9),SUM(GD9:GF9),"") | GH9: =IF(GG9="","",ROUND(GG9/$GH$6*100,0)) | GI9: =IF(GG9="","",VLOOKUP(GH9,gradekpi,4)) | GM9: =IF(SUM(GJ9:GL9),SUM(GJ9:GL9),"") | GN9: =IF(GM9="","",ROUND(GM9/$GN$6*100,0)) | GO9: =IF(GM9="","",VLOOKUP(GN9,gradekpi,4)) | GS9: =IF(SUM(GP9:GR9),SUM(GP9:GR9),"") | GT9: =IF(GS9="","",ROUND(GS9/$GT$6*100,0)) | GU9: =IF(GS9="","",VLOOKUP(GT9,gradekpi,4)) | GY9: =IF(SUM(GV9:GX9),SUM(GV9:GX9),"") | GZ9: =IF(GY9="","",ROUND(GY9/$GZ$6*100,0)) | HA9: =IF(GY9="","",VLOOKUP(GZ9,gradekpi,4)) | HE9: =IF(SUM(HB9:HD9),SUM(HB9:HD9),"") | HF9: =IF(HE9="","",ROUND(HE9/$HF$6*100,0)) | HG9: =IF(HE9="","",VLOOKUP(HF9,gradekpi,4)) | HK9: =IF(SUM(HH9:HJ9),SUM(HH9:HJ9),"") | HL9: =IF(HK9="","",ROUND(HK9/$HL$6*100,0)) | HM9: =IF(HK9="","",VLOOKUP(HL9,gradekpi,4)) | HQ9: =IF(SUM(HN9:HP9),SUM(HN9:HP9),"") | HR9: =IF(HQ9="","",ROUND(HQ9/$HR$6*100,0)) | HS9: =IF(HQ9="","",VLOOKUP(HR9,gradekpi,4)) | HW9: =IF(SUM(HT9:HV9),SUM(HT9:HV9),"") | HX9: =IF(HW9="","",ROUND(HW9/$HX$6*100,0)) | HY9: =IF(HW9="","",VLOOKUP(HX9,gradekpi,4)) | IC9: =IF(SUM(HZ9:IB9),SUM(HZ9:IB9),"") | ID9: =IF(IC9="","",ROUND(IC9/$ID$6*100,0)) | IE9: =IF(IC9="","",VLOOKUP(ID9,gradekpi,4)) | II9: =IF(SUM(IF9:IH9),SUM(IF9:IH9),"") | IJ9: =IF(II9="","",ROUND(II9/$IJ$6*100,0)) | IK9: =IF(II9="","",VLOOKUP(IJ9,gradekpi,4)) | IO9: =IF(SUM(IL9:IN9),SUM(IL9:IN9),"") | IP9: =IF(IO9="","",ROUND(IO9/$IP$6*100,0)) | IQ9: =IF(IO9="","",VLOOKUP(IP9,gradekpi,4)) | IU9: =IF(SUM(IR9:IT9),SUM(IR9:IT9),"") | IV9: =IF(IU9="","",ROUND(IU9/$IV$6*100,0)) | IW9: =IF(IU9="","",VLOOKUP(IV9,gradekpi,4)) | JA9: =IF(SUM(IX9:IZ9),SUM(IX9:IZ9),"") | JB9: =IF(JA9="","",ROUND(JA9/$JB$6*100,0)) | JC9: =IF(JA9="","",VLOOKUP(JB9,gradekpi,4)) | JD9: =IF(OR(D9="",$JD$2="เอาออก"),"",JQ9) -> 72 | JE9: =IF(OR(D9="",$JE$2="เอาออก"),"",COUNTIF(F9:JC9,"ผ่าน")) -> 9 | JF9: =IF(JE9="","",ROUND(JE9/$JF$4*100,2)) -> 100 | JG9: =IF(JF9="","",IF(นักเรียน!N8="ออก","---ย้าย---",VLOOKUP(JF9,gradekpisum,4))) -> ผ่าน | JM9: =SUM(BK9,BE9,AY9,AS9,AM9,AG9,AA9,U9,O9,I9) -> 72 | JN9: =SUM(BQ9,BW9,CC9,CI9,CO9,CU9,DA9,DG9,DM9,DS9) -> 0 | JO9: =SUM(DY9,EE9,EK9,EQ9,EW9,FC9,FI9,FO9,FU9,GA9) -> 0 | JP9: =SUM(JA9,IU9,IO9,II9,IC9,HW9,HQ9,HK9,HE9,GY9,GS9,GM9,GG9) -> 0 | JQ9: =IF(SUM(JM9:JP9),SUM(JM9:JP9),"") -> 72
B10: 4 | C10: =IF(นักเรียน!C9="","",นักเรียน!C9) -> 1529 | D10: =IF(นักเรียน!E9="","",นักเรียน!E9) -> เด็กชายภูมิพันธ์ สมพงษ์ | F10: 6 | I10: =IF(SUM(F10:H10),SUM(F10:H10),"") -> 6 | J10: =IF(I10="","",ROUND(I10/$J$6*100,0)) -> 60 | K10: =IF(I10="","",VLOOKUP(J10,gradekpi,4)) -> ผ่าน | L10: 6 | O10: =IF(SUM(L10:N10),SUM(L10:N10),"") -> 6 | P10: =IF(O10="","",ROUND(O10/$P$6*100,0)) -> 60 | Q10: =IF(O10="","",VLOOKUP(P10,gradekpi,4)) -> ผ่าน | R10: 6 | U10: =IF(SUM(R10:T10),SUM(R10:T10),"") -> 6 | V10: =IF(U10="","",ROUND(U10/$V$6*100,0)) -> 60 | W10: =IF(U10="","",VLOOKUP(V10,gradekpi,4)) -> ผ่าน | X10: 6 | AA10: =IF(SUM(X10:Z10),SUM(X10:Z10),"") -> 6 | AB10: =IF(AA10="","",ROUND(AA10/$AB$6*100,0)) -> 60 | AC10: =IF(AA10="","",VLOOKUP(AB10,gradekpi,4)) -> ผ่าน | AD10: 6 | AG10: =IF(SUM(AD10:AF10),SUM(AD10:AF10),"") -> 6 | AH10: =IF(AG10="","",ROUND(AG10/$AH$6*100,0)) -> 60 | AI10: =IF(AG10="","",VLOOKUP(AH10,gradekpi,4)) -> ผ่าน | AJ10: 6 | AM10: =IF(SUM(AJ10:AL10),SUM(AJ10:AL10),"") -> 6 | AN10: =IF(AM10="","",ROUND(AM10/$AN$6*100,0)) -> 60 | AO10: =IF(AM10="","",VLOOKUP(AN10,gradekpi,4)) -> ผ่าน | AP10: 6 | AS10: =IF(SUM(AP10:AR10),SUM(AP10:AR10),"") -> 6 | AT10: =IF(AS10="","",ROUND(AS10/$AT$6*100,0)) -> 60 | AU10: =IF(AS10="","",VLOOKUP(AT10,gradekpi,4)) -> ผ่าน | AV10: 6 | AY10: =IF(SUM(AV10:AX10),SUM(AV10:AX10),"") -> 6 | AZ10: =IF(AY10="","",ROUND(AY10/$AZ$6*100,0)) -> 60 | BA10: =IF(AY10="","",VLOOKUP(AZ10,gradekpi,4)) -> ผ่าน | BB10: 6 | BE10: =IF(SUM(BB10:BD10),SUM(BB10:BD10),"") -> 6 | BF10: =IF(BE10="","",ROUND(BE10/$BF$6*100,0)) -> 60 | BG10: =IF(BE10="","",VLOOKUP(BF10,gradekpi,4)) -> ผ่าน | BK10: =IF(SUM(BH10:BJ10),SUM(BH10:BJ10),"") | BL10: =IF(BK10="","",ROUND(BK10/$BL$6*100,0)) | BM10: =IF(BK10="","",VLOOKUP(BL10,gradekpi,4)) | BQ10: =IF(SUM(BN10:BP10),SUM(BN10:BP10),"") | BR10: =IF(BQ10="","",ROUND(BQ10/$BR$6*100,0)) | BS10: =IF(BQ10="","",VLOOKUP(BR10,gradekpi,4)) | BW10: =IF(SUM(BT10:BV10),SUM(BT10:BV10),"") | BX10: =IF(BW10="","",ROUND(BW10/$BX$6*100,0)) | BY10: =IF(BW10="","",VLOOKUP(BX10,gradekpi,4)) | CC10: =IF(SUM(BZ10:CB10),SUM(BZ10:CB10),"") | CD10: =IF(CC10="","",ROUND(CC10/$CD$6*100,0)) | CE10: =IF(CC10="","",VLOOKUP(CD10,gradekpi,4)) | CI10: =IF(SUM(CF10:CH10),SUM(CF10:CH10),"") | CJ10: =IF(CI10="","",ROUND(CI10/$CJ$6*100,0)) | CK10: =IF(CI10="","",VLOOKUP(CJ10,gradekpi,4)) | CO10: =IF(SUM(CL10:CN10),SUM(CL10:CN10),"") | CP10: =IF(CO10="","",ROUND(CO10/$CP$6*100,0)) | CQ10: =IF(CO10="","",VLOOKUP(CP10,gradekpi,4)) | CU10: =IF(SUM(CR10:CT10),SUM(CR10:CT10),"") | CV10: =IF(CU10="","",ROUND(CU10/$CV$6*100,0)) | CW10: =IF(CU10="","",VLOOKUP(CV10,gradekpi,4)) | DA10: =IF(SUM(CX10:CZ10),SUM(CX10:CZ10),"") | DB10: =IF(DA10="","",ROUND(DA10/$DB$6*100,0)) | DC10: =IF(DA10="","",VLOOKUP(DB10,gradekpi,4)) | DG10: =IF(SUM(DD10:DF10),SUM(DD10:DF10),"") | DH10: =IF(DG10="","",ROUND(DG10/$DH$6*100,0)) | DI10: =IF(DG10="","",VLOOKUP(DH10,gradekpi,4)) | DM10: =IF(SUM(DJ10:DL10),SUM(DJ10:DL10),"") | DN10: =IF(DM10="","",ROUND(DM10/$DN$6*100,0)) | DO10: =IF(DM10="","",VLOOKUP(DN10,gradekpi,4)) | DS10: =IF(SUM(DP10:DR10),SUM(DP10:DR10),"") | DT10: =IF(DS10="","",ROUND(DS10/$DT$6*100,0)) | DU10: =IF(DS10="","",VLOOKUP(DT10,gradekpi,4)) | DY10: =IF(SUM(DV10:DX10),SUM(DV10:DX10),"") | DZ10: =IF(DY10="","",ROUND(DY10/$DZ$6*100,0)) | EA10: =IF(DY10="","",VLOOKUP(DZ10,gradekpi,4)) | EE10: =IF(SUM(EB10:ED10),SUM(EB10:ED10),"") | EF10: =IF(EE10="","",ROUND(EE10/$EF$6*100,0)) | EG10: =IF(EE10="","",VLOOKUP(EF10,gradekpi,4)) | EK10: =IF(SUM(EH10:EJ10),SUM(EH10:EJ10),"") | EL10: =IF(EK10="","",ROUND(EK10/$EL$6*100,0)) | EM10: =IF(EK10="","",VLOOKUP(EL10,gradekpi,4)) | EQ10: =IF(SUM(EN10:EP10),SUM(EN10:EP10),"") | ER10: =IF(EQ10="","",ROUND(EQ10/$ER$6*100,0)) | ES10: =IF(EQ10="","",VLOOKUP(ER10,gradekpi,4)) | EW10: =IF(SUM(ET10:EV10),SUM(ET10:EV10),"") | EX10: =IF(EW10="","",ROUND(EW10/$EX$6*100,0)) | EY10: =IF(EW10="","",VLOOKUP(EX10,gradekpi,4)) | FC10: =IF(SUM(EZ10:FB10),SUM(EZ10:FB10),"") | FD10: =IF(FC10="","",ROUND(FC10/$FD$6*100,0)) | FE10: =IF(FC10="","",VLOOKUP(FD10,gradekpi,4)) | FI10: =IF(SUM(FF10:FH10),SUM(FF10:FH10),"") | FJ10: =IF(FI10="","",ROUND(FI10/$FJ$6*100,0)) | FK10: =IF(FI10="","",VLOOKUP(FJ10,gradekpi,4)) | FO10: =IF(SUM(FL10:FN10),SUM(FL10:FN10),"") | FP10: =IF(FO10="","",ROUND(FO10/$FP$6*100,0)) | FQ10: =IF(FO10="","",VLOOKUP(FP10,gradekpi,4)) | FU10: =IF(SUM(FR10:FT10),SUM(FR10:FT10),"") | FV10: =IF(FU10="","",ROUND(FU10/$FV$6*100,0)) | FW10: =IF(FU10="","",VLOOKUP(FV10,gradekpi,4)) | GA10: =IF(SUM(FX10:FZ10),SUM(FX10:FZ10),"") | GB10: =IF(GA10="","",ROUND(GA10/$GB$6*100,0)) | GC10: =IF(GA10="","",VLOOKUP(GB10,gradekpi,4)) | GG10: =IF(SUM(GD10:GF10),SUM(GD10:GF10),"") | GH10: =IF(GG10="","",ROUND(GG10/$GH$6*100,0)) | GI10: =IF(GG10="","",VLOOKUP(GH10,gradekpi,4)) | GM10: =IF(SUM(GJ10:GL10),SUM(GJ10:GL10),"") | GN10: =IF(GM10="","",ROUND(GM10/$GN$6*100,0)) | GO10: =IF(GM10="","",VLOOKUP(GN10,gradekpi,4)) | GS10: =IF(SUM(GP10:GR10),SUM(GP10:GR10),"") | GT10: =IF(GS10="","",ROUND(GS10/$GT$6*100,0)) | GU10: =IF(GS10="","",VLOOKUP(GT10,gradekpi,4)) | GY10: =IF(SUM(GV10:GX10),SUM(GV10:GX10),"") | GZ10: =IF(GY10="","",ROUND(GY10/$GZ$6*100,0)) | HA10: =IF(GY10="","",VLOOKUP(GZ10,gradekpi,4)) | HE10: =IF(SUM(HB10:HD10),SUM(HB10:HD10),"") | HF10: =IF(HE10="","",ROUND(HE10/$HF$6*100,0)) | HG10: =IF(HE10="","",VLOOKUP(HF10,gradekpi,4)) | HK10: =IF(SUM(HH10:HJ10),SUM(HH10:HJ10),"") | HL10: =IF(HK10="","",ROUND(HK10/$HL$6*100,0)) | HM10: =IF(HK10="","",VLOOKUP(HL10,gradekpi,4)) | HQ10: =IF(SUM(HN10:HP10),SUM(HN10:HP10),"") | HR10: =IF(HQ10="","",ROUND(HQ10/$HR$6*100,0)) | HS10: =IF(HQ10="","",VLOOKUP(HR10,gradekpi,4)) | HW10: =IF(SUM(HT10:HV10),SUM(HT10:HV10),"") | HX10: =IF(HW10="","",ROUND(HW10/$HX$6*100,0)) | HY10: =IF(HW10="","",VLOOKUP(HX10,gradekpi,4)) | IC10: =IF(SUM(HZ10:IB10),SUM(HZ10:IB10),"") | ID10: =IF(IC10="","",ROUND(IC10/$ID$6*100,0)) | IE10: =IF(IC10="","",VLOOKUP(ID10,gradekpi,4)) | II10: =IF(SUM(IF10:IH10),SUM(IF10:IH10),"") | IJ10: =IF(II10="","",ROUND(II10/$IJ$6*100,0)) | IK10: =IF(II10="","",VLOOKUP(IJ10,gradekpi,4)) | IO10: =IF(SUM(IL10:IN10),SUM(IL10:IN10),"") | IP10: =IF(IO10="","",ROUND(IO10/$IP$6*100,0)) | IQ10: =IF(IO10="","",VLOOKUP(IP10,gradekpi,4)) | IU10: =IF(SUM(IR10:IT10),SUM(IR10:IT10),"") | IV10: =IF(IU10="","",ROUND(IU10/$IV$6*100,0)) | IW10: =IF(IU10="","",VLOOKUP(IV10,gradekpi,4)) | JA10: =IF(SUM(IX10:IZ10),SUM(IX10:IZ10),"") | JB10: =IF(JA10="","",ROUND(JA10/$JB$6*100,0)) | JC10: =IF(JA10="","",VLOOKUP(JB10,gradekpi,4)) | JD10: =IF(OR(D10="",$JD$2="เอาออก"),"",JQ10) -> 54 | JE10: =IF(OR(D10="",$JE$2="เอาออก"),"",COUNTIF(F10:JC10,"ผ่าน")) -> 9 | JF10: =IF(JE10="","",ROUND(JE10/$JF$4*100,2)) -> 100 | JG10: =IF(JF10="","",IF(นักเรียน!N9="ออก","---ย้าย---",VLOOKUP(JF10,gradekpisum,4))) -> ผ่าน | JM10: =SUM(BK10,BE10,AY10,AS10,AM10,AG10,AA10,U10,O10,I10) -> 54 | JN10: =SUM(BQ10,BW10,CC10,CI10,CO10,CU10,DA10,DG10,DM10,DS10) -> 0 | JO10: =SUM(DY10,EE10,EK10,EQ10,EW10,FC10,FI10,FO10,FU10,GA10) -> 0 | JP10: =SUM(JA10,IU10,IO10,II10,IC10,HW10,HQ10,HK10,HE10,GY10,GS10,GM10,GG10) -> 0 | JQ10: =IF(SUM(JM10:JP10),SUM(JM10:JP10),"") -> 54
B11: 5 | C11: =IF(นักเรียน!C10="","",นักเรียน!C10) -> 1530 | D11: =IF(นักเรียน!E10="","",นักเรียน!E10) -> เด็กชายอดุลยวัฒน์ สอนนาง | F11: 8 | I11: =IF(SUM(F11:H11),SUM(F11:H11),"") -> 8 | J11: =IF(I11="","",ROUND(I11/$J$6*100,0)) -> 80 | K11: =IF(I11="","",VLOOKUP(J11,gradekpi,4)) -> ผ่าน | L11: 8 | O11: =IF(SUM(L11:N11),SUM(L11:N11),"") -> 8 | P11: =IF(O11="","",ROUND(O11/$P$6*100,0)) -> 80 | Q11: =IF(O11="","",VLOOKUP(P11,gradekpi,4)) -> ผ่าน | R11: 8 | U11: =IF(SUM(R11:T11),SUM(R11:T11),"") -> 8 | V11: =IF(U11="","",ROUND(U11/$V$6*100,0)) -> 80 | W11: =IF(U11="","",VLOOKUP(V11,gradekpi,4)) -> ผ่าน | X11: 8 | AA11: =IF(SUM(X11:Z11),SUM(X11:Z11),"") -> 8 | AB11: =IF(AA11="","",ROUND(AA11/$AB$6*100,0)) -> 80 | AC11: =IF(AA11="","",VLOOKUP(AB11,gradekpi,4)) -> ผ่าน | AD11: 8 | AG11: =IF(SUM(AD11:AF11),SUM(AD11:AF11),"") -> 8 | AH11: =IF(AG11="","",ROUND(AG11/$AH$6*100,0)) -> 80 | AI11: =IF(AG11="","",VLOOKUP(AH11,gradekpi,4)) -> ผ่าน | AJ11: 8 | AM11: =IF(SUM(AJ11:AL11),SUM(AJ11:AL11),"") -> 8 | AN11: =IF(AM11="","",ROUND(AM11/$AN$6*100,0)) -> 80 | AO11: =IF(AM11="","",VLOOKUP(AN11,gradekpi,4)) -> ผ่าน | AP11: 8 | AS11: =IF(SUM(AP11:AR11),SUM(AP11:AR11),"") -> 8 | AT11: =IF(AS11="","",ROUND(AS11/$AT$6*100,0)) -> 80 | AU11: =IF(AS11="","",VLOOKUP(AT11,gradekpi,4)) -> ผ่าน | AV11: 8 | AY11: =IF(SUM(AV11:AX11),SUM(AV11:AX11),"") -> 8 | AZ11: =IF(AY11="","",ROUND(AY11/$AZ$6*100,0)) -> 80 | BA11: =IF(AY11="","",VLOOKUP(AZ11,gradekpi,4)) -> ผ่าน | BB11: 8 | BE11: =IF(SUM(BB11:BD11),SUM(BB11:BD11),"") -> 8 | BF11: =IF(BE11="","",ROUND(BE11/$BF$6*100,0)) -> 80 | BG11: =IF(BE11="","",VLOOKUP(BF11,gradekpi,4)) -> ผ่าน | BK11: =IF(SUM(BH11:BJ11),SUM(BH11:BJ11),"") | BL11: =IF(BK11="","",ROUND(BK11/$BL$6*100,0)) | BM11: =IF(BK11="","",VLOOKUP(BL11,gradekpi,4)) | BQ11: =IF(SUM(BN11:BP11),SUM(BN11:BP11),"") | BR11: =IF(BQ11="","",ROUND(BQ11/$BR$6*100,0)) | BS11: =IF(BQ11="","",VLOOKUP(BR11,gradekpi,4)) | BW11: =IF(SUM(BT11:BV11),SUM(BT11:BV11),"") | BX11: =IF(BW11="","",ROUND(BW11/$BX$6*100,0)) | BY11: =IF(BW11="","",VLOOKUP(BX11,gradekpi,4)) | CC11: =IF(SUM(BZ11:CB11),SUM(BZ11:CB11),"") | CD11: =IF(CC11="","",ROUND(CC11/$CD$6*100,0)) | CE11: =IF(CC11="","",VLOOKUP(CD11,gradekpi,4)) | CI11: =IF(SUM(CF11:CH11),SUM(CF11:CH11),"") | CJ11: =IF(CI11="","",ROUND(CI11/$CJ$6*100,0)) | CK11: =IF(CI11="","",VLOOKUP(CJ11,gradekpi,4)) | CO11: =IF(SUM(CL11:CN11),SUM(CL11:CN11),"") | CP11: =IF(CO11="","",ROUND(CO11/$CP$6*100,0)) | CQ11: =IF(CO11="","",VLOOKUP(CP11,gradekpi,4)) | CU11: =IF(SUM(CR11:CT11),SUM(CR11:CT11),"") | CV11: =IF(CU11="","",ROUND(CU11/$CV$6*100,0)) | CW11: =IF(CU11="","",VLOOKUP(CV11,gradekpi,4)) | DA11: =IF(SUM(CX11:CZ11),SUM(CX11:CZ11),"") | DB11: =IF(DA11="","",ROUND(DA11/$DB$6*100,0)) | DC11: =IF(DA11="","",VLOOKUP(DB11,gradekpi,4)) | DG11: =IF(SUM(DD11:DF11),SUM(DD11:DF11),"") | DH11: =IF(DG11="","",ROUND(DG11/$DH$6*100,0)) | DI11: =IF(DG11="","",VLOOKUP(DH11,gradekpi,4)) | DM11: =IF(SUM(DJ11:DL11),SUM(DJ11:DL11),"") | DN11: =IF(DM11="","",ROUND(DM11/$DN$6*100,0)) | DO11: =IF(DM11="","",VLOOKUP(DN11,gradekpi,4)) | DS11: =IF(SUM(DP11:DR11),SUM(DP11:DR11),"") | DT11: =IF(DS11="","",ROUND(DS11/$DT$6*100,0)) | DU11: =IF(DS11="","",VLOOKUP(DT11,gradekpi,4)) | DY11: =IF(SUM(DV11:DX11),SUM(DV11:DX11),"") | DZ11: =IF(DY11="","",ROUND(DY11/$DZ$6*100,0)) | EA11: =IF(DY11="","",VLOOKUP(DZ11,gradekpi,4)) | EE11: =IF(SUM(EB11:ED11),SUM(EB11:ED11),"") | EF11: =IF(EE11="","",ROUND(EE11/$EF$6*100,0)) | EG11: =IF(EE11="","",VLOOKUP(EF11,gradekpi,4)) | EK11: =IF(SUM(EH11:EJ11),SUM(EH11:EJ11),"") | EL11: =IF(EK11="","",ROUND(EK11/$EL$6*100,0)) | EM11: =IF(EK11="","",VLOOKUP(EL11,gradekpi,4)) | EQ11: =IF(SUM(EN11:EP11),SUM(EN11:EP11),"") | ER11: =IF(EQ11="","",ROUND(EQ11/$ER$6*100,0)) | ES11: =IF(EQ11="","",VLOOKUP(ER11,gradekpi,4)) | EW11: =IF(SUM(ET11:EV11),SUM(ET11:EV11),"") | EX11: =IF(EW11="","",ROUND(EW11/$EX$6*100,0)) | EY11: =IF(EW11="","",VLOOKUP(EX11,gradekpi,4)) | FC11: =IF(SUM(EZ11:FB11),SUM(EZ11:FB11),"") | FD11: =IF(FC11="","",ROUND(FC11/$FD$6*100,0)) | FE11: =IF(FC11="","",VLOOKUP(FD11,gradekpi,4)) | FI11: =IF(SUM(FF11:FH11),SUM(FF11:FH11),"") | FJ11: =IF(FI11="","",ROUND(FI11/$FJ$6*100,0)) | FK11: =IF(FI11="","",VLOOKUP(FJ11,gradekpi,4)) | FO11: =IF(SUM(FL11:FN11),SUM(FL11:FN11),"") | FP11: =IF(FO11="","",ROUND(FO11/$FP$6*100,0)) | FQ11: =IF(FO11="","",VLOOKUP(FP11,gradekpi,4)) | FU11: =IF(SUM(FR11:FT11),SUM(FR11:FT11),"") | FV11: =IF(FU11="","",ROUND(FU11/$FV$6*100,0)) | FW11: =IF(FU11="","",VLOOKUP(FV11,gradekpi,4)) | GA11: =IF(SUM(FX11:FZ11),SUM(FX11:FZ11),"") | GB11: =IF(GA11="","",ROUND(GA11/$GB$6*100,0)) | GC11: =IF(GA11="","",VLOOKUP(GB11,gradekpi,4)) | GG11: =IF(SUM(GD11:GF11),SUM(GD11:GF11),"") | GH11: =IF(GG11="","",ROUND(GG11/$GH$6*100,0)) | GI11: =IF(GG11="","",VLOOKUP(GH11,gradekpi,4)) | GM11: =IF(SUM(GJ11:GL11),SUM(GJ11:GL11),"") | GN11: =IF(GM11="","",ROUND(GM11/$GN$6*100,0)) | GO11: =IF(GM11="","",VLOOKUP(GN11,gradekpi,4)) | GS11: =IF(SUM(GP11:GR11),SUM(GP11:GR11),"") | GT11: =IF(GS11="","",ROUND(GS11/$GT$6*100,0)) | GU11: =IF(GS11="","",VLOOKUP(GT11,gradekpi,4)) | GY11: =IF(SUM(GV11:GX11),SUM(GV11:GX11),"") | GZ11: =IF(GY11="","",ROUND(GY11/$GZ$6*100,0)) | HA11: =IF(GY11="","",VLOOKUP(GZ11,gradekpi,4)) | HE11: =IF(SUM(HB11:HD11),SUM(HB11:HD11),"") | HF11: =IF(HE11="","",ROUND(HE11/$HF$6*100,0)) | HG11: =IF(HE11="","",VLOOKUP(HF11,gradekpi,4)) | HK11: =IF(SUM(HH11:HJ11),SUM(HH11:HJ11),"") | HL11: =IF(HK11="","",ROUND(HK11/$HL$6*100,0)) | HM11: =IF(HK11="","",VLOOKUP(HL11,gradekpi,4)) | HQ11: =IF(SUM(HN11:HP11),SUM(HN11:HP11),"") | HR11: =IF(HQ11="","",ROUND(HQ11/$HR$6*100,0)) | HS11: =IF(HQ11="","",VLOOKUP(HR11,gradekpi,4)) | HW11: =IF(SUM(HT11:HV11),SUM(HT11:HV11),"") | HX11: =IF(HW11="","",ROUND(HW11/$HX$6*100,0)) | HY11: =IF(HW11="","",VLOOKUP(HX11,gradekpi,4)) | IC11: =IF(SUM(HZ11:IB11),SUM(HZ11:IB11),"") | ID11: =IF(IC11="","",ROUND(IC11/$ID$6*100,0)) | IE11: =IF(IC11="","",VLOOKUP(ID11,gradekpi,4)) | II11: =IF(SUM(IF11:IH11),SUM(IF11:IH11),"") | IJ11: =IF(II11="","",ROUND(II11/$IJ$6*100,0)) | IK11: =IF(II11="","",VLOOKUP(IJ11,gradekpi,4)) | IO11: =IF(SUM(IL11:IN11),SUM(IL11:IN11),"") | IP11: =IF(IO11="","",ROUND(IO11/$IP$6*100,0)) | IQ11: =IF(IO11="","",VLOOKUP(IP11,gradekpi,4)) | IU11: =IF(SUM(IR11:IT11),SUM(IR11:IT11),"") | IV11: =IF(IU11="","",ROUND(IU11/$IV$6*100,0)) | IW11: =IF(IU11="","",VLOOKUP(IV11,gradekpi,4)) | JA11: =IF(SUM(IX11:IZ11),SUM(IX11:IZ11),"") | JB11: =IF(JA11="","",ROUND(JA11/$JB$6*100,0)) | JC11: =IF(JA11="","",VLOOKUP(JB11,gradekpi,4)) | JD11: =IF(OR(D11="",$JD$2="เอาออก"),"",JQ11) -> 72 | JE11: =IF(OR(D11="",$JE$2="เอาออก"),"",COUNTIF(F11:JC11,"ผ่าน")) -> 9 | JF11: =IF(JE11="","",ROUND(JE11/$JF$4*100,2)) -> 100 | JG11: =IF(JF11="","",IF(นักเรียน!N10="ออก","---ย้าย---",VLOOKUP(JF11,gradekpisum,4))) -> ผ่าน | JM11: =SUM(BK11,BE11,AY11,AS11,AM11,AG11,AA11,U11,O11,I11) -> 72 | JN11: =SUM(BQ11,BW11,CC11,CI11,CO11,CU11,DA11,DG11,DM11,DS11) -> 0 | JO11: =SUM(DY11,EE11,EK11,EQ11,EW11,FC11,FI11,FO11,FU11,GA11) -> 0 | JP11: =SUM(JA11,IU11,IO11,II11,IC11,HW11,HQ11,HK11,HE11,GY11,GS11,GM11,GG11) -> 0 | JQ11: =IF(SUM(JM11:JP11),SUM(JM11:JP11),"") -> 72
B12: 6 | C12: =IF(นักเรียน!C11="","",นักเรียน!C11) -> 1536 | D12: =IF(นักเรียน!E11="","",นักเรียน!E11) -> เด็กชายชวัลวิทย์ อ่างมัจฉา | F12: 8 | I12: =IF(SUM(F12:H12),SUM(F12:H12),"") -> 8 | J12: =IF(I12="","",ROUND(I12/$J$6*100,0)) -> 80 | K12: =IF(I12="","",VLOOKUP(J12,gradekpi,4)) -> ผ่าน | L12: 8 | O12: =IF(SUM(L12:N12),SUM(L12:N12),"") -> 8 | P12: =IF(O12="","",ROUND(O12/$P$6*100,0)) -> 80 | Q12: =IF(O12="","",VLOOKUP(P12,gradekpi,4)) -> ผ่าน | R12: 8 | U12: =IF(SUM(R12:T12),SUM(R12:T12),"") -> 8 | V12: =IF(U12="","",ROUND(U12/$V$6*100,0)) -> 80 | W12: =IF(U12="","",VLOOKUP(V12,gradekpi,4)) -> ผ่าน | X12: 8 | AA12: =IF(SUM(X12:Z12),SUM(X12:Z12),"") -> 8 | AB12: =IF(AA12="","",ROUND(AA12/$AB$6*100,0)) -> 80 | AC12: =IF(AA12="","",VLOOKUP(AB12,gradekpi,4)) -> ผ่าน | AD12: 8 | AG12: =IF(SUM(AD12:AF12),SUM(AD12:AF12),"") -> 8 | AH12: =IF(AG12="","",ROUND(AG12/$AH$6*100,0)) -> 80 | AI12: =IF(AG12="","",VLOOKUP(AH12,gradekpi,4)) -> ผ่าน | AJ12: 9 | AM12: =IF(SUM(AJ12:AL12),SUM(AJ12:AL12),"") -> 9 | AN12: =IF(AM12="","",ROUND(AM12/$AN$6*100,0)) -> 90 | AO12: =IF(AM12="","",VLOOKUP(AN12,gradekpi,4)) -> ผ่าน | AP12: 8 | AS12: =IF(SUM(AP12:AR12),SUM(AP12:AR12),"") -> 8 | AT12: =IF(AS12="","",ROUND(AS12/$AT$6*100,0)) -> 80 | AU12: =IF(AS12="","",VLOOKUP(AT12,gradekpi,4)) -> ผ่าน | AV12: 8 | AY12: =IF(SUM(AV12:AX12),SUM(AV12:AX12),"") -> 8 | AZ12: =IF(AY12="","",ROUND(AY12/$AZ$6*100,0)) -> 80 | BA12: =IF(AY12="","",VLOOKUP(AZ12,gradekpi,4)) -> ผ่าน | BB12: 9 | BE12: =IF(SUM(BB12:BD12),SUM(BB12:BD12),"") -> 9 | BF12: =IF(BE12="","",ROUND(BE12/$BF$6*100,0)) -> 90 | BG12: =IF(BE12="","",VLOOKUP(BF12,gradekpi,4)) -> ผ่าน | BK12: =IF(SUM(BH12:BJ12),SUM(BH12:BJ12),"") | BL12: =IF(BK12="","",ROUND(BK12/$BL$6*100,0)) | BM12: =IF(BK12="","",VLOOKUP(BL12,gradekpi,4)) | BQ12: =IF(SUM(BN12:BP12),SUM(BN12:BP12),"") | BR12: =IF(BQ12="","",ROUND(BQ12/$BR$6*100,0)) | BS12: =IF(BQ12="","",VLOOKUP(BR12,gradekpi,4)) | BW12: =IF(SUM(BT12:BV12),SUM(BT12:BV12),"") | BX12: =IF(BW12="","",ROUND(BW12/$BX$6*100,0)) | BY12: =IF(BW12="","",VLOOKUP(BX12,gradekpi,4)) | CC12: =IF(SUM(BZ12:CB12),SUM(BZ12:CB12),"") | CD12: =IF(CC12="","",ROUND(CC12/$CD$6*100,0)) | CE12: =IF(CC12="","",VLOOKUP(CD12,gradekpi,4)) | CI12: =IF(SUM(CF12:CH12),SUM(CF12:CH12),"") | CJ12: =IF(CI12="","",ROUND(CI12/$CJ$6*100,0)) | CK12: =IF(CI12="","",VLOOKUP(CJ12,gradekpi,4)) | CO12: =IF(SUM(CL12:CN12),SUM(CL12:CN12),"") | CP12: =IF(CO12="","",ROUND(CO12/$CP$6*100,0)) | CQ12: =IF(CO12="","",VLOOKUP(CP12,gradekpi,4)) | CU12: =IF(SUM(CR12:CT12),SUM(CR12:CT12),"") | CV12: =IF(CU12="","",ROUND(CU12/$CV$6*100,0)) | CW12: =IF(CU12="","",VLOOKUP(CV12,gradekpi,4)) | DA12: =IF(SUM(CX12:CZ12),SUM(CX12:CZ12),"") | DB12: =IF(DA12="","",ROUND(DA12/$DB$6*100,0)) | DC12: =IF(DA12="","",VLOOKUP(DB12,gradekpi,4)) | DG12: =IF(SUM(DD12:DF12),SUM(DD12:DF12),"") | DH12: =IF(DG12="","",ROUND(DG12/$DH$6*100,0)) | DI12: =IF(DG12="","",VLOOKUP(DH12,gradekpi,4)) | DM12: =IF(SUM(DJ12:DL12),SUM(DJ12:DL12),"") | DN12: =IF(DM12="","",ROUND(DM12/$DN$6*100,0)) | DO12: =IF(DM12="","",VLOOKUP(DN12,gradekpi,4)) | DS12: =IF(SUM(DP12:DR12),SUM(DP12:DR12),"") | DT12: =IF(DS12="","",ROUND(DS12/$DT$6*100,0)) | DU12: =IF(DS12="","",VLOOKUP(DT12,gradekpi,4)) | DY12: =IF(SUM(DV12:DX12),SUM(DV12:DX12),"") | DZ12: =IF(DY12="","",ROUND(DY12/$DZ$6*100,0)) | EA12: =IF(DY12="","",VLOOKUP(DZ12,gradekpi,4)) | EE12: =IF(SUM(EB12:ED12),SUM(EB12:ED12),"") | EF12: =IF(EE12="","",ROUND(EE12/$EF$6*100,0)) | EG12: =IF(EE12="","",VLOOKUP(EF12,gradekpi,4)) | EK12: =IF(SUM(EH12:EJ12),SUM(EH12:EJ12),"") | EL12: =IF(EK12="","",ROUND(EK12/$EL$6*100,0)) | EM12: =IF(EK12="","",VLOOKUP(EL12,gradekpi,4)) | EQ12: =IF(SUM(EN12:EP12),SUM(EN12:EP12),"") | ER12: =IF(EQ12="","",ROUND(EQ12/$ER$6*100,0)) | ES12: =IF(EQ12="","",VLOOKUP(ER12,gradekpi,4)) | EW12: =IF(SUM(ET12:EV12),SUM(ET12:EV12),"") | EX12: =IF(EW12="","",ROUND(EW12/$EX$6*100,0)) | EY12: =IF(EW12="","",VLOOKUP(EX12,gradekpi,4)) | FC12: =IF(SUM(EZ12:FB12),SUM(EZ12:FB12),"") | FD12: =IF(FC12="","",ROUND(FC12/$FD$6*100,0)) | FE12: =IF(FC12="","",VLOOKUP(FD12,gradekpi,4)) | FI12: =IF(SUM(FF12:FH12),SUM(FF12:FH12),"") | FJ12: =IF(FI12="","",ROUND(FI12/$FJ$6*100,0)) | FK12: =IF(FI12="","",VLOOKUP(FJ12,gradekpi,4)) | FO12: =IF(SUM(FL12:FN12),SUM(FL12:FN12),"") | FP12: =IF(FO12="","",ROUND(FO12/$FP$6*100,0)) | FQ12: =IF(FO12="","",VLOOKUP(FP12,gradekpi,4)) | FU12: =IF(SUM(FR12:FT12),SUM(FR12:FT12),"") | FV12: =IF(FU12="","",ROUND(FU12/$FV$6*100,0)) | FW12: =IF(FU12="","",VLOOKUP(FV12,gradekpi,4)) | GA12: =IF(SUM(FX12:FZ12),SUM(FX12:FZ12),"") | GB12: =IF(GA12="","",ROUND(GA12/$GB$6*100,0)) | GC12: =IF(GA12="","",VLOOKUP(GB12,gradekpi,4)) | GG12: =IF(SUM(GD12:GF12),SUM(GD12:GF12),"") | GH12: =IF(GG12="","",ROUND(GG12/$GH$6*100,0)) | GI12: =IF(GG12="","",VLOOKUP(GH12,gradekpi,4)) | GM12: =IF(SUM(GJ12:GL12),SUM(GJ12:GL12),"") | GN12: =IF(GM12="","",ROUND(GM12/$GN$6*100,0)) | GO12: =IF(GM12="","",VLOOKUP(GN12,gradekpi,4)) | GS12: =IF(SUM(GP12:GR12),SUM(GP12:GR12),"") | GT12: =IF(GS12="","",ROUND(GS12/$GT$6*100,0)) | GU12: =IF(GS12="","",VLOOKUP(GT12,gradekpi,4)) | GY12: =IF(SUM(GV12:GX12),SUM(GV12:GX12),"") | GZ12: =IF(GY12="","",ROUND(GY12/$GZ$6*100,0)) | HA12: =IF(GY12="","",VLOOKUP(GZ12,gradekpi,4)) | HE12: =IF(SUM(HB12:HD12),SUM(HB12:HD12),"") | HF12: =IF(HE12="","",ROUND(HE12/$HF$6*100,0)) | HG12: =IF(HE12="","",VLOOKUP(HF12,gradekpi,4)) | HK12: =IF(SUM(HH12:HJ12),SUM(HH12:HJ12),"") | HL12: =IF(HK12="","",ROUND(HK12/$HL$6*100,0)) | HM12: =IF(HK12="","",VLOOKUP(HL12,gradekpi,4)) | HQ12: =IF(SUM(HN12:HP12),SUM(HN12:HP12),"") | HR12: =IF(HQ12="","",ROUND(HQ12/$HR$6*100,0)) | HS12: =IF(HQ12="","",VLOOKUP(HR12,gradekpi,4)) | HW12: =IF(SUM(HT12:HV12),SUM(HT12:HV12),"") | HX12: =IF(HW12="","",ROUND(HW12/$HX$6*100,0)) | HY12: =IF(HW12="","",VLOOKUP(HX12,gradekpi,4)) | IC12: =IF(SUM(HZ12:IB12),SUM(HZ12:IB12),"") | ID12: =IF(IC12="","",ROUND(IC12/$ID$6*100,0)) | IE12: =IF(IC12="","",VLOOKUP(ID12,gradekpi,4)) | II12: =IF(SUM(IF12:IH12),SUM(IF12:IH12),"") | IJ12: =IF(II12="","",ROUND(II12/$IJ$6*100,0)) | IK12: =IF(II12="","",VLOOKUP(IJ12,gradekpi,4)) | IO12: =IF(SUM(IL12:IN12),SUM(IL12:IN12),"") | IP12: =IF(IO12="","",ROUND(IO12/$IP$6*100,0)) | IQ12: =IF(IO12="","",VLOOKUP(IP12,gradekpi,4)) | IU12: =IF(SUM(IR12:IT12),SUM(IR12:IT12),"") | IV12: =IF(IU12="","",ROUND(IU12/$IV$6*100,0)) | IW12: =IF(IU12="","",VLOOKUP(IV12,gradekpi,4)) | JA12: =IF(SUM(IX12:IZ12),SUM(IX12:IZ12),"") | JB12: =IF(JA12="","",ROUND(JA12/$JB$6*100,0)) | JC12: =IF(JA12="","",VLOOKUP(JB12,gradekpi,4)) | JD12: =IF(OR(D12="",$JD$2="เอาออก"),"",JQ12) -> 74 | JE12: =IF(OR(D12="",$JE$2="เอาออก"),"",COUNTIF(F12:JC12,"ผ่าน")) -> 9 | JF12: =IF(JE12="","",ROUND(JE12/$JF$4*100,2)) -> 100 | JG12: =IF(JF12="","",IF(นักเรียน!N11="ออก","---ย้าย---",VLOOKUP(JF12,gradekpisum,4))) -> ผ่าน | JM12: =SUM(BK12,BE12,AY12,AS12,AM12,AG12,AA12,U12,O12,I12) -> 74 | JN12: =SUM(BQ12,BW12,CC12,CI12,CO12,CU12,DA12,DG12,DM12,DS12) -> 0 | JO12: =SUM(DY12,EE12,EK12,EQ12,EW12,FC12,FI12,FO12,FU12,GA12) -> 0 | JP12: =SUM(JA12,IU12,IO12,II12,IC12,HW12,HQ12,HK12,HE12,GY12,GS12,GM12,GG12) -> 0 | JQ12: =IF(SUM(JM12:JP12),SUM(JM12:JP12),"") -> 74
B13: 7 | C13: =IF(นักเรียน!C12="","",นักเรียน!C12) -> 1545 | D13: =IF(นักเรียน!E12="","",นักเรียน!E12) -> เด็กชายศักดิ์ดา จันทะวงค์ | F13: 6 | I13: =IF(SUM(F13:H13),SUM(F13:H13),"") -> 6 | J13: =IF(I13="","",ROUND(I13/$J$6*100,0)) -> 60 | K13: =IF(I13="","",VLOOKUP(J13,gradekpi,4)) -> ผ่าน | L13: 6 | O13: =IF(SUM(L13:N13),SUM(L13:N13),"") -> 6 | P13: =IF(O13="","",ROUND(O13/$P$6*100,0)) -> 60 | Q13: =IF(O13="","",VLOOKUP(P13,gradekpi,4)) -> ผ่าน | R13: 6 | U13: =IF(SUM(R13:T13),SUM(R13:T13),"") -> 6 | V13: =IF(U13="","",ROUND(U13/$V$6*100,0)) -> 60 | W13: =IF(U13="","",VLOOKUP(V13,gradekpi,4)) -> ผ่าน | X13: 6 | AA13: =IF(SUM(X13:Z13),SUM(X13:Z13),"") -> 6 | AB13: =IF(AA13="","",ROUND(AA13/$AB$6*100,0)) -> 60 | AC13: =IF(AA13="","",VLOOKUP(AB13,gradekpi,4)) -> ผ่าน | AD13: 6 | AG13: =IF(SUM(AD13:AF13),SUM(AD13:AF13),"") -> 6 | AH13: =IF(AG13="","",ROUND(AG13/$AH$6*100,0)) -> 60 | AI13: =IF(AG13="","",VLOOKUP(AH13,gradekpi,4)) -> ผ่าน | AJ13: 6 | AM13: =IF(SUM(AJ13:AL13),SUM(AJ13:AL13),"") -> 6 | AN13: =IF(AM13="","",ROUND(AM13/$AN$6*100,0)) -> 60 | AO13: =IF(AM13="","",VLOOKUP(AN13,gradekpi,4)) -> ผ่าน | AP13: 6 | AS13: =IF(SUM(AP13:AR13),SUM(AP13:AR13),"") -> 6 | AT13: =IF(AS13="","",ROUND(AS13/$AT$6*100,0)) -> 60 | AU13: =IF(AS13="","",VLOOKUP(AT13,gradekpi,4)) -> ผ่าน | AV13: 6 | AY13: =IF(SUM(AV13:AX13),SUM(AV13:AX13),"") -> 6 | AZ13: =IF(AY13="","",ROUND(AY13/$AZ$6*100,0)) -> 60 | BA13: =IF(AY13="","",VLOOKUP(AZ13,gradekpi,4)) -> ผ่าน | BB13: 6 | BE13: =IF(SUM(BB13:BD13),SUM(BB13:BD13),"") -> 6 | BF13: =IF(BE13="","",ROUND(BE13/$BF$6*100,0)) -> 60 | BG13: =IF(BE13="","",VLOOKUP(BF13,gradekpi,4)) -> ผ่าน | BK13: =IF(SUM(BH13:BJ13),SUM(BH13:BJ13),"") | BL13: =IF(BK13="","",ROUND(BK13/$BL$6*100,0)) | BM13: =IF(BK13="","",VLOOKUP(BL13,gradekpi,4)) | BQ13: =IF(SUM(BN13:BP13),SUM(BN13:BP13),"") | BR13: =IF(BQ13="","",ROUND(BQ13/$BR$6*100,0)) | BS13: =IF(BQ13="","",VLOOKUP(BR13,gradekpi,4)) | BW13: =IF(SUM(BT13:BV13),SUM(BT13:BV13),"") | BX13: =IF(BW13="","",ROUND(BW13/$BX$6*100,0)) | BY13: =IF(BW13="","",VLOOKUP(BX13,gradekpi,4)) | CC13: =IF(SUM(BZ13:CB13),SUM(BZ13:CB13),"") | CD13: =IF(CC13="","",ROUND(CC13/$CD$6*100,0)) | CE13: =IF(CC13="","",VLOOKUP(CD13,gradekpi,4)) | CI13: =IF(SUM(CF13:CH13),SUM(CF13:CH13),"") | CJ13: =IF(CI13="","",ROUND(CI13/$CJ$6*100,0)) | CK13: =IF(CI13="","",VLOOKUP(CJ13,gradekpi,4)) | CO13: =IF(SUM(CL13:CN13),SUM(CL13:CN13),"") | CP13: =IF(CO13="","",ROUND(CO13/$CP$6*100,0)) | CQ13: =IF(CO13="","",VLOOKUP(CP13,gradekpi,4)) | CU13: =IF(SUM(CR13:CT13),SUM(CR13:CT13),"") | CV13: =IF(CU13="","",ROUND(CU13/$CV$6*100,0)) | CW13: =IF(CU13="","",VLOOKUP(CV13,gradekpi,4)) | DA13: =IF(SUM(CX13:CZ13),SUM(CX13:CZ13),"") | DB13: =IF(DA13="","",ROUND(DA13/$DB$6*100,0)) | DC13: =IF(DA13="","",VLOOKUP(DB13,gradekpi,4)) | DG13: =IF(SUM(DD13:DF13),SUM(DD13:DF13),"") | DH13: =IF(DG13="","",ROUND(DG13/$DH$6*100,0)) | DI13: =IF(DG13="","",VLOOKUP(DH13,gradekpi,4)) | DM13: =IF(SUM(DJ13:DL13),SUM(DJ13:DL13),"") | DN13: =IF(DM13="","",ROUND(DM13/$DN$6*100,0)) | DO13: =IF(DM13="","",VLOOKUP(DN13,gradekpi,4)) | DS13: =IF(SUM(DP13:DR13),SUM(DP13:DR13),"") | DT13: =IF(DS13="","",ROUND(DS13/$DT$6*100,0)) | DU13: =IF(DS13="","",VLOOKUP(DT13,gradekpi,4)) | DY13: =IF(SUM(DV13:DX13),SUM(DV13:DX13),"") | DZ13: =IF(DY13="","",ROUND(DY13/$DZ$6*100,0)) | EA13: =IF(DY13="","",VLOOKUP(DZ13,gradekpi,4)) | EE13: =IF(SUM(EB13:ED13),SUM(EB13:ED13),"") | EF13: =IF(EE13="","",ROUND(EE13/$EF$6*100,0)) | EG13: =IF(EE13="","",VLOOKUP(EF13,gradekpi,4)) | EK13: =IF(SUM(EH13:EJ13),SUM(EH13:EJ13),"") | EL13: =IF(EK13="","",ROUND(EK13/$EL$6*100,0)) | EM13: =IF(EK13="","",VLOOKUP(EL13,gradekpi,4)) | EQ13: =IF(SUM(EN13:EP13),SUM(EN13:EP13),"") | ER13: =IF(EQ13="","",ROUND(EQ13/$ER$6*100,0)) | ES13: =IF(EQ13="","",VLOOKUP(ER13,gradekpi,4)) | EW13: =IF(SUM(ET13:EV13),SUM(ET13:EV13),"") | EX13: =IF(EW13="","",ROUND(EW13/$EX$6*100,0)) | EY13: =IF(EW13="","",VLOOKUP(EX13,gradekpi,4)) | FC13: =IF(SUM(EZ13:FB13),SUM(EZ13:FB13),"") | FD13: =IF(FC13="","",ROUND(FC13/$FD$6*100,0)) | FE13: =IF(FC13="","",VLOOKUP(FD13,gradekpi,4)) | FI13: =IF(SUM(FF13:FH13),SUM(FF13:FH13),"") | FJ13: =IF(FI13="","",ROUND(FI13/$FJ$6*100,0)) | FK13: =IF(FI13="","",VLOOKUP(FJ13,gradekpi,4)) | FO13: =IF(SUM(FL13:FN13),SUM(FL13:FN13),"") | FP13: =IF(FO13="","",ROUND(FO13/$FP$6*100,0)) | FQ13: =IF(FO13="","",VLOOKUP(FP13,gradekpi,4)) | FU13: =IF(SUM(FR13:FT13),SUM(FR13:FT13),"") | FV13: =IF(FU13="","",ROUND(FU13/$FV$6*100,0)) | FW13: =IF(FU13="","",VLOOKUP(FV13,gradekpi,4)) | GA13: =IF(SUM(FX13:FZ13),SUM(FX13:FZ13),"") | GB13: =IF(GA13="","",ROUND(GA13/$GB$6*100,0)) | GC13: =IF(GA13="","",VLOOKUP(GB13,gradekpi,4)) | GG13: =IF(SUM(GD13:GF13),SUM(GD13:GF13),"") | GH13: =IF(GG13="","",ROUND(GG13/$GH$6*100,0)) | GI13: =IF(GG13="","",VLOOKUP(GH13,gradekpi,4)) | GM13: =IF(SUM(GJ13:GL13),SUM(GJ13:GL13),"") | GN13: =IF(GM13="","",ROUND(GM13/$GN$6*100,0)) | GO13: =IF(GM13="","",VLOOKUP(GN13,gradekpi,4)) | GS13: =IF(SUM(GP13:GR13),SUM(GP13:GR13),"") | GT13: =IF(GS13="","",ROUND(GS13/$GT$6*100,0)) | GU13: =IF(GS13="","",VLOOKUP(GT13,gradekpi,4)) | GY13: =IF(SUM(GV13:GX13),SUM(GV13:GX13),"") | GZ13: =IF(GY13="","",ROUND(GY13/$GZ$6*100,0)) | HA13: =IF(GY13="","",VLOOKUP(GZ13,gradekpi,4)) | HE13: =IF(SUM(HB13:HD13),SUM(HB13:HD13),"") | HF13: =IF(HE13="","",ROUND(HE13/$HF$6*100,0)) | HG13: =IF(HE13="","",VLOOKUP(HF13,gradekpi,4)) | HK13: =IF(SUM(HH13:HJ13),SUM(HH13:HJ13),"") | HL13: =IF(HK13="","",ROUND(HK13/$HL$6*100,0)) | HM13: =IF(HK13="","",VLOOKUP(HL13,gradekpi,4)) | HQ13: =IF(SUM(HN13:HP13),SUM(HN13:HP13),"") | HR13: =IF(HQ13="","",ROUND(HQ13/$HR$6*100,0)) | HS13: =IF(HQ13="","",VLOOKUP(HR13,gradekpi,4)) | HW13: =IF(SUM(HT13:HV13),SUM(HT13:HV13),"") | HX13: =IF(HW13="","",ROUND(HW13/$HX$6*100,0)) | HY13: =IF(HW13="","",VLOOKUP(HX13,gradekpi,4)) | IC13: =IF(SUM(HZ13:IB13),SUM(HZ13:IB13),"") | ID13: =IF(IC13="","",ROUND(IC13/$ID$6*100,0)) | IE13: =IF(IC13="","",VLOOKUP(ID13,gradekpi,4)) | II13: =IF(SUM(IF13:IH13),SUM(IF13:IH13),"") | IJ13: =IF(II13="","",ROUND(II13/$IJ$6*100,0)) | IK13: =IF(II13="","",VLOOKUP(IJ13,gradekpi,4)) | IO13: =IF(SUM(IL13:IN13),SUM(IL13:IN13),"") | IP13: =IF(IO13="","",ROUND(IO13/$IP$6*100,0)) | IQ13: =IF(IO13="","",VLOOKUP(IP13,gradekpi,4)) | IU13: =IF(SUM(IR13:IT13),SUM(IR13:IT13),"") | IV13: =IF(IU13="","",ROUND(IU13/$IV$6*100,0)) | IW13: =IF(IU13="","",VLOOKUP(IV13,gradekpi,4)) | JA13: =IF(SUM(IX13:IZ13),SUM(IX13:IZ13),"") | JB13: =IF(JA13="","",ROUND(JA13/$JB$6*100,0)) | JC13: =IF(JA13="","",VLOOKUP(JB13,gradekpi,4)) | JD13: =IF(OR(D13="",$JD$2="เอาออก"),"",JQ13) -> 54 | JE13: =IF(OR(D13="",$JE$2="เอาออก"),"",COUNTIF(F13:JC13,"ผ่าน")) -> 9 | JF13: =IF(JE13="","",ROUND(JE13/$JF$4*100,2)) -> 100 | JG13: =IF(JF13="","",IF(นักเรียน!N12="ออก","---ย้าย---",VLOOKUP(JF13,gradekpisum,4))) -> ผ่าน | JM13: =SUM(BK13,BE13,AY13,AS13,AM13,AG13,AA13,U13,O13,I13) -> 54 | JN13: =SUM(BQ13,BW13,CC13,CI13,CO13,CU13,DA13,DG13,DM13,DS13) -> 0 | JO13: =SUM(DY13,EE13,EK13,EQ13,EW13,FC13,FI13,FO13,FU13,GA13) -> 0 | JP13: =SUM(JA13,IU13,IO13,II13,IC13,HW13,HQ13,HK13,HE13,GY13,GS13,GM13,GG13) -> 0 | JQ13: =IF(SUM(JM13:JP13),SUM(JM13:JP13),"") -> 54
B14: 8 | C14: =IF(นักเรียน!C13="","",นักเรียน!C13) -> 1616 | D14: =IF(นักเรียน!E13="","",นักเรียน!E13) -> เด็กชายแจ็คกี้ ระถิกา | F14: 7 | I14: =IF(SUM(F14:H14),SUM(F14:H14),"") -> 7 | J14: =IF(I14="","",ROUND(I14/$J$6*100,0)) -> 70 | K14: =IF(I14="","",VLOOKUP(J14,gradekpi,4)) -> ผ่าน | L14: 7 | O14: =IF(SUM(L14:N14),SUM(L14:N14),"") -> 7 | P14: =IF(O14="","",ROUND(O14/$P$6*100,0)) -> 70 | Q14: =IF(O14="","",VLOOKUP(P14,gradekpi,4)) -> ผ่าน | R14: 7 | U14: =IF(SUM(R14:T14),SUM(R14:T14),"") -> 7 | V14: =IF(U14="","",ROUND(U14/$V$6*100,0)) -> 70 | W14: =IF(U14="","",VLOOKUP(V14,gradekpi,4)) -> ผ่าน | X14: 7 | AA14: =IF(SUM(X14:Z14),SUM(X14:Z14),"") -> 7 | AB14: =IF(AA14="","",ROUND(AA14/$AB$6*100,0)) -> 70 | AC14: =IF(AA14="","",VLOOKUP(AB14,gradekpi,4)) -> ผ่าน | AD14: 7 | AG14: =IF(SUM(AD14:AF14),SUM(AD14:AF14),"") -> 7 | AH14: =IF(AG14="","",ROUND(AG14/$AH$6*100,0)) -> 70 | AI14: =IF(AG14="","",VLOOKUP(AH14,gradekpi,4)) -> ผ่าน | AJ14: 7 | AM14: =IF(SUM(AJ14:AL14),SUM(AJ14:AL14),"") -> 7 | AN14: =IF(AM14="","",ROUND(AM14/$AN$6*100,0)) -> 70 | AO14: =IF(AM14="","",VLOOKUP(AN14,gradekpi,4)) -> ผ่าน | AP14: 7 | AS14: =IF(SUM(AP14:AR14),SUM(AP14:AR14),"") -> 7 | AT14: =IF(AS14="","",ROUND(AS14/$AT$6*100,0)) -> 70 | AU14: =IF(AS14="","",VLOOKUP(AT14,gradekpi,4)) -> ผ่าน | AV14: 7 | AY14: =IF(SUM(AV14:AX14),SUM(AV14:AX14),"") -> 7 | AZ14: =IF(AY14="","",ROUND(AY14/$AZ$6*100,0)) -> 70 | BA14: =IF(AY14="","",VLOOKUP(AZ14,gradekpi,4)) -> ผ่าน | BB14: 7 | BE14: =IF(SUM(BB14:BD14),SUM(BB14:BD14),"") -> 7 | BF14: =IF(BE14="","",ROUND(BE14/$BF$6*100,0)) -> 70 | BG14: =IF(BE14="","",VLOOKUP(BF14,gradekpi,4)) -> ผ่าน | BK14: =IF(SUM(BH14:BJ14),SUM(BH14:BJ14),"") | BL14: =IF(BK14="","",ROUND(BK14/$BL$6*100,0)) | BM14: =IF(BK14="","",VLOOKUP(BL14,gradekpi,4)) | BQ14: =IF(SUM(BN14:BP14),SUM(BN14:BP14),"") | BR14: =IF(BQ14="","",ROUND(BQ14/$BR$6*100,0)) | BS14: =IF(BQ14="","",VLOOKUP(BR14,gradekpi,4)) | BW14: =IF(SUM(BT14:BV14),SUM(BT14:BV14),"") | BX14: =IF(BW14="","",ROUND(BW14/$BX$6*100,0)) | BY14: =IF(BW14="","",VLOOKUP(BX14,gradekpi,4)) | CC14: =IF(SUM(BZ14:CB14),SUM(BZ14:CB14),"") | CD14: =IF(CC14="","",ROUND(CC14/$CD$6*100,0)) | CE14: =IF(CC14="","",VLOOKUP(CD14,gradekpi,4)) | CI14: =IF(SUM(CF14:CH14),SUM(CF14:CH14),"") | CJ14: =IF(CI14="","",ROUND(CI14/$CJ$6*100,0)) | CK14: =IF(CI14="","",VLOOKUP(CJ14,gradekpi,4)) | CO14: =IF(SUM(CL14:CN14),SUM(CL14:CN14),"") | CP14: =IF(CO14="","",ROUND(CO14/$CP$6*100,0)) | CQ14: =IF(CO14="","",VLOOKUP(CP14,gradekpi,4)) | CU14: =IF(SUM(CR14:CT14),SUM(CR14:CT14),"") | CV14: =IF(CU14="","",ROUND(CU14/$CV$6*100,0)) | CW14: =IF(CU14="","",VLOOKUP(CV14,gradekpi,4)) | DA14: =IF(SUM(CX14:CZ14),SUM(CX14:CZ14),"") | DB14: =IF(DA14="","",ROUND(DA14/$DB$6*100,0)) | DC14: =IF(DA14="","",VLOOKUP(DB14,gradekpi,4)) | DG14: =IF(SUM(DD14:DF14),SUM(DD14:DF14),"") | DH14: =IF(DG14="","",ROUND(DG14/$DH$6*100,0)) | DI14: =IF(DG14="","",VLOOKUP(DH14,gradekpi,4)) | DM14: =IF(SUM(DJ14:DL14),SUM(DJ14:DL14),"") | DN14: =IF(DM14="","",ROUND(DM14/$DN$6*100,0)) | DO14: =IF(DM14="","",VLOOKUP(DN14,gradekpi,4)) | DS14: =IF(SUM(DP14:DR14),SUM(DP14:DR14),"") | DT14: =IF(DS14="","",ROUND(DS14/$DT$6*100,0)) | DU14: =IF(DS14="","",VLOOKUP(DT14,gradekpi,4)) | DY14: =IF(SUM(DV14:DX14),SUM(DV14:DX14),"") | DZ14: =IF(DY14="","",ROUND(DY14/$DZ$6*100,0)) | EA14: =IF(DY14="","",VLOOKUP(DZ14,gradekpi,4)) | EE14: =IF(SUM(EB14:ED14),SUM(EB14:ED14),"") | EF14: =IF(EE14="","",ROUND(EE14/$EF$6*100,0)) | EG14: =IF(EE14="","",VLOOKUP(EF14,gradekpi,4)) | EK14: =IF(SUM(EH14:EJ14),SUM(EH14:EJ14),"") | EL14: =IF(EK14="","",ROUND(EK14/$EL$6*100,0)) | EM14: =IF(EK14="","",VLOOKUP(EL14,gradekpi,4)) | EQ14: =IF(SUM(EN14:EP14),SUM(EN14:EP14),"") | ER14: =IF(EQ14="","",ROUND(EQ14/$ER$6*100,0)) | ES14: =IF(EQ14="","",VLOOKUP(ER14,gradekpi,4)) | EW14: =IF(SUM(ET14:EV14),SUM(ET14:EV14),"") | EX14: =IF(EW14="","",ROUND(EW14/$EX$6*100,0)) | EY14: =IF(EW14="","",VLOOKUP(EX14,gradekpi,4)) | FC14: =IF(SUM(EZ14:FB14),SUM(EZ14:FB14),"") | FD14: =IF(FC14="","",ROUND(FC14/$FD$6*100,0)) | FE14: =IF(FC14="","",VLOOKUP(FD14,gradekpi,4)) | FI14: =IF(SUM(FF14:FH14),SUM(FF14:FH14),"") | FJ14: =IF(FI14="","",ROUND(FI14/$FJ$6*100,0)) | FK14: =IF(FI14="","",VLOOKUP(FJ14,gradekpi,4)) | FO14: =IF(SUM(FL14:FN14),SUM(FL14:FN14),"") | FP14: =IF(FO14="","",ROUND(FO14/$FP$6*100,0)) | FQ14: =IF(FO14="","",VLOOKUP(FP14,gradekpi,4)) | FU14: =IF(SUM(FR14:FT14),SUM(FR14:FT14),"") | FV14: =IF(FU14="","",ROUND(FU14/$FV$6*100,0)) | FW14: =IF(FU14="","",VLOOKUP(FV14,gradekpi,4)) | GA14: =IF(SUM(FX14:FZ14),SUM(FX14:FZ14),"") | GB14: =IF(GA14="","",ROUND(GA14/$GB$6*100,0)) | GC14: =IF(GA14="","",VLOOKUP(GB14,gradekpi,4)) | GG14: =IF(SUM(GD14:GF14),SUM(GD14:GF14),"") | GH14: =IF(GG14="","",ROUND(GG14/$GH$6*100,0)) | GI14: =IF(GG14="","",VLOOKUP(GH14,gradekpi,4)) | GM14: =IF(SUM(GJ14:GL14),SUM(GJ14:GL14),"") | GN14: =IF(GM14="","",ROUND(GM14/$GN$6*100,0)) | GO14: =IF(GM14="","",VLOOKUP(GN14,gradekpi,4)) | GS14: =IF(SUM(GP14:GR14),SUM(GP14:GR14),"") | GT14: =IF(GS14="","",ROUND(GS14/$GT$6*100,0)) | GU14: =IF(GS14="","",VLOOKUP(GT14,gradekpi,4)) | GY14: =IF(SUM(GV14:GX14),SUM(GV14:GX14),"") | GZ14: =IF(GY14="","",ROUND(GY14/$GZ$6*100,0)) | HA14: =IF(GY14="","",VLOOKUP(GZ14,gradekpi,4)) | HE14: =IF(SUM(HB14:HD14),SUM(HB14:HD14),"") | HF14: =IF(HE14="","",ROUND(HE14/$HF$6*100,0)) | HG14: =IF(HE14="","",VLOOKUP(HF14,gradekpi,4)) | HK14: =IF(SUM(HH14:HJ14),SUM(HH14:HJ14),"") | HL14: =IF(HK14="","",ROUND(HK14/$HL$6*100,0)) | HM14: =IF(HK14="","",VLOOKUP(HL14,gradekpi,4)) | HQ14: =IF(SUM(HN14:HP14),SUM(HN14:HP14),"") | HR14: =IF(HQ14="","",ROUND(HQ14/$HR$6*100,0)) | HS14: =IF(HQ14="","",VLOOKUP(HR14,gradekpi,4)) | HW14: =IF(SUM(HT14:HV14),SUM(HT14:HV14),"") | HX14: =IF(HW14="","",ROUND(HW14/$HX$6*100,0)) | HY14: =IF(HW14="","",VLOOKUP(HX14,gradekpi,4)) | IC14: =IF(SUM(HZ14:IB14),SUM(HZ14:IB14),"") | ID14: =IF(IC14="","",ROUND(IC14/$ID$6*100,0)) | IE14: =IF(IC14="","",VLOOKUP(ID14,gradekpi,4)) | II14: =IF(SUM(IF14:IH14),SUM(IF14:IH14),"") | IJ14: =IF(II14="","",ROUND(II14/$IJ$6*100,0)) | IK14: =IF(II14="","",VLOOKUP(IJ14,gradekpi,4)) | IO14: =IF(SUM(IL14:IN14),SUM(IL14:IN14),"") | IP14: =IF(IO14="","",ROUND(IO14/$IP$6*100,0)) | IQ14: =IF(IO14="","",VLOOKUP(IP14,gradekpi,4)) | IU14: =IF(SUM(IR14:IT14),SUM(IR14:IT14),"") | IV14: =IF(IU14="","",ROUND(IU14/$IV$6*100,0)) | IW14: =IF(IU14="","",VLOOKUP(IV14,gradekpi,4)) | JA14: =IF(SUM(IX14:IZ14),SUM(IX14:IZ14),"") | JB14: =IF(JA14="","",ROUND(JA14/$JB$6*100,0)) | JC14: =IF(JA14="","",VLOOKUP(JB14,gradekpi,4)) | JD14: =IF(OR(D14="",$JD$2="เอาออก"),"",JQ14) -> 63 | JE14: =IF(OR(D14="",$JE$2="เอาออก"),"",COUNTIF(F14:JC14,"ผ่าน")) -> 9 | JF14: =IF(JE14="","",ROUND(JE14/$JF$4*100,2)) -> 100 | JG14: =IF(JF14="","",IF(นักเรียน!N13="ออก","---ย้าย---",VLOOKUP(JF14,gradekpisum,4))) -> ผ่าน | JM14: =SUM(BK14,BE14,AY14,AS14,AM14,AG14,AA14,U14,O14,I14) -> 63 | JN14: =SUM(BQ14,BW14,CC14,CI14,CO14,CU14,DA14,DG14,DM14,DS14) -> 0 | JO14: =SUM(DY14,EE14,EK14,EQ14,EW14,FC14,FI14,FO14,FU14,GA14) -> 0 | JP14: =SUM(JA14,IU14,IO14,II14,IC14,HW14,HQ14,HK14,HE14,GY14,GS14,GM14,GG14) -> 0 | JQ14: =IF(SUM(JM14:JP14),SUM(JM14:JP14),"") -> 63
B15: 9 | C15: =IF(นักเรียน!C14="","",นักเรียน!C14) -> 1531 | D15: =IF(นักเรียน!E14="","",นักเรียน!E14) -> เด็กหญิงธิราวัลย์ อ่อนตามา | F15: 6 | I15: =IF(SUM(F15:H15),SUM(F15:H15),"") -> 6 | J15: =IF(I15="","",ROUND(I15/$J$6*100,0)) -> 60 | K15: =IF(I15="","",VLOOKUP(J15,gradekpi,4)) -> ผ่าน | L15: 6 | O15: =IF(SUM(L15:N15),SUM(L15:N15),"") -> 6 | P15: =IF(O15="","",ROUND(O15/$P$6*100,0)) -> 60 | Q15: =IF(O15="","",VLOOKUP(P15,gradekpi,4)) -> ผ่าน | R15: 6 | U15: =IF(SUM(R15:T15),SUM(R15:T15),"") -> 6 | V15: =IF(U15="","",ROUND(U15/$V$6*100,0)) -> 60 | W15: =IF(U15="","",VLOOKUP(V15,gradekpi,4)) -> ผ่าน | X15: 6 | AA15: =IF(SUM(X15:Z15),SUM(X15:Z15),"") -> 6 | AB15: =IF(AA15="","",ROUND(AA15/$AB$6*100,0)) -> 60 | AC15: =IF(AA15="","",VLOOKUP(AB15,gradekpi,4)) -> ผ่าน | AD15: 6 | AG15: =IF(SUM(AD15:AF15),SUM(AD15:AF15),"") -> 6 | AH15: =IF(AG15="","",ROUND(AG15/$AH$6*100,0)) -> 60 | AI15: =IF(AG15="","",VLOOKUP(AH15,gradekpi,4)) -> ผ่าน | AJ15: 6 | AM15: =IF(SUM(AJ15:AL15),SUM(AJ15:AL15),"") -> 6 | AN15: =IF(AM15="","",ROUND(AM15/$AN$6*100,0)) -> 60 | AO15: =IF(AM15="","",VLOOKUP(AN15,gradekpi,4)) -> ผ่าน | AP15: 6 | AS15: =IF(SUM(AP15:AR15),SUM(AP15:AR15),"") -> 6 | AT15: =IF(AS15="","",ROUND(AS15/$AT$6*100,0)) -> 60 | AU15: =IF(AS15="","",VLOOKUP(AT15,gradekpi,4)) -> ผ่าน | AV15: 6 | AY15: =IF(SUM(AV15:AX15),SUM(AV15:AX15),"") -> 6 | AZ15: =IF(AY15="","",ROUND(AY15/$AZ$6*100,0)) -> 60 | BA15: =IF(AY15="","",VLOOKUP(AZ15,gradekpi,4)) -> ผ่าน | BB15: 6 | BE15: =IF(SUM(BB15:BD15),SUM(BB15:BD15),"") -> 6 | BF15: =IF(BE15="","",ROUND(BE15/$BF$6*100,0)) -> 60 | BG15: =IF(BE15="","",VLOOKUP(BF15,gradekpi,4)) -> ผ่าน | BK15: =IF(SUM(BH15:BJ15),SUM(BH15:BJ15),"") | BL15: =IF(BK15="","",ROUND(BK15/$BL$6*100,0)) | BM15: =IF(BK15="","",VLOOKUP(BL15,gradekpi,4)) | BQ15: =IF(SUM(BN15:BP15),SUM(BN15:BP15),"") | BR15: =IF(BQ15="","",ROUND(BQ15/$BR$6*100,0)) | BS15: =IF(BQ15="","",VLOOKUP(BR15,gradekpi,4)) | BW15: =IF(SUM(BT15:BV15),SUM(BT15:BV15),"") | BX15: =IF(BW15="","",ROUND(BW15/$BX$6*100,0)) | BY15: =IF(BW15="","",VLOOKUP(BX15,gradekpi,4)) | CC15: =IF(SUM(BZ15:CB15),SUM(BZ15:CB15),"") | CD15: =IF(CC15="","",ROUND(CC15/$CD$6*100,0)) | CE15: =IF(CC15="","",VLOOKUP(CD15,gradekpi,4)) | CI15: =IF(SUM(CF15:CH15),SUM(CF15:CH15),"") | CJ15: =IF(CI15="","",ROUND(CI15/$CJ$6*100,0)) | CK15: =IF(CI15="","",VLOOKUP(CJ15,gradekpi,4)) | CO15: =IF(SUM(CL15:CN15),SUM(CL15:CN15),"") | CP15: =IF(CO15="","",ROUND(CO15/$CP$6*100,0)) | CQ15: =IF(CO15="","",VLOOKUP(CP15,gradekpi,4)) | CU15: =IF(SUM(CR15:CT15),SUM(CR15:CT15),"") | CV15: =IF(CU15="","",ROUND(CU15/$CV$6*100,0)) | CW15: =IF(CU15="","",VLOOKUP(CV15,gradekpi,4)) | DA15: =IF(SUM(CX15:CZ15),SUM(CX15:CZ15),"") | DB15: =IF(DA15="","",ROUND(DA15/$DB$6*100,0)) | DC15: =IF(DA15="","",VLOOKUP(DB15,gradekpi,4)) | DG15: =IF(SUM(DD15:DF15),SUM(DD15:DF15),"") | DH15: =IF(DG15="","",ROUND(DG15/$DH$6*100,0)) | DI15: =IF(DG15="","",VLOOKUP(DH15,gradekpi,4)) | DM15: =IF(SUM(DJ15:DL15),SUM(DJ15:DL15),"") | DN15: =IF(DM15="","",ROUND(DM15/$DN$6*100,0)) | DO15: =IF(DM15="","",VLOOKUP(DN15,gradekpi,4)) | DS15: =IF(SUM(DP15:DR15),SUM(DP15:DR15),"") | DT15: =IF(DS15="","",ROUND(DS15/$DT$6*100,0)) | DU15: =IF(DS15="","",VLOOKUP(DT15,gradekpi,4)) | DY15: =IF(SUM(DV15:DX15),SUM(DV15:DX15),"") | DZ15: =IF(DY15="","",ROUND(DY15/$DZ$6*100,0)) | EA15: =IF(DY15="","",VLOOKUP(DZ15,gradekpi,4)) | EE15: =IF(SUM(EB15:ED15),SUM(EB15:ED15),"") | EF15: =IF(EE15="","",ROUND(EE15/$EF$6*100,0)) | EG15: =IF(EE15="","",VLOOKUP(EF15,gradekpi,4)) | EK15: =IF(SUM(EH15:EJ15),SUM(EH15:EJ15),"") | EL15: =IF(EK15="","",ROUND(EK15/$EL$6*100,0)) | EM15: =IF(EK15="","",VLOOKUP(EL15,gradekpi,4)) | EQ15: =IF(SUM(EN15:EP15),SUM(EN15:EP15),"") | ER15: =IF(EQ15="","",ROUND(EQ15/$ER$6*100,0)) | ES15: =IF(EQ15="","",VLOOKUP(ER15,gradekpi,4)) | EW15: =IF(SUM(ET15:EV15),SUM(ET15:EV15),"") | EX15: =IF(EW15="","",ROUND(EW15/$EX$6*100,0)) | EY15: =IF(EW15="","",VLOOKUP(EX15,gradekpi,4)) | FC15: =IF(SUM(EZ15:FB15),SUM(EZ15:FB15),"") | FD15: =IF(FC15="","",ROUND(FC15/$FD$6*100,0)) | FE15: =IF(FC15="","",VLOOKUP(FD15,gradekpi,4)) | FI15: =IF(SUM(FF15:FH15),SUM(FF15:FH15),"") | FJ15: =IF(FI15="","",ROUND(FI15/$FJ$6*100,0)) | FK15: =IF(FI15="","",VLOOKUP(FJ15,gradekpi,4)) | FO15: =IF(SUM(FL15:FN15),SUM(FL15:FN15),"") | FP15: =IF(FO15="","",ROUND(FO15/$FP$6*100,0)) | FQ15: =IF(FO15="","",VLOOKUP(FP15,gradekpi,4)) | FU15: =IF(SUM(FR15:FT15),SUM(FR15:FT15),"") | FV15: =IF(FU15="","",ROUND(FU15/$FV$6*100,0)) | FW15: =IF(FU15="","",VLOOKUP(FV15,gradekpi,4)) | GA15: =IF(SUM(FX15:FZ15),SUM(FX15:FZ15),"") | GB15: =IF(GA15="","",ROUND(GA15/$GB$6*100,0)) | GC15: =IF(GA15="","",VLOOKUP(GB15,gradekpi,4)) | GG15: =IF(SUM(GD15:GF15),SUM(GD15:GF15),"") | GH15: =IF(GG15="","",ROUND(GG15/$GH$6*100,0)) | GI15: =IF(GG15="","",VLOOKUP(GH15,gradekpi,4)) | GM15: =IF(SUM(GJ15:GL15),SUM(GJ15:GL15),"") | GN15: =IF(GM15="","",ROUND(GM15/$GN$6*100,0)) | GO15: =IF(GM15="","",VLOOKUP(GN15,gradekpi,4)) | GS15: =IF(SUM(GP15:GR15),SUM(GP15:GR15),"") | GT15: =IF(GS15="","",ROUND(GS15/$GT$6*100,0)) | GU15: =IF(GS15="","",VLOOKUP(GT15,gradekpi,4)) | GY15: =IF(SUM(GV15:GX15),SUM(GV15:GX15),"") | GZ15: =IF(GY15="","",ROUND(GY15/$GZ$6*100,0)) | HA15: =IF(GY15="","",VLOOKUP(GZ15,gradekpi,4)) | HE15: =IF(SUM(HB15:HD15),SUM(HB15:HD15),"") | HF15: =IF(HE15="","",ROUND(HE15/$HF$6*100,0)) | HG15: =IF(HE15="","",VLOOKUP(HF15,gradekpi,4)) | HK15: =IF(SUM(HH15:HJ15),SUM(HH15:HJ15),"") | HL15: =IF(HK15="","",ROUND(HK15/$HL$6*100,0)) | HM15: =IF(HK15="","",VLOOKUP(HL15,gradekpi,4)) | HQ15: =IF(SUM(HN15:HP15),SUM(HN15:HP15),"") | HR15: =IF(HQ15="","",ROUND(HQ15/$HR$6*100,0)) | HS15: =IF(HQ15="","",VLOOKUP(HR15,gradekpi,4)) | HW15: =IF(SUM(HT15:HV15),SUM(HT15:HV15),"") | HX15: =IF(HW15="","",ROUND(HW15/$HX$6*100,0)) | HY15: =IF(HW15="","",VLOOKUP(HX15,gradekpi,4)) | IC15: =IF(SUM(HZ15:IB15),SUM(HZ15:IB15),"") | ID15: =IF(IC15="","",ROUND(IC15/$ID$6*100,0)) | IE15: =IF(IC15="","",VLOOKUP(ID15,gradekpi,4)) | II15: =IF(SUM(IF15:IH15),SUM(IF15:IH15),"") | IJ15: =IF(II15="","",ROUND(II15/$IJ$6*100,0)) | IK15: =IF(II15="","",VLOOKUP(IJ15,gradekpi,4)) | IO15: =IF(SUM(IL15:IN15),SUM(IL15:IN15),"") | IP15: =IF(IO15="","",ROUND(IO15/$IP$6*100,0)) | IQ15: =IF(IO15="","",VLOOKUP(IP15,gradekpi,4)) | IU15: =IF(SUM(IR15:IT15),SUM(IR15:IT15),"") | IV15: =IF(IU15="","",ROUND(IU15/$IV$6*100,0)) | IW15: =IF(IU15="","",VLOOKUP(IV15,gradekpi,4)) | JA15: =IF(SUM(IX15:IZ15),SUM(IX15:IZ15),"") | JB15: =IF(JA15="","",ROUND(JA15/$JB$6*100,0)) | JC15: =IF(JA15="","",VLOOKUP(JB15,gradekpi,4)) | JD15: =IF(OR(D15="",$JD$2="เอาออก"),"",JQ15) -> 54 | JE15: =IF(OR(D15="",$JE$2="เอาออก"),"",COUNTIF(F15:JC15,"ผ่าน")) -> 9 | JF15: =IF(JE15="","",ROUND(JE15/$JF$4*100,2)) -> 100 | JG15: =IF(JF15="","",IF(นักเรียน!N14="ออก","---ย้าย---",VLOOKUP(JF15,gradekpisum,4))) -> ผ่าน | JM15: =SUM(BK15,BE15,AY15,AS15,AM15,AG15,AA15,U15,O15,I15) -> 54 | JN15: =SUM(BQ15,BW15,CC15,CI15,CO15,CU15,DA15,DG15,DM15,DS15) -> 0 | JO15: =SUM(DY15,EE15,EK15,EQ15,EW15,FC15,FI15,FO15,FU15,GA15) -> 0 | JP15: =SUM(JA15,IU15,IO15,II15,IC15,HW15,HQ15,HK15,HE15,GY15,GS15,GM15,GG15) -> 0 | JQ15: =IF(SUM(JM15:JP15),SUM(JM15:JP15),"") -> 54
B16: 10 | C16: =IF(นักเรียน!C15="","",นักเรียน!C15) -> 1532 | D16: =IF(นักเรียน!E15="","",นักเรียน!E15) -> เด็กหญิงนงนภัส ติยะภา | F16: 7 | I16: =IF(SUM(F16:H16),SUM(F16:H16),"") -> 7 | J16: =IF(I16="","",ROUND(I16/$J$6*100,0)) -> 70 | K16: =IF(I16="","",VLOOKUP(J16,gradekpi,4)) -> ผ่าน | L16: 7 | O16: =IF(SUM(L16:N16),SUM(L16:N16),"") -> 7 | P16: =IF(O16="","",ROUND(O16/$P$6*100,0)) -> 70 | Q16: =IF(O16="","",VLOOKUP(P16,gradekpi,4)) -> ผ่าน | R16: 7 | U16: =IF(SUM(R16:T16),SUM(R16:T16),"") -> 7 | V16: =IF(U16="","",ROUND(U16/$V$6*100,0)) -> 70 | W16: =IF(U16="","",VLOOKUP(V16,gradekpi,4)) -> ผ่าน | X16: 7 | AA16: =IF(SUM(X16:Z16),SUM(X16:Z16),"") -> 7 | AB16: =IF(AA16="","",ROUND(AA16/$AB$6*100,0)) -> 70 | AC16: =IF(AA16="","",VLOOKUP(AB16,gradekpi,4)) -> ผ่าน | AD16: 7 | AG16: =IF(SUM(AD16:AF16),SUM(AD16:AF16),"") -> 7 | AH16: =IF(AG16="","",ROUND(AG16/$AH$6*100,0)) -> 70 | AI16: =IF(AG16="","",VLOOKUP(AH16,gradekpi,4)) -> ผ่าน | AJ16: 7 | AM16: =IF(SUM(AJ16:AL16),SUM(AJ16:AL16),"") -> 7 | AN16: =IF(AM16="","",ROUND(AM16/$AN$6*100,0)) -> 70 | AO16: =IF(AM16="","",VLOOKUP(AN16,gradekpi,4)) -> ผ่าน | AP16: 7 | AS16: =IF(SUM(AP16:AR16),SUM(AP16:AR16),"") -> 7 | AT16: =IF(AS16="","",ROUND(AS16/$AT$6*100,0)) -> 70 | AU16: =IF(AS16="","",VLOOKUP(AT16,gradekpi,4)) -> ผ่าน | AV16: 7 | AY16: =IF(SUM(AV16:AX16),SUM(AV16:AX16),"") -> 7 | AZ16: =IF(AY16="","",ROUND(AY16/$AZ$6*100,0)) -> 70 | BA16: =IF(AY16="","",VLOOKUP(AZ16,gradekpi,4)) -> ผ่าน | BB16: 7 | BE16: =IF(SUM(BB16:BD16),SUM(BB16:BD16),"") -> 7 | BF16: =IF(BE16="","",ROUND(BE16/$BF$6*100,0)) -> 70 | BG16: =IF(BE16="","",VLOOKUP(BF16,gradekpi,4)) -> ผ่าน | BK16: =IF(SUM(BH16:BJ16),SUM(BH16:BJ16),"") | BL16: =IF(BK16="","",ROUND(BK16/$BL$6*100,0)) | BM16: =IF(BK16="","",VLOOKUP(BL16,gradekpi,4)) | BQ16: =IF(SUM(BN16:BP16),SUM(BN16:BP16),"") | BR16: =IF(BQ16="","",ROUND(BQ16/$BR$6*100,0)) | BS16: =IF(BQ16="","",VLOOKUP(BR16,gradekpi,4)) | BW16: =IF(SUM(BT16:BV16),SUM(BT16:BV16),"") | BX16: =IF(BW16="","",ROUND(BW16/$BX$6*100,0)) | BY16: =IF(BW16="","",VLOOKUP(BX16,gradekpi,4)) | CC16: =IF(SUM(BZ16:CB16),SUM(BZ16:CB16),"") | CD16: =IF(CC16="","",ROUND(CC16/$CD$6*100,0)) | CE16: =IF(CC16="","",VLOOKUP(CD16,gradekpi,4)) | CI16: =IF(SUM(CF16:CH16),SUM(CF16:CH16),"") | CJ16: =IF(CI16="","",ROUND(CI16/$CJ$6*100,0)) | CK16: =IF(CI16="","",VLOOKUP(CJ16,gradekpi,4)) | CO16: =IF(SUM(CL16:CN16),SUM(CL16:CN16),"") | CP16: =IF(CO16="","",ROUND(CO16/$CP$6*100,0)) | CQ16: =IF(CO16="","",VLOOKUP(CP16,gradekpi,4)) | CU16: =IF(SUM(CR16:CT16),SUM(CR16:CT16),"") | CV16: =IF(CU16="","",ROUND(CU16/$CV$6*100,0)) | CW16: =IF(CU16="","",VLOOKUP(CV16,gradekpi,4)) | DA16: =IF(SUM(CX16:CZ16),SUM(CX16:CZ16),"") | DB16: =IF(DA16="","",ROUND(DA16/$DB$6*100,0)) | DC16: =IF(DA16="","",VLOOKUP(DB16,gradekpi,4)) | DG16: =IF(SUM(DD16:DF16),SUM(DD16:DF16),"") | DH16: =IF(DG16="","",ROUND(DG16/$DH$6*100,0)) | DI16: =IF(DG16="","",VLOOKUP(DH16,gradekpi,4)) | DM16: =IF(SUM(DJ16:DL16),SUM(DJ16:DL16),"") | DN16: =IF(DM16="","",ROUND(DM16/$DN$6*100,0)) | DO16: =IF(DM16="","",VLOOKUP(DN16,gradekpi,4)) | DS16: =IF(SUM(DP16:DR16),SUM(DP16:DR16),"") | DT16: =IF(DS16="","",ROUND(DS16/$DT$6*100,0)) | DU16: =IF(DS16="","",VLOOKUP(DT16,gradekpi,4)) | DY16: =IF(SUM(DV16:DX16),SUM(DV16:DX16),"") | DZ16: =IF(DY16="","",ROUND(DY16/$DZ$6*100,0)) | EA16: =IF(DY16="","",VLOOKUP(DZ16,gradekpi,4)) | EE16: =IF(SUM(EB16:ED16),SUM(EB16:ED16),"") | EF16: =IF(EE16="","",ROUND(EE16/$EF$6*100,0)) | EG16: =IF(EE16="","",VLOOKUP(EF16,gradekpi,4)) | EK16: =IF(SUM(EH16:EJ16),SUM(EH16:EJ16),"") | EL16: =IF(EK16="","",ROUND(EK16/$EL$6*100,0)) | EM16: =IF(EK16="","",VLOOKUP(EL16,gradekpi,4)) | EQ16: =IF(SUM(EN16:EP16),SUM(EN16:EP16),"") | ER16: =IF(EQ16="","",ROUND(EQ16/$ER$6*100,0)) | ES16: =IF(EQ16="","",VLOOKUP(ER16,gradekpi,4)) | EW16: =IF(SUM(ET16:EV16),SUM(ET16:EV16),"") | EX16: =IF(EW16="","",ROUND(EW16/$EX$6*100,0)) | EY16: =IF(EW16="","",VLOOKUP(EX16,gradekpi,4)) | FC16: =IF(SUM(EZ16:FB16),SUM(EZ16:FB16),"") | FD16: =IF(FC16="","",ROUND(FC16/$FD$6*100,0)) | FE16: =IF(FC16="","",VLOOKUP(FD16,gradekpi,4)) | FI16: =IF(SUM(FF16:FH16),SUM(FF16:FH16),"") | FJ16: =IF(FI16="","",ROUND(FI16/$FJ$6*100,0)) | FK16: =IF(FI16="","",VLOOKUP(FJ16,gradekpi,4)) | FO16: =IF(SUM(FL16:FN16),SUM(FL16:FN16),"") | FP16: =IF(FO16="","",ROUND(FO16/$FP$6*100,0)) | FQ16: =IF(FO16="","",VLOOKUP(FP16,gradekpi,4)) | FU16: =IF(SUM(FR16:FT16),SUM(FR16:FT16),"") | FV16: =IF(FU16="","",ROUND(FU16/$FV$6*100,0)) | FW16: =IF(FU16="","",VLOOKUP(FV16,gradekpi,4)) | GA16: =IF(SUM(FX16:FZ16),SUM(FX16:FZ16),"") | GB16: =IF(GA16="","",ROUND(GA16/$GB$6*100,0)) | GC16: =IF(GA16="","",VLOOKUP(GB16,gradekpi,4)) | GG16: =IF(SUM(GD16:GF16),SUM(GD16:GF16),"") | GH16: =IF(GG16="","",ROUND(GG16/$GH$6*100,0)) | GI16: =IF(GG16="","",VLOOKUP(GH16,gradekpi,4)) | GM16: =IF(SUM(GJ16:GL16),SUM(GJ16:GL16),"") | GN16: =IF(GM16="","",ROUND(GM16/$GN$6*100,0)) | GO16: =IF(GM16="","",VLOOKUP(GN16,gradekpi,4)) | GS16: =IF(SUM(GP16:GR16),SUM(GP16:GR16),"") | GT16: =IF(GS16="","",ROUND(GS16/$GT$6*100,0)) | GU16: =IF(GS16="","",VLOOKUP(GT16,gradekpi,4)) | GY16: =IF(SUM(GV16:GX16),SUM(GV16:GX16),"") | GZ16: =IF(GY16="","",ROUND(GY16/$GZ$6*100,0)) | HA16: =IF(GY16="","",VLOOKUP(GZ16,gradekpi,4)) | HE16: =IF(SUM(HB16:HD16),SUM(HB16:HD16),"") | HF16: =IF(HE16="","",ROUND(HE16/$HF$6*100,0)) | HG16: =IF(HE16="","",VLOOKUP(HF16,gradekpi,4)) | HK16: =IF(SUM(HH16:HJ16),SUM(HH16:HJ16),"") | HL16: =IF(HK16="","",ROUND(HK16/$HL$6*100,0)) | HM16: =IF(HK16="","",VLOOKUP(HL16,gradekpi,4)) | HQ16: =IF(SUM(HN16:HP16),SUM(HN16:HP16),"") | HR16: =IF(HQ16="","",ROUND(HQ16/$HR$6*100,0)) | HS16: =IF(HQ16="","",VLOOKUP(HR16,gradekpi,4)) | HW16: =IF(SUM(HT16:HV16),SUM(HT16:HV16),"") | HX16: =IF(HW16="","",ROUND(HW16/$HX$6*100,0)) | HY16: =IF(HW16="","",VLOOKUP(HX16,gradekpi,4)) | IC16: =IF(SUM(HZ16:IB16),SUM(HZ16:IB16),"") | ID16: =IF(IC16="","",ROUND(IC16/$ID$6*100,0)) | IE16: =IF(IC16="","",VLOOKUP(ID16,gradekpi,4)) | II16: =IF(SUM(IF16:IH16),SUM(IF16:IH16),"") | IJ16: =IF(II16="","",ROUND(II16/$IJ$6*100,0)) | IK16: =IF(II16="","",VLOOKUP(IJ16,gradekpi,4)) | IO16: =IF(SUM(IL16:IN16),SUM(IL16:IN16),"") | IP16: =IF(IO16="","",ROUND(IO16/$IP$6*100,0)) | IQ16: =IF(IO16="","",VLOOKUP(IP16,gradekpi,4)) | IU16: =IF(SUM(IR16:IT16),SUM(IR16:IT16),"") | IV16: =IF(IU16="","",ROUND(IU16/$IV$6*100,0)) | IW16: =IF(IU16="","",VLOOKUP(IV16,gradekpi,4)) | JA16: =IF(SUM(IX16:IZ16),SUM(IX16:IZ16),"") | JB16: =IF(JA16="","",ROUND(JA16/$JB$6*100,0)) | JC16: =IF(JA16="","",VLOOKUP(JB16,gradekpi,4)) | JD16: =IF(OR(D16="",$JD$2="เอาออก"),"",JQ16) -> 63 | JE16: =IF(OR(D16="",$JE$2="เอาออก"),"",COUNTIF(F16:JC16,"ผ่าน")) -> 9 | JF16: =IF(JE16="","",ROUND(JE16/$JF$4*100,2)) -> 100 | JG16: =IF(JF16="","",IF(นักเรียน!N15="ออก","---ย้าย---",VLOOKUP(JF16,gradekpisum,4))) -> ผ่าน | JM16: =SUM(BK16,BE16,AY16,AS16,AM16,AG16,AA16,U16,O16,I16) -> 63 | JN16: =SUM(BQ16,BW16,CC16,CI16,CO16,CU16,DA16,DG16,DM16,DS16) -> 0 | JO16: =SUM(DY16,EE16,EK16,EQ16,EW16,FC16,FI16,FO16,FU16,GA16) -> 0 | JP16: =SUM(JA16,IU16,IO16,II16,IC16,HW16,HQ16,HK16,HE16,GY16,GS16,GM16,GG16) -> 0 | JQ16: =IF(SUM(JM16:JP16),SUM(JM16:JP16),"") -> 63
B17: 11 | C17: =IF(นักเรียน!C16="","",นักเรียน!C16) -> 1533 | D17: =IF(นักเรียน!E16="","",นักเรียน!E16) -> เด็กหญิงปรารถณา แสนรินทร์ | F17: 6 | I17: =IF(SUM(F17:H17),SUM(F17:H17),"") -> 6 | J17: =IF(I17="","",ROUND(I17/$J$6*100,0)) -> 60 | K17: =IF(I17="","",VLOOKUP(J17,gradekpi,4)) -> ผ่าน | L17: 6 | O17: =IF(SUM(L17:N17),SUM(L17:N17),"") -> 6 | P17: =IF(O17="","",ROUND(O17/$P$6*100,0)) -> 60 | Q17: =IF(O17="","",VLOOKUP(P17,gradekpi,4)) -> ผ่าน | R17: 6 | U17: =IF(SUM(R17:T17),SUM(R17:T17),"") -> 6 | V17: =IF(U17="","",ROUND(U17/$V$6*100,0)) -> 60 | W17: =IF(U17="","",VLOOKUP(V17,gradekpi,4)) -> ผ่าน | X17: 6 | AA17: =IF(SUM(X17:Z17),SUM(X17:Z17),"") -> 6 | AB17: =IF(AA17="","",ROUND(AA17/$AB$6*100,0)) -> 60 | AC17: =IF(AA17="","",VLOOKUP(AB17,gradekpi,4)) -> ผ่าน | AD17: 6 | AG17: =IF(SUM(AD17:AF17),SUM(AD17:AF17),"") -> 6 | AH17: =IF(AG17="","",ROUND(AG17/$AH$6*100,0)) -> 60 | AI17: =IF(AG17="","",VLOOKUP(AH17,gradekpi,4)) -> ผ่าน | AJ17: 6 | AM17: =IF(SUM(AJ17:AL17),SUM(AJ17:AL17),"") -> 6 | AN17: =IF(AM17="","",ROUND(AM17/$AN$6*100,0)) -> 60 | AO17: =IF(AM17="","",VLOOKUP(AN17,gradekpi,4)) -> ผ่าน | AP17: 6 | AS17: =IF(SUM(AP17:AR17),SUM(AP17:AR17),"") -> 6 | AT17: =IF(AS17="","",ROUND(AS17/$AT$6*100,0)) -> 60 | AU17: =IF(AS17="","",VLOOKUP(AT17,gradekpi,4)) -> ผ่าน | AV17: 6 | AY17: =IF(SUM(AV17:AX17),SUM(AV17:AX17),"") -> 6 | AZ17: =IF(AY17="","",ROUND(AY17/$AZ$6*100,0)) -> 60 | BA17: =IF(AY17="","",VLOOKUP(AZ17,gradekpi,4)) -> ผ่าน | BB17: 6 | BE17: =IF(SUM(BB17:BD17),SUM(BB17:BD17),"") -> 6 | BF17: =IF(BE17="","",ROUND(BE17/$BF$6*100,0)) -> 60 | BG17: =IF(BE17="","",VLOOKUP(BF17,gradekpi,4)) -> ผ่าน | BK17: =IF(SUM(BH17:BJ17),SUM(BH17:BJ17),"") | BL17: =IF(BK17="","",ROUND(BK17/$BL$6*100,0)) | BM17: =IF(BK17="","",VLOOKUP(BL17,gradekpi,4)) | BQ17: =IF(SUM(BN17:BP17),SUM(BN17:BP17),"") | BR17: =IF(BQ17="","",ROUND(BQ17/$BR$6*100,0)) | BS17: =IF(BQ17="","",VLOOKUP(BR17,gradekpi,4)) | BW17: =IF(SUM(BT17:BV17),SUM(BT17:BV17),"") | BX17: =IF(BW17="","",ROUND(BW17/$BX$6*100,0)) | BY17: =IF(BW17="","",VLOOKUP(BX17,gradekpi,4)) | CC17: =IF(SUM(BZ17:CB17),SUM(BZ17:CB17),"") | CD17: =IF(CC17="","",ROUND(CC17/$CD$6*100,0)) | CE17: =IF(CC17="","",VLOOKUP(CD17,gradekpi,4)) | CI17: =IF(SUM(CF17:CH17),SUM(CF17:CH17),"") | CJ17: =IF(CI17="","",ROUND(CI17/$CJ$6*100,0)) | CK17: =IF(CI17="","",VLOOKUP(CJ17,gradekpi,4)) | CO17: =IF(SUM(CL17:CN17),SUM(CL17:CN17),"") | CP17: =IF(CO17="","",ROUND(CO17/$CP$6*100,0)) | CQ17: =IF(CO17="","",VLOOKUP(CP17,gradekpi,4)) | CU17: =IF(SUM(CR17:CT17),SUM(CR17:CT17),"") | CV17: =IF(CU17="","",ROUND(CU17/$CV$6*100,0)) | CW17: =IF(CU17="","",VLOOKUP(CV17,gradekpi,4)) | DA17: =IF(SUM(CX17:CZ17),SUM(CX17:CZ17),"") | DB17: =IF(DA17="","",ROUND(DA17/$DB$6*100,0)) | DC17: =IF(DA17="","",VLOOKUP(DB17,gradekpi,4)) | DG17: =IF(SUM(DD17:DF17),SUM(DD17:DF17),"") | DH17: =IF(DG17="","",ROUND(DG17/$DH$6*100,0)) | DI17: =IF(DG17="","",VLOOKUP(DH17,gradekpi,4)) | DM17: =IF(SUM(DJ17:DL17),SUM(DJ17:DL17),"") | DN17: =IF(DM17="","",ROUND(DM17/$DN$6*100,0)) | DO17: =IF(DM17="","",VLOOKUP(DN17,gradekpi,4)) | DS17: =IF(SUM(DP17:DR17),SUM(DP17:DR17),"") | DT17: =IF(DS17="","",ROUND(DS17/$DT$6*100,0)) | DU17: =IF(DS17="","",VLOOKUP(DT17,gradekpi,4)) | DY17: =IF(SUM(DV17:DX17),SUM(DV17:DX17),"") | DZ17: =IF(DY17="","",ROUND(DY17/$DZ$6*100,0)) | EA17: =IF(DY17="","",VLOOKUP(DZ17,gradekpi,4)) | EE17: =IF(SUM(EB17:ED17),SUM(EB17:ED17),"") | EF17: =IF(EE17="","",ROUND(EE17/$EF$6*100,0)) | EG17: =IF(EE17="","",VLOOKUP(EF17,gradekpi,4)) | EK17: =IF(SUM(EH17:EJ17),SUM(EH17:EJ17),"") | EL17: =IF(EK17="","",ROUND(EK17/$EL$6*100,0)) | EM17: =IF(EK17="","",VLOOKUP(EL17,gradekpi,4)) | EQ17: =IF(SUM(EN17:EP17),SUM(EN17:EP17),"") | ER17: =IF(EQ17="","",ROUND(EQ17/$ER$6*100,0)) | ES17: =IF(EQ17="","",VLOOKUP(ER17,gradekpi,4)) | EW17: =IF(SUM(ET17:EV17),SUM(ET17:EV17),"") | EX17: =IF(EW17="","",ROUND(EW17/$EX$6*100,0)) | EY17: =IF(EW17="","",VLOOKUP(EX17,gradekpi,4)) | FC17: =IF(SUM(EZ17:FB17),SUM(EZ17:FB17),"") | FD17: =IF(FC17="","",ROUND(FC17/$FD$6*100,0)) | FE17: =IF(FC17="","",VLOOKUP(FD17,gradekpi,4)) | FI17: =IF(SUM(FF17:FH17),SUM(FF17:FH17),"") | FJ17: =IF(FI17="","",ROUND(FI17/$FJ$6*100,0)) | FK17: =IF(FI17="","",VLOOKUP(FJ17,gradekpi,4)) | FO17: =IF(SUM(FL17:FN17),SUM(FL17:FN17),"") | FP17: =IF(FO17="","",ROUND(FO17/$FP$6*100,0)) | FQ17: =IF(FO17="","",VLOOKUP(FP17,gradekpi,4)) | FU17: =IF(SUM(FR17:FT17),SUM(FR17:FT17),"") | FV17: =IF(FU17="","",ROUND(FU17/$FV$6*100,0)) | FW17: =IF(FU17="","",VLOOKUP(FV17,gradekpi,4)) | GA17: =IF(SUM(FX17:FZ17),SUM(FX17:FZ17),"") | GB17: =IF(GA17="","",ROUND(GA17/$GB$6*100,0)) | GC17: =IF(GA17="","",VLOOKUP(GB17,gradekpi,4)) | GG17: =IF(SUM(GD17:GF17),SUM(GD17:GF17),"") | GH17: =IF(GG17="","",ROUND(GG17/$GH$6*100,0)) | GI17: =IF(GG17="","",VLOOKUP(GH17,gradekpi,4)) | GM17: =IF(SUM(GJ17:GL17),SUM(GJ17:GL17),"") | GN17: =IF(GM17="","",ROUND(GM17/$GN$6*100,0)) | GO17: =IF(GM17="","",VLOOKUP(GN17,gradekpi,4)) | GS17: =IF(SUM(GP17:GR17),SUM(GP17:GR17),"") | GT17: =IF(GS17="","",ROUND(GS17/$GT$6*100,0)) | GU17: =IF(GS17="","",VLOOKUP(GT17,gradekpi,4)) | GY17: =IF(SUM(GV17:GX17),SUM(GV17:GX17),"") | GZ17: =IF(GY17="","",ROUND(GY17/$GZ$6*100,0)) | HA17: =IF(GY17="","",VLOOKUP(GZ17,gradekpi,4)) | HE17: =IF(SUM(HB17:HD17),SUM(HB17:HD17),"") | HF17: =IF(HE17="","",ROUND(HE17/$HF$6*100,0)) | HG17: =IF(HE17="","",VLOOKUP(HF17,gradekpi,4)) | HK17: =IF(SUM(HH17:HJ17),SUM(HH17:HJ17),"") | HL17: =IF(HK17="","",ROUND(HK17/$HL$6*100,0)) | HM17: =IF(HK17="","",VLOOKUP(HL17,gradekpi,4)) | HQ17: =IF(SUM(HN17:HP17),SUM(HN17:HP17),"") | HR17: =IF(HQ17="","",ROUND(HQ17/$HR$6*100,0)) | HS17: =IF(HQ17="","",VLOOKUP(HR17,gradekpi,4)) | HW17: =IF(SUM(HT17:HV17),SUM(HT17:HV17),"") | HX17: =IF(HW17="","",ROUND(HW17/$HX$6*100,0)) | HY17: =IF(HW17="","",VLOOKUP(HX17,gradekpi,4)) | IC17: =IF(SUM(HZ17:IB17),SUM(HZ17:IB17),"") | ID17: =IF(IC17="","",ROUND(IC17/$ID$6*100,0)) | IE17: =IF(IC17="","",VLOOKUP(ID17,gradekpi,4)) | II17: =IF(SUM(IF17:IH17),SUM(IF17:IH17),"") | IJ17: =IF(II17="","",ROUND(II17/$IJ$6*100,0)) | IK17: =IF(II17="","",VLOOKUP(IJ17,gradekpi,4)) | IO17: =IF(SUM(IL17:IN17),SUM(IL17:IN17),"") | IP17: =IF(IO17="","",ROUND(IO17/$IP$6*100,0)) | IQ17: =IF(IO17="","",VLOOKUP(IP17,gradekpi,4)) | IU17: =IF(SUM(IR17:IT17),SUM(IR17:IT17),"") | IV17: =IF(IU17="","",ROUND(IU17/$IV$6*100,0)) | IW17: =IF(IU17="","",VLOOKUP(IV17,gradekpi,4)) | JA17: =IF(SUM(IX17:IZ17),SUM(IX17:IZ17),"") | JB17: =IF(JA17="","",ROUND(JA17/$JB$6*100,0)) | JC17: =IF(JA17="","",VLOOKUP(JB17,gradekpi,4)) | JD17: =IF(OR(D17="",$JD$2="เอาออก"),"",JQ17) -> 54 | JE17: =IF(OR(D17="",$JE$2="เอาออก"),"",COUNTIF(F17:JC17,"ผ่าน")) -> 9 | JF17: =IF(JE17="","",ROUND(JE17/$JF$4*100,2)) -> 100 | JG17: =IF(JF17="","",IF(นักเรียน!N16="ออก","---ย้าย---",VLOOKUP(JF17,gradekpisum,4))) -> ผ่าน | JM17: =SUM(BK17,BE17,AY17,AS17,AM17,AG17,AA17,U17,O17,I17) -> 54 | JN17: =SUM(BQ17,BW17,CC17,CI17,CO17,CU17,DA17,DG17,DM17,DS17) -> 0 | JO17: =SUM(DY17,EE17,EK17,EQ17,EW17,FC17,FI17,FO17,FU17,GA17) -> 0 | JP17: =SUM(JA17,IU17,IO17,II17,IC17,HW17,HQ17,HK17,HE17,GY17,GS17,GM17,GG17) -> 0 | JQ17: =IF(SUM(JM17:JP17),SUM(JM17:JP17),"") -> 54
B18: 12 | C18: =IF(นักเรียน!C17="","",นักเรียน!C17) -> 1538 | D18: =IF(นักเรียน!E17="","",นักเรียน!E17) -> เด็กหญิงอุษามณี อินทะพิมพ์ | F18: 7 | I18: =IF(SUM(F18:H18),SUM(F18:H18),"") -> 7 | J18: =IF(I18="","",ROUND(I18/$J$6*100,0)) -> 70 | K18: =IF(I18="","",VLOOKUP(J18,gradekpi,4)) -> ผ่าน | L18: 7 | O18: =IF(SUM(L18:N18),SUM(L18:N18),"") -> 7 | P18: =IF(O18="","",ROUND(O18/$P$6*100,0)) -> 70 | Q18: =IF(O18="","",VLOOKUP(P18,gradekpi,4)) -> ผ่าน | R18: 7 | U18: =IF(SUM(R18:T18),SUM(R18:T18),"") -> 7 | V18: =IF(U18="","",ROUND(U18/$V$6*100,0)) -> 70 | W18: =IF(U18="","",VLOOKUP(V18,gradekpi,4)) -> ผ่าน | X18: 7 | AA18: =IF(SUM(X18:Z18),SUM(X18:Z18),"") -> 7 | AB18: =IF(AA18="","",ROUND(AA18/$AB$6*100,0)) -> 70 | AC18: =IF(AA18="","",VLOOKUP(AB18,gradekpi,4)) -> ผ่าน | AD18: 7 | AG18: =IF(SUM(AD18:AF18),SUM(AD18:AF18),"") -> 7 | AH18: =IF(AG18="","",ROUND(AG18/$AH$6*100,0)) -> 70 | AI18: =IF(AG18="","",VLOOKUP(AH18,gradekpi,4)) -> ผ่าน | AJ18: 7 | AM18: =IF(SUM(AJ18:AL18),SUM(AJ18:AL18),"") -> 7 | AN18: =IF(AM18="","",ROUND(AM18/$AN$6*100,0)) -> 70 | AO18: =IF(AM18="","",VLOOKUP(AN18,gradekpi,4)) -> ผ่าน | AP18: 7 | AS18: =IF(SUM(AP18:AR18),SUM(AP18:AR18),"") -> 7 | AT18: =IF(AS18="","",ROUND(AS18/$AT$6*100,0)) -> 70 | AU18: =IF(AS18="","",VLOOKUP(AT18,gradekpi,4)) -> ผ่าน | AV18: 7 | AY18: =IF(SUM(AV18:AX18),SUM(AV18:AX18),"") -> 7 | AZ18: =IF(AY18="","",ROUND(AY18/$AZ$6*100,0)) -> 70 | BA18: =IF(AY18="","",VLOOKUP(AZ18,gradekpi,4)) -> ผ่าน | BB18: 7 | BE18: =IF(SUM(BB18:BD18),SUM(BB18:BD18),"") -> 7 | BF18: =IF(BE18="","",ROUND(BE18/$BF$6*100,0)) -> 70 | BG18: =IF(BE18="","",VLOOKUP(BF18,gradekpi,4)) -> ผ่าน | BK18: =IF(SUM(BH18:BJ18),SUM(BH18:BJ18),"") | BL18: =IF(BK18="","",ROUND(BK18/$BL$6*100,0)) | BM18: =IF(BK18="","",VLOOKUP(BL18,gradekpi,4)) | BQ18: =IF(SUM(BN18:BP18),SUM(BN18:BP18),"") | BR18: =IF(BQ18="","",ROUND(BQ18/$BR$6*100,0)) | BS18: =IF(BQ18="","",VLOOKUP(BR18,gradekpi,4)) | BW18: =IF(SUM(BT18:BV18),SUM(BT18:BV18),"") | BX18: =IF(BW18="","",ROUND(BW18/$BX$6*100,0)) | BY18: =IF(BW18="","",VLOOKUP(BX18,gradekpi,4)) | CC18: =IF(SUM(BZ18:CB18),SUM(BZ18:CB18),"") | CD18: =IF(CC18="","",ROUND(CC18/$CD$6*100,0)) | CE18: =IF(CC18="","",VLOOKUP(CD18,gradekpi,4)) | CI18: =IF(SUM(CF18:CH18),SUM(CF18:CH18),"") | CJ18: =IF(CI18="","",ROUND(CI18/$CJ$6*100,0)) | CK18: =IF(CI18="","",VLOOKUP(CJ18,gradekpi,4)) | CO18: =IF(SUM(CL18:CN18),SUM(CL18:CN18),"") | CP18: =IF(CO18="","",ROUND(CO18/$CP$6*100,0)) | CQ18: =IF(CO18="","",VLOOKUP(CP18,gradekpi,4)) | CU18: =IF(SUM(CR18:CT18),SUM(CR18:CT18),"") | CV18: =IF(CU18="","",ROUND(CU18/$CV$6*100,0)) | CW18: =IF(CU18="","",VLOOKUP(CV18,gradekpi,4)) | DA18: =IF(SUM(CX18:CZ18),SUM(CX18:CZ18),"") | DB18: =IF(DA18="","",ROUND(DA18/$DB$6*100,0)) | DC18: =IF(DA18="","",VLOOKUP(DB18,gradekpi,4)) | DG18: =IF(SUM(DD18:DF18),SUM(DD18:DF18),"") | DH18: =IF(DG18="","",ROUND(DG18/$DH$6*100,0)) | DI18: =IF(DG18="","",VLOOKUP(DH18,gradekpi,4)) | DM18: =IF(SUM(DJ18:DL18),SUM(DJ18:DL18),"") | DN18: =IF(DM18="","",ROUND(DM18/$DN$6*100,0)) | DO18: =IF(DM18="","",VLOOKUP(DN18,gradekpi,4)) | DS18: =IF(SUM(DP18:DR18),SUM(DP18:DR18),"") | DT18: =IF(DS18="","",ROUND(DS18/$DT$6*100,0)) | DU18: =IF(DS18="","",VLOOKUP(DT18,gradekpi,4)) | DY18: =IF(SUM(DV18:DX18),SUM(DV18:DX18),"") | DZ18: =IF(DY18="","",ROUND(DY18/$DZ$6*100,0)) | EA18: =IF(DY18="","",VLOOKUP(DZ18,gradekpi,4)) | EE18: =IF(SUM(EB18:ED18),SUM(EB18:ED18),"") | EF18: =IF(EE18="","",ROUND(EE18/$EF$6*100,0)) | EG18: =IF(EE18="","",VLOOKUP(EF18,gradekpi,4)) | EK18: =IF(SUM(EH18:EJ18),SUM(EH18:EJ18),"") | EL18: =IF(EK18="","",ROUND(EK18/$EL$6*100,0)) | EM18: =IF(EK18="","",VLOOKUP(EL18,gradekpi,4)) | EQ18: =IF(SUM(EN18:EP18),SUM(EN18:EP18),"") | ER18: =IF(EQ18="","",ROUND(EQ18/$ER$6*100,0)) | ES18: =IF(EQ18="","",VLOOKUP(ER18,gradekpi,4)) | EW18: =IF(SUM(ET18:EV18),SUM(ET18:EV18),"") | EX18: =IF(EW18="","",ROUND(EW18/$EX$6*100,0)) | EY18: =IF(EW18="","",VLOOKUP(EX18,gradekpi,4)) | FC18: =IF(SUM(EZ18:FB18),SUM(EZ18:FB18),"") | FD18: =IF(FC18="","",ROUND(FC18/$FD$6*100,0)) | FE18: =IF(FC18="","",VLOOKUP(FD18,gradekpi,4)) | FI18: =IF(SUM(FF18:FH18),SUM(FF18:FH18),"") | FJ18: =IF(FI18="","",ROUND(FI18/$FJ$6*100,0)) | FK18: =IF(FI18="","",VLOOKUP(FJ18,gradekpi,4)) | FO18: =IF(SUM(FL18:FN18),SUM(FL18:FN18),"") | FP18: =IF(FO18="","",ROUND(FO18/$FP$6*100,0)) | FQ18: =IF(FO18="","",VLOOKUP(FP18,gradekpi,4)) | FU18: =IF(SUM(FR18:FT18),SUM(FR18:FT18),"") | FV18: =IF(FU18="","",ROUND(FU18/$FV$6*100,0)) | FW18: =IF(FU18="","",VLOOKUP(FV18,gradekpi,4)) | GA18: =IF(SUM(FX18:FZ18),SUM(FX18:FZ18),"") | GB18: =IF(GA18="","",ROUND(GA18/$GB$6*100,0)) | GC18: =IF(GA18="","",VLOOKUP(GB18,gradekpi,4)) | GG18: =IF(SUM(GD18:GF18),SUM(GD18:GF18),"") | GH18: =IF(GG18="","",ROUND(GG18/$GH$6*100,0)) | GI18: =IF(GG18="","",VLOOKUP(GH18,gradekpi,4)) | GM18: =IF(SUM(GJ18:GL18),SUM(GJ18:GL18),"") | GN18: =IF(GM18="","",ROUND(GM18/$GN$6*100,0)) | GO18: =IF(GM18="","",VLOOKUP(GN18,gradekpi,4)) | GS18: =IF(SUM(GP18:GR18),SUM(GP18:GR18),"") | GT18: =IF(GS18="","",ROUND(GS18/$GT$6*100,0)) | GU18: =IF(GS18="","",VLOOKUP(GT18,gradekpi,4)) | GY18: =IF(SUM(GV18:GX18),SUM(GV18:GX18),"") | GZ18: =IF(GY18="","",ROUND(GY18/$GZ$6*100,0)) | HA18: =IF(GY18="","",VLOOKUP(GZ18,gradekpi,4)) | HE18: =IF(SUM(HB18:HD18),SUM(HB18:HD18),"") | HF18: =IF(HE18="","",ROUND(HE18/$HF$6*100,0)) | HG18: =IF(HE18="","",VLOOKUP(HF18,gradekpi,4)) | HK18: =IF(SUM(HH18:HJ18),SUM(HH18:HJ18),"") | HL18: =IF(HK18="","",ROUND(HK18/$HL$6*100,0)) | HM18: =IF(HK18="","",VLOOKUP(HL18,gradekpi,4)) | HQ18: =IF(SUM(HN18:HP18),SUM(HN18:HP18),"") | HR18: =IF(HQ18="","",ROUND(HQ18/$HR$6*100,0)) | HS18: =IF(HQ18="","",VLOOKUP(HR18,gradekpi,4)) | HW18: =IF(SUM(HT18:HV18),SUM(HT18:HV18),"") | HX18: =IF(HW18="","",ROUND(HW18/$HX$6*100,0)) | HY18: =IF(HW18="","",VLOOKUP(HX18,gradekpi,4)) | IC18: =IF(SUM(HZ18:IB18),SUM(HZ18:IB18),"") | ID18: =IF(IC18="","",ROUND(IC18/$ID$6*100,0)) | IE18: =IF(IC18="","",VLOOKUP(ID18,gradekpi,4)) | II18: =IF(SUM(IF18:IH18),SUM(IF18:IH18),"") | IJ18: =IF(II18="","",ROUND(II18/$IJ$6*100,0)) | IK18: =IF(II18="","",VLOOKUP(IJ18,gradekpi,4)) | IO18: =IF(SUM(IL18:IN18),SUM(IL18:IN18),"") | IP18: =IF(IO18="","",ROUND(IO18/$IP$6*100,0)) | IQ18: =IF(IO18="","",VLOOKUP(IP18,gradekpi,4)) | IU18: =IF(SUM(IR18:IT18),SUM(IR18:IT18),"") | IV18: =IF(IU18="","",ROUND(IU18/$IV$6*100,0)) | IW18: =IF(IU18="","",VLOOKUP(IV18,gradekpi,4)) | JA18: =IF(SUM(IX18:IZ18),SUM(IX18:IZ18),"") | JB18: =IF(JA18="","",ROUND(JA18/$JB$6*100,0)) | JC18: =IF(JA18="","",VLOOKUP(JB18,gradekpi,4)) | JD18: =IF(OR(D18="",$JD$2="เอาออก"),"",JQ18) -> 63 | JE18: =IF(OR(D18="",$JE$2="เอาออก"),"",COUNTIF(F18:JC18,"ผ่าน")) -> 9 | JF18: =IF(JE18="","",ROUND(JE18/$JF$4*100,2)) -> 100 | JG18: =IF(JF18="","",IF(นักเรียน!N17="ออก","---ย้าย---",VLOOKUP(JF18,gradekpisum,4))) -> ผ่าน | JM18: =SUM(BK18,BE18,AY18,AS18,AM18,AG18,AA18,U18,O18,I18) -> 63 | JN18: =SUM(BQ18,BW18,CC18,CI18,CO18,CU18,DA18,DG18,DM18,DS18) -> 0 | JO18: =SUM(DY18,EE18,EK18,EQ18,EW18,FC18,FI18,FO18,FU18,GA18) -> 0 | JP18: =SUM(JA18,IU18,IO18,II18,IC18,HW18,HQ18,HK18,HE18,GY18,GS18,GM18,GG18) -> 0 | JQ18: =IF(SUM(JM18:JP18),SUM(JM18:JP18),"") -> 63
B19: 13 | C19: =IF(นักเรียน!C18="","",นักเรียน!C18) -> 1592 | D19: =IF(นักเรียน!E18="","",นักเรียน!E18) -> เด็กหญิงกชกร พิมพ์พงษ์ | F19: 8 | I19: =IF(SUM(F19:H19),SUM(F19:H19),"") -> 8 | J19: =IF(I19="","",ROUND(I19/$J$6*100,0)) -> 80 | K19: =IF(I19="","",VLOOKUP(J19,gradekpi,4)) -> ผ่าน | L19: 8 | O19: =IF(SUM(L19:N19),SUM(L19:N19),"") -> 8 | P19: =IF(O19="","",ROUND(O19/$P$6*100,0)) -> 80 | Q19: =IF(O19="","",VLOOKUP(P19,gradekpi,4)) -> ผ่าน | R19: 8 | U19: =IF(SUM(R19:T19),SUM(R19:T19),"") -> 8 | V19: =IF(U19="","",ROUND(U19/$V$6*100,0)) -> 80 | W19: =IF(U19="","",VLOOKUP(V19,gradekpi,4)) -> ผ่าน | X19: 8 | AA19: =IF(SUM(X19:Z19),SUM(X19:Z19),"") -> 8 | AB19: =IF(AA19="","",ROUND(AA19/$AB$6*100,0)) -> 80 | AC19: =IF(AA19="","",VLOOKUP(AB19,gradekpi,4)) -> ผ่าน | AD19: 8 | AG19: =IF(SUM(AD19:AF19),SUM(AD19:AF19),"") -> 8 | AH19: =IF(AG19="","",ROUND(AG19/$AH$6*100,0)) -> 80 | AI19: =IF(AG19="","",VLOOKUP(AH19,gradekpi,4)) -> ผ่าน | AJ19: 8 | AM19: =IF(SUM(AJ19:AL19),SUM(AJ19:AL19),"") -> 8 | AN19: =IF(AM19="","",ROUND(AM19/$AN$6*100,0)) -> 80 | AO19: =IF(AM19="","",VLOOKUP(AN19,gradekpi,4)) -> ผ่าน | AP19: 8 | AS19: =IF(SUM(AP19:AR19),SUM(AP19:AR19),"") -> 8 | AT19: =IF(AS19="","",ROUND(AS19/$AT$6*100,0)) -> 80 | AU19: =IF(AS19="","",VLOOKUP(AT19,gradekpi,4)) -> ผ่าน | AV19: 8 | AY19: =IF(SUM(AV19:AX19),SUM(AV19:AX19),"") -> 8 | AZ19: =IF(AY19="","",ROUND(AY19/$AZ$6*100,0)) -> 80 | BA19: =IF(AY19="","",VLOOKUP(AZ19,gradekpi,4)) -> ผ่าน | BB19: 8 | BE19: =IF(SUM(BB19:BD19),SUM(BB19:BD19),"") -> 8 | BF19: =IF(BE19="","",ROUND(BE19/$BF$6*100,0)) -> 80 | BG19: =IF(BE19="","",VLOOKUP(BF19,gradekpi,4)) -> ผ่าน | BK19: =IF(SUM(BH19:BJ19),SUM(BH19:BJ19),"") | BL19: =IF(BK19="","",ROUND(BK19/$BL$6*100,0)) | BM19: =IF(BK19="","",VLOOKUP(BL19,gradekpi,4)) | BQ19: =IF(SUM(BN19:BP19),SUM(BN19:BP19),"") | BR19: =IF(BQ19="","",ROUND(BQ19/$BR$6*100,0)) | BS19: =IF(BQ19="","",VLOOKUP(BR19,gradekpi,4)) | BW19: =IF(SUM(BT19:BV19),SUM(BT19:BV19),"") | BX19: =IF(BW19="","",ROUND(BW19/$BX$6*100,0)) | BY19: =IF(BW19="","",VLOOKUP(BX19,gradekpi,4)) | CC19: =IF(SUM(BZ19:CB19),SUM(BZ19:CB19),"") | CD19: =IF(CC19="","",ROUND(CC19/$CD$6*100,0)) | CE19: =IF(CC19="","",VLOOKUP(CD19,gradekpi,4)) | CI19: =IF(SUM(CF19:CH19),SUM(CF19:CH19),"") | CJ19: =IF(CI19="","",ROUND(CI19/$CJ$6*100,0)) | CK19: =IF(CI19="","",VLOOKUP(CJ19,gradekpi,4)) | CO19: =IF(SUM(CL19:CN19),SUM(CL19:CN19),"") | CP19: =IF(CO19="","",ROUND(CO19/$CP$6*100,0)) | CQ19: =IF(CO19="","",VLOOKUP(CP19,gradekpi,4)) | CU19: =IF(SUM(CR19:CT19),SUM(CR19:CT19),"") | CV19: =IF(CU19="","",ROUND(CU19/$CV$6*100,0)) | CW19: =IF(CU19="","",VLOOKUP(CV19,gradekpi,4)) | DA19: =IF(SUM(CX19:CZ19),SUM(CX19:CZ19),"") | DB19: =IF(DA19="","",ROUND(DA19/$DB$6*100,0)) | DC19: =IF(DA19="","",VLOOKUP(DB19,gradekpi,4)) | DG19: =IF(SUM(DD19:DF19),SUM(DD19:DF19),"") | DH19: =IF(DG19="","",ROUND(DG19/$DH$6*100,0)) | DI19: =IF(DG19="","",VLOOKUP(DH19,gradekpi,4)) | DM19: =IF(SUM(DJ19:DL19),SUM(DJ19:DL19),"") | DN19: =IF(DM19="","",ROUND(DM19/$DN$6*100,0)) | DO19: =IF(DM19="","",VLOOKUP(DN19,gradekpi,4)) | DS19: =IF(SUM(DP19:DR19),SUM(DP19:DR19),"") | DT19: =IF(DS19="","",ROUND(DS19/$DT$6*100,0)) | DU19: =IF(DS19="","",VLOOKUP(DT19,gradekpi,4)) | DY19: =IF(SUM(DV19:DX19),SUM(DV19:DX19),"") | DZ19: =IF(DY19="","",ROUND(DY19/$DZ$6*100,0)) | EA19: =IF(DY19="","",VLOOKUP(DZ19,gradekpi,4)) | EE19: =IF(SUM(EB19:ED19),SUM(EB19:ED19),"") | EF19: =IF(EE19="","",ROUND(EE19/$EF$6*100,0)) | EG19: =IF(EE19="","",VLOOKUP(EF19,gradekpi,4)) | EK19: =IF(SUM(EH19:EJ19),SUM(EH19:EJ19),"") | EL19: =IF(EK19="","",ROUND(EK19/$EL$6*100,0)) | EM19: =IF(EK19="","",VLOOKUP(EL19,gradekpi,4)) | EQ19: =IF(SUM(EN19:EP19),SUM(EN19:EP19),"") | ER19: =IF(EQ19="","",ROUND(EQ19/$ER$6*100,0)) | ES19: =IF(EQ19="","",VLOOKUP(ER19,gradekpi,4)) | EW19: =IF(SUM(ET19:EV19),SUM(ET19:EV19),"") | EX19: =IF(EW19="","",ROUND(EW19/$EX$6*100,0)) | EY19: =IF(EW19="","",VLOOKUP(EX19,gradekpi,4)) | FC19: =IF(SUM(EZ19:FB19),SUM(EZ19:FB19),"") | FD19: =IF(FC19="","",ROUND(FC19/$FD$6*100,0)) | FE19: =IF(FC19="","",VLOOKUP(FD19,gradekpi,4)) | FI19: =IF(SUM(FF19:FH19),SUM(FF19:FH19),"") | FJ19: =IF(FI19="","",ROUND(FI19/$FJ$6*100,0)) | FK19: =IF(FI19="","",VLOOKUP(FJ19,gradekpi,4)) | FO19: =IF(SUM(FL19:FN19),SUM(FL19:FN19),"") | FP19: =IF(FO19="","",ROUND(FO19/$FP$6*100,0)) | FQ19: =IF(FO19="","",VLOOKUP(FP19,gradekpi,4)) | FU19: =IF(SUM(FR19:FT19),SUM(FR19:FT19),"") | FV19: =IF(FU19="","",ROUND(FU19/$FV$6*100,0)) | FW19: =IF(FU19="","",VLOOKUP(FV19,gradekpi,4)) | GA19: =IF(SUM(FX19:FZ19),SUM(FX19:FZ19),"") | GB19: =IF(GA19="","",ROUND(GA19/$GB$6*100,0)) | GC19: =IF(GA19="","",VLOOKUP(GB19,gradekpi,4)) | GG19: =IF(SUM(GD19:GF19),SUM(GD19:GF19),"") | GH19: =IF(GG19="","",ROUND(GG19/$GH$6*100,0)) | GI19: =IF(GG19="","",VLOOKUP(GH19,gradekpi,4)) | GM19: =IF(SUM(GJ19:GL19),SUM(GJ19:GL19),"") | GN19: =IF(GM19="","",ROUND(GM19/$GN$6*100,0)) | GO19: =IF(GM19="","",VLOOKUP(GN19,gradekpi,4)) | GS19: =IF(SUM(GP19:GR19),SUM(GP19:GR19),"") | GT19: =IF(GS19="","",ROUND(GS19/$GT$6*100,0)) | GU19: =IF(GS19="","",VLOOKUP(GT19,gradekpi,4)) | GY19: =IF(SUM(GV19:GX19),SUM(GV19:GX19),"") | GZ19: =IF(GY19="","",ROUND(GY19/$GZ$6*100,0)) | HA19: =IF(GY19="","",VLOOKUP(GZ19,gradekpi,4)) | HE19: =IF(SUM(HB19:HD19),SUM(HB19:HD19),"") | HF19: =IF(HE19="","",ROUND(HE19/$HF$6*100,0)) | HG19: =IF(HE19="","",VLOOKUP(HF19,gradekpi,4)) | HK19: =IF(SUM(HH19:HJ19),SUM(HH19:HJ19),"") | HL19: =IF(HK19="","",ROUND(HK19/$HL$6*100,0)) | HM19: =IF(HK19="","",VLOOKUP(HL19,gradekpi,4)) | HQ19: =IF(SUM(HN19:HP19),SUM(HN19:HP19),"") | HR19: =IF(HQ19="","",ROUND(HQ19/$HR$6*100,0)) | HS19: =IF(HQ19="","",VLOOKUP(HR19,gradekpi,4)) | HW19: =IF(SUM(HT19:HV19),SUM(HT19:HV19),"") | HX19: =IF(HW19="","",ROUND(HW19/$HX$6*100,0)) | HY19: =IF(HW19="","",VLOOKUP(HX19,gradekpi,4)) | IC19: =IF(SUM(HZ19:IB19),SUM(HZ19:IB19),"") | ID19: =IF(IC19="","",ROUND(IC19/$ID$6*100,0)) | IE19: =IF(IC19="","",VLOOKUP(ID19,gradekpi,4)) | II19: =IF(SUM(IF19:IH19),SUM(IF19:IH19),"") | IJ19: =IF(II19="","",ROUND(II19/$IJ$6*100,0)) | IK19: =IF(II19="","",VLOOKUP(IJ19,gradekpi,4)) | IO19: =IF(SUM(IL19:IN19),SUM(IL19:IN19),"") | IP19: =IF(IO19="","",ROUND(IO19/$IP$6*100,0)) | IQ19: =IF(IO19="","",VLOOKUP(IP19,gradekpi,4)) | IU19: =IF(SUM(IR19:IT19),SUM(IR19:IT19),"") | IV19: =IF(IU19="","",ROUND(IU19/$IV$6*100,0)) | IW19: =IF(IU19="","",VLOOKUP(IV19,gradekpi,4)) | JA19: =IF(SUM(IX19:IZ19),SUM(IX19:IZ19),"") | JB19: =IF(JA19="","",ROUND(JA19/$JB$6*100,0)) | JC19: =IF(JA19="","",VLOOKUP(JB19,gradekpi,4)) | JD19: =IF(OR(D19="",$JD$2="เอาออก"),"",JQ19) -> 72 | JE19: =IF(OR(D19="",$JE$2="เอาออก"),"",COUNTIF(F19:JC19,"ผ่าน")) -> 9 | JF19: =IF(JE19="","",ROUND(JE19/$JF$4*100,2)) -> 100 | JG19: =IF(JF19="","",IF(นักเรียน!N18="ออก","---ย้าย---",VLOOKUP(JF19,gradekpisum,4))) -> ผ่าน | JM19: =SUM(BK19,BE19,AY19,AS19,AM19,AG19,AA19,U19,O19,I19) -> 72 | JN19: =SUM(BQ19,BW19,CC19,CI19,CO19,CU19,DA19,DG19,DM19,DS19) -> 0 | JO19: =SUM(DY19,EE19,EK19,EQ19,EW19,FC19,FI19,FO19,FU19,GA19) -> 0 | JP19: =SUM(JA19,IU19,IO19,II19,IC19,HW19,HQ19,HK19,HE19,GY19,GS19,GM19,GG19) -> 0 | JQ19: =IF(SUM(JM19:JP19),SUM(JM19:JP19),"") -> 72
... B26: 20 | C26: =IF(นักเรียน!C25="","",นักเรียน!C25) -> 628 | D26: =IF(นักเรียน!E25="","",นักเรียน!E25) -> เด็กหญิงณัฐชา มาตรรักษ์ | F26: 7 | I26: =IF(SUM(F26:H26),SUM(F26:H26),"") -> 7 | J26: =IF(I26="","",ROUND(I26/$J$6*100,0)) -> 70 | K26: =IF(I26="","",VLOOKUP(J26,gradekpi,4)) -> ผ่าน | L26: 7 | O26: =IF(SUM(L26:N26),SUM(L26:N26),"") -> 7 | P26: =IF(O26="","",ROUND(O26/$P$6*100,0)) -> 70 | Q26: =IF(O26="","",VLOOKUP(P26,gradekpi,4)) -> ผ่าน | R26: 7 | U26: =IF(SUM(R26:T26),SUM(R26:T26),"") -> 7 | V26: =IF(U26="","",ROUND(U26/$V$6*100,0)) -> 70 | W26: =IF(U26="","",VLOOKUP(V26,gradekpi,4)) -> ผ่าน | X26: 7 | AA26: =IF(SUM(X26:Z26),SUM(X26:Z26),"") -> 7 | AB26: =IF(AA26="","",ROUND(AA26/$AB$6*100,0)) -> 70 | AC26: =IF(AA26="","",VLOOKUP(AB26,gradekpi,4)) -> ผ่าน | AD26: 7 | AG26: =IF(SUM(AD26:AF26),SUM(AD26:AF26),"") -> 7 | AH26: =IF(AG26="","",ROUND(AG26/$AH$6*100,0)) -> 70 | AI26: =IF(AG26="","",VLOOKUP(AH26,gradekpi,4)) -> ผ่าน | AJ26: 7 | AM26: =IF(SUM(AJ26:AL26),SUM(AJ26:AL26),"") -> 7 | AN26: =IF(AM26="","",ROUND(AM26/$AN$6*100,0)) -> 70 | AO26: =IF(AM26="","",VLOOKUP(AN26,gradekpi,4)) -> ผ่าน | AP26: 7 | AS26: =IF(SUM(AP26:AR26),SUM(AP26:AR26),"") -> 7 | AT26: =IF(AS26="","",ROUND(AS26/$AT$6*100,0)) -> 70 | AU26: =IF(AS26="","",VLOOKUP(AT26,gradekpi,4)) -> ผ่าน | AV26: 7 | AY26: =IF(SUM(AV26:AX26),SUM(AV26:AX26),"") -> 7 | AZ26: =IF(AY26="","",ROUND(AY26/$AZ$6*100,0)) -> 70 | BA26: =IF(AY26="","",VLOOKUP(AZ26,gradekpi,4)) -> ผ่าน | BB26: 7 | BE26: =IF(SUM(BB26:BD26),SUM(BB26:BD26),"") -> 7 | BF26: =IF(BE26="","",ROUND(BE26/$BF$6*100,0)) -> 70 | BG26: =IF(BE26="","",VLOOKUP(BF26,gradekpi,4)) -> ผ่าน | BK26: =IF(SUM(BH26:BJ26),SUM(BH26:BJ26),"") | BL26: =IF(BK26="","",ROUND(BK26/$BL$6*100,0)) | BM26: =IF(BK26="","",VLOOKUP(BL26,gradekpi,4)) | BQ26: =IF(SUM(BN26:BP26),SUM(BN26:BP26),"") | BR26: =IF(BQ26="","",ROUND(BQ26/$BR$6*100,0)) | BS26: =IF(BQ26="","",VLOOKUP(BR26,gradekpi,4)) | BW26: =IF(SUM(BT26:BV26),SUM(BT26:BV26),"") | BX26: =IF(BW26="","",ROUND(BW26/$BX$6*100,0)) | BY26: =IF(BW26="","",VLOOKUP(BX26,gradekpi,4)) | CC26: =IF(SUM(BZ26:CB26),SUM(BZ26:CB26),"") | CD26: =IF(CC26="","",ROUND(CC26/$CD$6*100,0)) | CE26: =IF(CC26="","",VLOOKUP(CD26,gradekpi,4)) | CI26: =IF(SUM(CF26:CH26),SUM(CF26:CH26),"") | CJ26: =IF(CI26="","",ROUND(CI26/$CJ$6*100,0)) | CK26: =IF(CI26="","",VLOOKUP(CJ26,gradekpi,4)) | CO26: =IF(SUM(CL26:CN26),SUM(CL26:CN26),"") | CP26: =IF(CO26="","",ROUND(CO26/$CP$6*100,0)) | CQ26: =IF(CO26="","",VLOOKUP(CP26,gradekpi,4)) | CU26: =IF(SUM(CR26:CT26),SUM(CR26:CT26),"") | CV26: =IF(CU26="","",ROUND(CU26/$CV$6*100,0)) | CW26: =IF(CU26="","",VLOOKUP(CV26,gradekpi,4)) | DA26: =IF(SUM(CX26:CZ26),SUM(CX26:CZ26),"") | DB26: =IF(DA26="","",ROUND(DA26/$DB$6*100,0)) | DC26: =IF(DA26="","",VLOOKUP(DB26,gradekpi,4)) | DG26: =IF(SUM(DD26:DF26),SUM(DD26:DF26),"") | DH26: =IF(DG26="","",ROUND(DG26/$DH$6*100,0)) | DI26: =IF(DG26="","",VLOOKUP(DH26,gradekpi,4)) | DM26: =IF(SUM(DJ26:DL26),SUM(DJ26:DL26),"") | DN26: =IF(DM26="","",ROUND(DM26/$DN$6*100,0)) | DO26: =IF(DM26="","",VLOOKUP(DN26,gradekpi,4)) | DS26: =IF(SUM(DP26:DR26),SUM(DP26:DR26),"") | DT26: =IF(DS26="","",ROUND(DS26/$DT$6*100,0)) | DU26: =IF(DS26="","",VLOOKUP(DT26,gradekpi,4)) | DY26: =IF(SUM(DV26:DX26),SUM(DV26:DX26),"") | DZ26: =IF(DY26="","",ROUND(DY26/$DZ$6*100,0)) | EA26: =IF(DY26="","",VLOOKUP(DZ26,gradekpi,4)) | EE26: =IF(SUM(EB26:ED26),SUM(EB26:ED26),"") | EF26: =IF(EE26="","",ROUND(EE26/$EF$6*100,0)) | EG26: =IF(EE26="","",VLOOKUP(EF26,gradekpi,4)) | EK26: =IF(SUM(EH26:EJ26),SUM(EH26:EJ26),"") | EL26: =IF(EK26="","",ROUND(EK26/$EL$6*100,0)) | EM26: =IF(EK26="","",VLOOKUP(EL26,gradekpi,4)) | EQ26: =IF(SUM(EN26:EP26),SUM(EN26:EP26),"") | ER26: =IF(EQ26="","",ROUND(EQ26/$ER$6*100,0)) | ES26: =IF(EQ26="","",VLOOKUP(ER26,gradekpi,4)) | EW26: =IF(SUM(ET26:EV26),SUM(ET26:EV26),"") | EX26: =IF(EW26="","",ROUND(EW26/$EX$6*100,0)) | EY26: =IF(EW26="","",VLOOKUP(EX26,gradekpi,4)) | FC26: =IF(SUM(EZ26:FB26),SUM(EZ26:FB26),"") | FD26: =IF(FC26="","",ROUND(FC26/$FD$6*100,0)) | FE26: =IF(FC26="","",VLOOKUP(FD26,gradekpi,4)) | FI26: =IF(SUM(FF26:FH26),SUM(FF26:FH26),"") | FJ26: =IF(FI26="","",ROUND(FI26/$FJ$6*100,0)) | FK26: =IF(FI26="","",VLOOKUP(FJ26,gradekpi,4)) | FO26: =IF(SUM(FL26:FN26),SUM(FL26:FN26),"") | FP26: =IF(FO26="","",ROUND(FO26/$FP$6*100,0)) | FQ26: =IF(FO26="","",VLOOKUP(FP26,gradekpi,4)) | FU26: =IF(SUM(FR26:FT26),SUM(FR26:FT26),"") | FV26: =IF(FU26="","",ROUND(FU26/$FV$6*100,0)) | FW26: =IF(FU26="","",VLOOKUP(FV26,gradekpi,4)) | GA26: =IF(SUM(FX26:FZ26),SUM(FX26:FZ26),"") | GB26: =IF(GA26="","",ROUND(GA26/$GB$6*100,0)) | GC26: =IF(GA26="","",VLOOKUP(GB26,gradekpi,4)) | GG26: =IF(SUM(GD26:GF26),SUM(GD26:GF26),"") | GH26: =IF(GG26="","",ROUND(GG26/$GH$6*100,0)) | GI26: =IF(GG26="","",VLOOKUP(GH26,gradekpi,4)) | GM26: =IF(SUM(GJ26:GL26),SUM(GJ26:GL26),"") | GN26: =IF(GM26="","",ROUND(GM26/$GN$6*100,0)) | GO26: =IF(GM26="","",VLOOKUP(GN26,gradekpi,4)) | GS26: =IF(SUM(GP26:GR26),SUM(GP26:GR26),"") | GT26: =IF(GS26="","",ROUND(GS26/$GT$6*100,0)) | GU26: =IF(GS26="","",VLOOKUP(GT26,gradekpi,4)) | GY26: =IF(SUM(GV26:GX26),SUM(GV26:GX26),"") | GZ26: =IF(GY26="","",ROUND(GY26/$GZ$6*100,0)) | HA26: =IF(GY26="","",VLOOKUP(GZ26,gradekpi,4)) | HE26: =IF(SUM(HB26:HD26),SUM(HB26:HD26),"") | HF26: =IF(HE26="","",ROUND(HE26/$HF$6*100,0)) | HG26: =IF(HE26="","",VLOOKUP(HF26,gradekpi,4)) | HK26: =IF(SUM(HH26:HJ26),SUM(HH26:HJ26),"") | HL26: =IF(HK26="","",ROUND(HK26/$HL$6*100,0)) | HM26: =IF(HK26="","",VLOOKUP(HL26,gradekpi,4)) | HQ26: =IF(SUM(HN26:HP26),SUM(HN26:HP26),"") | HR26: =IF(HQ26="","",ROUND(HQ26/$HR$6*100,0)) | HS26: =IF(HQ26="","",VLOOKUP(HR26,gradekpi,4)) | HW26: =IF(SUM(HT26:HV26),SUM(HT26:HV26),"") | HX26: =IF(HW26="","",ROUND(HW26/$HX$6*100,0)) | HY26: =IF(HW26="","",VLOOKUP(HX26,gradekpi,4)) | IC26: =IF(SUM(HZ26:IB26),SUM(HZ26:IB26),"") | ID26: =IF(IC26="","",ROUND(IC26/$ID$6*100,0)) | IE26: =IF(IC26="","",VLOOKUP(ID26,gradekpi,4)) | II26: =IF(SUM(IF26:IH26),SUM(IF26:IH26),"") | IJ26: =IF(II26="","",ROUND(II26/$IJ$6*100,0)) | IK26: =IF(II26="","",VLOOKUP(IJ26,gradekpi,4)) | IO26: =IF(SUM(IL26:IN26),SUM(IL26:IN26),"") | IP26: =IF(IO26="","",ROUND(IO26/$IP$6*100,0)) | IQ26: =IF(IO26="","",VLOOKUP(IP26,gradekpi,4)) | IU26: =IF(SUM(IR26:IT26),SUM(IR26:IT26),"") | IV26: =IF(IU26="","",ROUND(IU26/$IV$6*100,0)) | IW26: =IF(IU26="","",VLOOKUP(IV26,gradekpi,4)) | JA26: =IF(SUM(IX26:IZ26),SUM(IX26:IZ26),"") | JB26: =IF(JA26="","",ROUND(JA26/$JB$6*100,0)) | JC26: =IF(JA26="","",VLOOKUP(JB26,gradekpi,4)) | JD26: =IF(OR(D26="",$JD$2="เอาออก"),"",JQ26) -> 63 | JE26: =IF(OR(D26="",$JE$2="เอาออก"),"",COUNTIF(F26:JC26,"ผ่าน")) -> 9 | JF26: =IF(JE26="","",ROUND(JE26/$JF$4*100,2)) -> 100 | JG26: =IF(JF26="","",IF(นักเรียน!N25="ออก","---ย้าย---",VLOOKUP(JF26,gradekpisum,4))) -> ผ่าน | JM26: =SUM(BK26,BE26,AY26,AS26,AM26,AG26,AA26,U26,O26,I26) -> 63 | JN26: =SUM(BQ26,BW26,CC26,CI26,CO26,CU26,DA26,DG26,DM26,DS26) -> 0 | JO26: =SUM(DY26,EE26,EK26,EQ26,EW26,FC26,FI26,FO26,FU26,GA26) -> 0 | JP26: =SUM(JA26,IU26,IO26,II26,IC26,HW26,HQ26,HK26,HE26,GY26,GS26,GM26,GG26) -> 0 | JQ26: =IF(SUM(JM26:JP26),SUM(JM26:JP26),"") -> 63
B27: 21 | C27: =IF(นักเรียน!C26="","",นักเรียน!C26) | D27: =IF(นักเรียน!E26="","",นักเรียน!E26) | I27: =IF(SUM(F27:H27),SUM(F27:H27),"") | J27: =IF(I27="","",ROUND(I27/$J$6*100,0)) | K27: =IF(I27="","",VLOOKUP(J27,gradekpi,4)) | O27: =IF(SUM(L27:N27),SUM(L27:N27),"") | P27: =IF(O27="","",ROUND(O27/$P$6*100,0)) | Q27: =IF(O27="","",VLOOKUP(P27,gradekpi,4)) | U27: =IF(SUM(R27:T27),SUM(R27:T27),"") | V27: =IF(U27="","",ROUND(U27/$V$6*100,0)) | W27: =IF(U27="","",VLOOKUP(V27,gradekpi,4)) | AA27: =IF(SUM(X27:Z27),SUM(X27:Z27),"") | AB27: =IF(AA27="","",ROUND(AA27/$AB$6*100,0)) | AC27: =IF(AA27="","",VLOOKUP(AB27,gradekpi,4)) | AG27: =IF(SUM(AD27:AF27),SUM(AD27:AF27),"") | AH27: =IF(AG27="","",ROUND(AG27/$AH$6*100,0)) | AI27: =IF(AG27="","",VLOOKUP(AH27,gradekpi,4)) | AM27: =IF(SUM(AJ27:AL27),SUM(AJ27:AL27),"") | AN27: =IF(AM27="","",ROUND(AM27/$AN$6*100,0)) | AO27: =IF(AM27="","",VLOOKUP(AN27,gradekpi,4)) | AS27: =IF(SUM(AP27:AR27),SUM(AP27:AR27),"") | AT27: =IF(AS27="","",ROUND(AS27/$AT$6*100,0)) | AU27: =IF(AS27="","",VLOOKUP(AT27,gradekpi,4)) | AY27: =IF(SUM(AV27:AX27),SUM(AV27:AX27),"") | AZ27: =IF(AY27="","",ROUND(AY27/$AZ$6*100,0)) | BA27: =IF(AY27="","",VLOOKUP(AZ27,gradekpi,4)) | BE27: =IF(SUM(BB27:BD27),SUM(BB27:BD27),"") | BF27: =IF(BE27="","",ROUND(BE27/$BF$6*100,0)) | BG27: =IF(BE27="","",VLOOKUP(BF27,gradekpi,4)) | BK27: =IF(SUM(BH27:BJ27),SUM(BH27:BJ27),"") | BL27: =IF(BK27="","",ROUND(BK27/$BL$6*100,0)) | BM27: =IF(BK27="","",VLOOKUP(BL27,gradekpi,4)) | BQ27: =IF(SUM(BN27:BP27),SUM(BN27:BP27),"") | BR27: =IF(BQ27="","",ROUND(BQ27/$BR$6*100,0)) | BS27: =IF(BQ27="","",VLOOKUP(BR27,gradekpi,4)) | BW27: =IF(SUM(BT27:BV27),SUM(BT27:BV27),"") | BX27: =IF(BW27="","",ROUND(BW27/$BX$6*100,0)) | BY27: =IF(BW27="","",VLOOKUP(BX27,gradekpi,4)) | CC27: =IF(SUM(BZ27:CB27),SUM(BZ27:CB27),"") | CD27: =IF(CC27="","",ROUND(CC27/$CD$6*100,0)) | CE27: =IF(CC27="","",VLOOKUP(CD27,gradekpi,4)) | CI27: =IF(SUM(CF27:CH27),SUM(CF27:CH27),"") | CJ27: =IF(CI27="","",ROUND(CI27/$CJ$6*100,0)) | CK27: =IF(CI27="","",VLOOKUP(CJ27,gradekpi,4)) | CO27: =IF(SUM(CL27:CN27),SUM(CL27:CN27),"") | CP27: =IF(CO27="","",ROUND(CO27/$CP$6*100,0)) | CQ27: =IF(CO27="","",VLOOKUP(CP27,gradekpi,4)) | CU27: =IF(SUM(CR27:CT27),SUM(CR27:CT27),"") | CV27: =IF(CU27="","",ROUND(CU27/$CV$6*100,0)) | CW27: =IF(CU27="","",VLOOKUP(CV27,gradekpi,4)) | DA27: =IF(SUM(CX27:CZ27),SUM(CX27:CZ27),"") | DB27: =IF(DA27="","",ROUND(DA27/$DB$6*100,0)) | DC27: =IF(DA27="","",VLOOKUP(DB27,gradekpi,4)) | DG27: =IF(SUM(DD27:DF27),SUM(DD27:DF27),"") | DH27: =IF(DG27="","",ROUND(DG27/$DH$6*100,0)) | DI27: =IF(DG27="","",VLOOKUP(DH27,gradekpi,4)) | DM27: =IF(SUM(DJ27:DL27),SUM(DJ27:DL27),"") | DN27: =IF(DM27="","",ROUND(DM27/$DN$6*100,0)) | DO27: =IF(DM27="","",VLOOKUP(DN27,gradekpi,4)) | DS27: =IF(SUM(DP27:DR27),SUM(DP27:DR27),"") | DT27: =IF(DS27="","",ROUND(DS27/$DT$6*100,0)) | DU27: =IF(DS27="","",VLOOKUP(DT27,gradekpi,4)) | DY27: =IF(SUM(DV27:DX27),SUM(DV27:DX27),"") | DZ27: =IF(DY27="","",ROUND(DY27/$DZ$6*100,0)) | EA27: =IF(DY27="","",VLOOKUP(DZ27,gradekpi,4)) | EE27: =IF(SUM(EB27:ED27),SUM(EB27:ED27),"") | EF27: =IF(EE27="","",ROUND(EE27/$EF$6*100,0)) | EG27: =IF(EE27="","",VLOOKUP(EF27,gradekpi,4)) | EK27: =IF(SUM(EH27:EJ27),SUM(EH27:EJ27),"") | EL27: =IF(EK27="","",ROUND(EK27/$EL$6*100,0)) | EM27: =IF(EK27="","",VLOOKUP(EL27,gradekpi,4)) | EQ27: =IF(SUM(EN27:EP27),SUM(EN27:EP27),"") | ER27: =IF(EQ27="","",ROUND(EQ27/$ER$6*100,0)) | ES27: =IF(EQ27="","",VLOOKUP(ER27,gradekpi,4)) | EW27: =IF(SUM(ET27:EV27),SUM(ET27:EV27),"") | EX27: =IF(EW27="","",ROUND(EW27/$EX$6*100,0)) | EY27: =IF(EW27="","",VLOOKUP(EX27,gradekpi,4)) | FC27: =IF(SUM(EZ27:FB27),SUM(EZ27:FB27),"") | FD27: =IF(FC27="","",ROUND(FC27/$FD$6*100,0)) | FE27: =IF(FC27="","",VLOOKUP(FD27,gradekpi,4)) | FI27: =IF(SUM(FF27:FH27),SUM(FF27:FH27),"") | FJ27: =IF(FI27="","",ROUND(FI27/$FJ$6*100,0)) | FK27: =IF(FI27="","",VLOOKUP(FJ27,gradekpi,4)) | FO27: =IF(SUM(FL27:FN27),SUM(FL27:FN27),"") | FP27: =IF(FO27="","",ROUND(FO27/$FP$6*100,0)) | FQ27: =IF(FO27="","",VLOOKUP(FP27,gradekpi,4)) | FU27: =IF(SUM(FR27:FT27),SUM(FR27:FT27),"") | FV27: =IF(FU27="","",ROUND(FU27/$FV$6*100,0)) | FW27: =IF(FU27="","",VLOOKUP(FV27,gradekpi,4)) | GA27: =IF(SUM(FX27:FZ27),SUM(FX27:FZ27),"") | GB27: =IF(GA27="","",ROUND(GA27/$GB$6*100,0)) | GC27: =IF(GA27="","",VLOOKUP(GB27,gradekpi,4)) | GG27: =IF(SUM(GD27:GF27),SUM(GD27:GF27),"") | GH27: =IF(GG27="","",ROUND(GG27/$GH$6*100,0)) | GI27: =IF(GG27="","",VLOOKUP(GH27,gradekpi,4)) | GM27: =IF(SUM(GJ27:GL27),SUM(GJ27:GL27),"") | GN27: =IF(GM27="","",ROUND(GM27/$GN$6*100,0)) | GO27: =IF(GM27="","",VLOOKUP(GN27,gradekpi,4)) | GS27: =IF(SUM(GP27:GR27),SUM(GP27:GR27),"") | GT27: =IF(GS27="","",ROUND(GS27/$GT$6*100,0)) | GU27: =IF(GS27="","",VLOOKUP(GT27,gradekpi,4)) | GY27: =IF(SUM(GV27:GX27),SUM(GV27:GX27),"") | GZ27: =IF(GY27="","",ROUND(GY27/$GZ$6*100,0)) | HA27: =IF(GY27="","",VLOOKUP(GZ27,gradekpi,4)) | HE27: =IF(SUM(HB27:HD27),SUM(HB27:HD27),"") | HF27: =IF(HE27="","",ROUND(HE27/$HF$6*100,0)) | HG27: =IF(HE27="","",VLOOKUP(HF27,gradekpi,4)) | HK27: =IF(SUM(HH27:HJ27),SUM(HH27:HJ27),"") | HL27: =IF(HK27="","",ROUND(HK27/$HL$6*100,0)) | HM27: =IF(HK27="","",VLOOKUP(HL27,gradekpi,4)) | HQ27: =IF(SUM(HN27:HP27),SUM(HN27:HP27),"") | HR27: =IF(HQ27="","",ROUND(HQ27/$HR$6*100,0)) | HS27: =IF(HQ27="","",VLOOKUP(HR27,gradekpi,4)) | HW27: =IF(SUM(HT27:HV27),SUM(HT27:HV27),"") | HX27: =IF(HW27="","",ROUND(HW27/$HX$6*100,0)) | HY27: =IF(HW27="","",VLOOKUP(HX27,gradekpi,4)) | IC27: =IF(SUM(HZ27:IB27),SUM(HZ27:IB27),"") | ID27: =IF(IC27="","",ROUND(IC27/$ID$6*100,0)) | IE27: =IF(IC27="","",VLOOKUP(ID27,gradekpi,4)) | II27: =IF(SUM(IF27:IH27),SUM(IF27:IH27),"") | IJ27: =IF(II27="","",ROUND(II27/$IJ$6*100,0)) | IK27: =IF(II27="","",VLOOKUP(IJ27,gradekpi,4)) | IO27: =IF(SUM(IL27:IN27),SUM(IL27:IN27),"") | IP27: =IF(IO27="","",ROUND(IO27/$IP$6*100,0)) | IQ27: =IF(IO27="","",VLOOKUP(IP27,gradekpi,4)) | IU27: =IF(SUM(IR27:IT27),SUM(IR27:IT27),"") | IV27: =IF(IU27="","",ROUND(IU27/$IV$6*100,0)) | IW27: =IF(IU27="","",VLOOKUP(IV27,gradekpi,4)) | JA27: =IF(SUM(IX27:IZ27),SUM(IX27:IZ27),"") | JB27: =IF(JA27="","",ROUND(JA27/$JB$6*100,0)) | JC27: =IF(JA27="","",VLOOKUP(JB27,gradekpi,4)) | JD27: =IF(OR(D27="",$JD$2="เอาออก"),"",JQ27) | JE27: =IF(OR(D27="",$JE$2="เอาออก"),"",COUNTIF(F27:JC27,"ผ่าน")) | JF27: =IF(JE27="","",ROUND(JE27/$JF$4*100,2)) | JG27: =IF(JF27="","",IF(นักเรียน!N26="ออก","---ย้าย---",VLOOKUP(JF27,gradekpisum,4))) | JM27: =SUM(BK27,BE27,AY27,AS27,AM27,AG27,AA27,U27,O27,I27) -> 0 | JN27: =SUM(BQ27,BW27,CC27,CI27,CO27,CU27,DA27,DG27,DM27,DS27) -> 0 | JO27: =SUM(DY27,EE27,EK27,EQ27,EW27,FC27,FI27,FO27,FU27,GA27) -> 0 | JP27: =SUM(JA27,IU27,IO27,II27,IC27,HW27,HQ27,HK27,HE27,GY27,GS27,GM27,GG27) -> 0 | JQ27: =IF(SUM(JM27:JP27),SUM(JM27:JP27),"")
